From mboxrd@z Thu Jan 1 00:00:00 1970 Return-Path: Received: from mails.dpdk.org (mails.dpdk.org [217.70.189.124]) by inbox.dpdk.org (Postfix) with ESMTP id C877A46BB8 for ; Sat, 19 Jul 2025 12:48:01 +0200 (CEST) Received: from mails.dpdk.org (localhost [127.0.0.1]) by mails.dpdk.org (Postfix) with ESMTP id A8A64400D7; Sat, 19 Jul 2025 12:48:01 +0200 (CEST) Received: from mail-yb1-f228.google.com (mail-yb1-f228.google.com [209.85.219.228]) by mails.dpdk.org (Postfix) with ESMTP id CDF2D400D7 for ; Sat, 19 Jul 2025 12:48:00 +0200 (CEST) Received: by mail-yb1-f228.google.com with SMTP id 3f1490d57ef6-e8d70c65a0aso1779782276.0 for ; Sat, 19 Jul 2025 03:48:00 -0700 (PDT) DKIM-Signature: v=1; a=rsa-sha256; c=relaxed/relaxed; d=iol.unh.edu; s=unh-iol; t=1752922080; x=1753526880; darn=dpdk.org; h=references:in-reply-to:cc:to:from:subject:message-id:date:from:to :cc:subject:date:message-id:reply-to; bh=IGk4Q+HDdLjIvE6eRu+r8dPs8sp2Jli1rOdBlGJyrwo=; b=FHOty0aMy1phVuyNoXnO4J8NdelOqVR4/gaMdWc3vjRAId8+n1Ke9u9eF3dZ5SuFSb SP3DqBfrVba2pD57tQ/xhyriVHOOD45qO3Wk2kZys11vF0flMyMRaGuC7HVf2N8iXRM4 eFKq6hXgN7vJBsIfc+XTwZHtFnvVANkoSFLMg= X-Google-DKIM-Signature: v=1; a=rsa-sha256; c=relaxed/relaxed; d=1e100.net; s=20230601; t=1752922080; x=1753526880; h=references:in-reply-to:cc:to:from:subject:message-id:date :x-gm-message-state:from:to:cc:subject:date:message-id:reply-to; bh=IGk4Q+HDdLjIvE6eRu+r8dPs8sp2Jli1rOdBlGJyrwo=; b=iA9DnvEseI/WL2191ThrhGAKjm7FivW3sXtZCp4tC2eF9+d89hNzf+KFIA4m3zxXaq m0i9WfTHNKB5yhnfHjuyaHSkhr9JkeSmf2vbQkV8Lz6gx4IBTOZn52dFQ+fv8GR/4E1w 4BpocWwnmRNlip1Dmv/oEA/G3P/VOHt07oDo2rM7bHSNRiGMk9lEIGkwnYfNETsn85Ul m8j2Md7fo1hht/xAaZ7J/8yroZoLn65F2zxtFuAvg6qF8k2ZCq9niE4zzdGArdPqljK0 b5rLiL+Of8MAaB8qcmdsuqEnc4Al2iVnk6/JGtn/dr3em1YYkxfhKVjsuDK1tzg3lY1T z6Jw== X-Gm-Message-State: AOJu0YxP91CoSxhAeQwXyTmuwveNLJHUPM1rU7g+LFJcs0Dsy4Il/ugt HEbG95N3C2bWXBENonoU+wk2iXEWW/86tv97WWPHXEsLzmeDYBBXEmn75/SX4kd3M9hOxvC2aUn uZUVUBeId6bJVLr8qra1cAQMf1EmdGtmhoD5ent8qWB+C X-Gm-Gg: ASbGnctucy7DGG9yL3sHtZdsjzJF6TbR4tn3Xs+IOlMf3uX1r19itJJRKqQiF9wzXi+ v9Y+Ig2IW1Azd7/Z991kMcste0r3HChLH7bbKrDciepPyFEFDVM6eut84IOAzntNf06m5ecPs2K ObvA1LsDvZ5BGBWpskGIX2cSSuFETVsp9HyPZ4rvq8+mT+BwNfJRdndxvbZPKqDsXd2se/X21Rb 3+gR3JHmpUFDz3NuPn2I1tIMun5sLvJ7zvL2VbAzKjDRCpS5hn1vR5/3kCy0ZsAMGMrzspXWzJV qpO8T1BnAR7qCnpgURq1CQyj5Fo79Xx42EBQAqbl2v401fDU5ox627OCmk3t0fXtbS1cX8++ X-Google-Smtp-Source: AGHT+IELECkqO1Ld9CtbpcYVPbyFjL8m4Y6JVnK8ZTbwUBnc/aOW9THl12mSHPTk5FniXU+XZgeKoqN/NJ7O X-Received: by 2002:a05:6902:2846:b0:e83:a2bd:b808 with SMTP id 3f1490d57ef6-e8bc24e7725mr16880436276.26.1752922080131; Sat, 19 Jul 2025 03:48:00 -0700 (PDT) Received: from postal.iol.unh.edu (postal.iol.unh.edu. [132.177.123.84]) by smtp-relay.gmail.com with ESMTPS id 3f1490d57ef6-e8d7cc0f59bsm184066276.4.2025.07.19.03.48.00 (version=TLS1_2 cipher=ECDHE-ECDSA-AES128-GCM-SHA256 bits=128/128); Sat, 19 Jul 2025 03:48:00 -0700 (PDT) X-Relaying-Domain: iol.unh.edu Date: Sat, 19 Jul 2025 03:48:00 -0700 (PDT) Message-ID: <687b77e0.050a0220.323498.a96eSMTPIN_ADDED_MISSING@mx.google.com> Received: from [172.21.0.2] (unknown [172.18.0.240]) by postal.iol.unh.edu (Postfix) with ESMTP id CB62A6051830; Sat, 19 Jul 2025 06:47:59 -0400 (EDT) Subject: |SUCCESS| pw155350-155362 [PATCH] [v10,14/14] net/sxe: add Solve com From: dpdklab@iol.unh.edu To: Test Report Cc: dpdk-test-reports@iol.unh.edu In-Reply-To: <20250719090537.699357-14-liujie5@linkdatatechnology.com> References: <20250719090537.699357-14-liujie5@linkdatatechnology.com> Content-Type: text/plain X-BeenThere: test-report@dpdk.org X-Mailman-Version: 2.1.29 Precedence: list List-Id: automatic DPDK test reports List-Unsubscribe: , List-Archive: List-Post: List-Help: List-Subscribe: , Errors-To: test-report-bounces@dpdk.org Test-Label: iol-unit-amd64-testing Test-Status: SUCCESS http://dpdk.org/patch/155362 _Testing PASS_ Submitter: Jie Liu Date: Saturday, July 19 2025 09:05:37 DPDK git baseline: Repo:dpdk Branch: master CommitID:f6e3473724e7ce31103fa0ecad62b282ec8e7090 155350-155362 --> testing pass Upstream job id: Generic-Unit-Test-DPDK#356476 Test environment and result as below: +-------------------------------+----------------+ | Environment | dpdk_unit_test | +===============================+================+ | CentOS Stream 9 | PASS | +-------------------------------+----------------+ | Debian GNU/Linux 12 | PASS | +-------------------------------+----------------+ | Fedora Linux 40 | PASS | +-------------------------------+----------------+ | CentOS Stream 10 | PASS | +-------------------------------+----------------+ | Fedora Linux 41 | PASS | +-------------------------------+----------------+ | Red Hat Enterprise Linux 9.5 | PASS | +-------------------------------+----------------+ | Red Hat Enterprise Linux 8.10 | PASS | +-------------------------------+----------------+ | Ubuntu 20.04 | PASS | +-------------------------------+----------------+ | Ubuntu 22.04 | PASS | +-------------------------------+----------------+ | Ubuntu 24.04 | PASS | +-------------------------------+----------------+ | Windows Server 2022 | PASS | +-------------------------------+----------------+ CentOS Stream 9 Kernel: 5.15 Compiler: gcc gcc (GCC) 11.5.0 20240719 (Red Hat 11.5.0-7) Debian GNU/Linux 12 Kernel: 5.15 Compiler: gcc gcc (Debian 12.2.0-14+deb12u1) 12.2.0 Fedora Linux 40 Kernel: 5.15 Compiler: clang gcc (GCC) 14.2.1 20240912 (Red Hat 14.2.1-3) CentOS Stream 10 Kernel: 5.15 Compiler: gcc gcc (GCC) 14.2.1 20250110 (Red Hat 14.2.1-8) Fedora Linux 41 Kernel: 5.15 Compiler: gcc gcc (GCC) 14.3.1 20250523 (Red Hat 14.3.1-1) Red Hat Enterprise Linux 9.5 Kernel: 5.15 Compiler: gcc gcc (GCC) 11.5.0 20240719 (Red Hat 11.5.0-2) Red Hat Enterprise Linux 8.10 Kernel: 5.15 Compiler: gcc gcc (GCC) 8.5.0 20210514 (Red Hat 8.5.0-22) Ubuntu 20.04 Kernel: 5.15 Compiler: gcc gcc (Ubuntu 9.4.0-1ubuntu1~20.04.2) 9.4.0 Ubuntu 22.04 Kernel: 5.15 Compiler: gcc gcc (Ubuntu 11.4.0-1ubuntu1~22.04) 11.4.0 Ubuntu 24.04 Kernel: 5.15 Compiler: gcc gcc (Ubuntu 13.3.0-6ubuntu2~24.04) 13.3.0 Windows Server 2022 Kernel: 10.0.20348.2031 Compiler: clang 15.0.7, gcc 14.1.0 (MinGW), and MSVC VS 19.39.33521 To view detailed results, visit: https://lab.dpdk.org/results/dashboard/patchsets/33693/ UNH-IOL DPDK Community Lab To manage your email subscriptions, visit: https://lab.dpdk.org/results/dashboard/preferences/subscriptions/