From mboxrd@z Thu Jan 1 00:00:00 1970 Return-Path: Received: from mails.dpdk.org (mails.dpdk.org [217.70.189.124]) by inbox.dpdk.org (Postfix) with ESMTP id 537DD46BB8 for ; Sat, 19 Jul 2025 12:54:41 +0200 (CEST) Received: from mails.dpdk.org (localhost [127.0.0.1]) by mails.dpdk.org (Postfix) with ESMTP id 4CAAE400D7; Sat, 19 Jul 2025 12:54:41 +0200 (CEST) Received: from mail-pl1-f227.google.com (mail-pl1-f227.google.com [209.85.214.227]) by mails.dpdk.org (Postfix) with ESMTP id B6590400D7 for ; Sat, 19 Jul 2025 12:54:40 +0200 (CEST) Received: by mail-pl1-f227.google.com with SMTP id d9443c01a7336-235ea292956so27145265ad.1 for ; Sat, 19 Jul 2025 03:54:40 -0700 (PDT) DKIM-Signature: v=1; a=rsa-sha256; c=relaxed/relaxed; d=iol.unh.edu; s=unh-iol; t=1752922479; x=1753527279; darn=dpdk.org; h=references:in-reply-to:cc:to:from:subject:message-id:date:from:to :cc:subject:date:message-id:reply-to; bh=b2Aggb1EcifTdOrbG5zDtWSzxoR3bqKiK+LNw8aEJJM=; b=Kx5V8qop1TcOuO8dbLWUNozqmttCUdc7FTYCSUv70/4R2GXf+4Q730QJcrYPlYzYGW xiCVKQjHYsdro+d5ABJoGbSwyWIM8J85KBkLn4i26bYXEonxT8b1ebR5Ey6M7tnlnR/Q hg6qAV6dTl2qWlIEjcrhHq8+dGWHKHdNBMXQw= X-Google-DKIM-Signature: v=1; a=rsa-sha256; c=relaxed/relaxed; d=1e100.net; s=20230601; t=1752922479; x=1753527279; h=references:in-reply-to:cc:to:from:subject:message-id:date :x-gm-message-state:from:to:cc:subject:date:message-id:reply-to; bh=b2Aggb1EcifTdOrbG5zDtWSzxoR3bqKiK+LNw8aEJJM=; b=uYCZC39BIrkDFYRaK7wySL29ypIXQsCKrG6Nhw1thb2Ah3Nc+J3/+cOlnIDb4UXI9U 7UA3rk2g3HZDjSsEF9l0HGSfKMjzSyPfphZcY7WQCvr25t773SCnSyIZQNOH2LI3TOxF 4mERU+wBhJ4/igRY14SUH4pXOdqmiUAQn0Loqhvleux+6LpFOJ8TsMNNCTdXdT97adEV onbJoKDYuz85Tzuxb5krYXFw2pzu5roNPy0OSYE5HjUPQ4K/FOb7wga+YTjmVl7MMl3Q qO7DzSYGTCxV9Q7JGyF2ExqWIw+Xm3FANYphV8PqnTeGo+3RXB9mxZJPt4OLrNqPQEGX bDHg== X-Gm-Message-State: AOJu0Yw9jaJ68Th9GEJkwtuATE9OOq0BKdY9vLGK53061Nj9wSiZ4dSF CN/0R4glljo+MrSW6P0KW3WazHndHXWJcU5Ws9IH43RVdB2Q3D0JKDaZoJ3IH84pen8/S393Xn4 fhSPpwc4XoGHADsVYHWVaZa3mmgxpbUZ+NayqWrYfq+aPkD3ahR9jZUolbISn X-Gm-Gg: ASbGnct0MbrPzyJjQsNgd8967+nx1jbD7lcVx1GtgGv7FqlPAhp7WfH++tDlsJkkQ3K VCMZhKCqiA1VILf1sEiy3QuhICarW+0izy1L6eYjSwGlVwC3Ewb/KuMkQv8bl6pHPXfE6kOGSIx rtKYZ50z+rnMO/IBT6V52sft7DG64wtLW1jXwEYvuaBATX12z1nhoAt/aZHYb7O0tsmjhxaHxp2 I8FujT/EPA5peCBPsuX/d3AvExUUshpS5dPQd+H14oz6dhI0fu4R9C+YIQspDcBBErYtrI/VpGv zLiztZSD+Tx9ZXCG8pK1buksccHiLxYewDPeDQoRCqQHJIjCwg== X-Google-Smtp-Source: AGHT+IEyUiHH4TuynVvIZUC6rycBAyDkxS5FmziAhjuG8dcDWiVjmzBJ80VezwV1JHVLrTfO1yGhau4A3jQb X-Received: by 2002:a17:902:f792:b0:235:ef87:bd50 with SMTP id d9443c01a7336-23e25776619mr199303625ad.45.1752922479317; Sat, 19 Jul 2025 03:54:39 -0700 (PDT) Received: from postal.iol.unh.edu (postal.iol.unh.edu. [2606:4100:3880:1234::84]) by smtp-relay.gmail.com with ESMTPS id d9443c01a7336-23e3b6323d6sm1922125ad.51.2025.07.19.03.54.39 (version=TLS1_2 cipher=ECDHE-ECDSA-AES128-GCM-SHA256 bits=128/128); Sat, 19 Jul 2025 03:54:39 -0700 (PDT) X-Relaying-Domain: iol.unh.edu Date: Sat, 19 Jul 2025 03:54:39 -0700 (PDT) Message-ID: <687b796f.170a0220.1b66b7.966aSMTPIN_ADDED_MISSING@mx.google.com> Received: from [172.21.0.2] (unknown [172.18.0.240]) by postal.iol.unh.edu (Postfix) with ESMTP id 8B7A36051830; Sat, 19 Jul 2025 06:54:38 -0400 (EDT) Subject: |SUCCESS| pw155350-155362 [PATCH] [v10,14/14] net/sxe: add Solve com From: dpdklab@iol.unh.edu To: Test Report Cc: dpdk-test-reports@iol.unh.edu In-Reply-To: <20250719090537.699357-14-liujie5@linkdatatechnology.com> References: <20250719090537.699357-14-liujie5@linkdatatechnology.com> Content-Type: text/plain X-BeenThere: test-report@dpdk.org X-Mailman-Version: 2.1.29 Precedence: list List-Id: automatic DPDK test reports List-Unsubscribe: , List-Archive: List-Post: List-Help: List-Subscribe: , Errors-To: test-report-bounces@dpdk.org Test-Label: iol-abi-testing Test-Status: SUCCESS http://dpdk.org/patch/155362 _Testing PASS_ Submitter: Jie Liu Date: Saturday, July 19 2025 09:05:37 DPDK git baseline: Repo:dpdk Branch: master CommitID:f6e3473724e7ce31103fa0ecad62b282ec8e7090 155350-155362 --> testing pass Upstream job id: Generic-DPDK-Compile-ABI#134895 Test environment and result as below: +-------------------------------+----------+ | Environment | abi_test | +===============================+==========+ | CentOS Stream 10 | PASS | +-------------------------------+----------+ | CentOS Stream 9 | PASS | +-------------------------------+----------+ | Debian GNU/Linux 12 | PASS | +-------------------------------+----------+ | Fedora Linux 40 | PASS | +-------------------------------+----------+ | Fedora Linux 41 | PASS | +-------------------------------+----------+ | Red Hat Enterprise Linux 9.5 | PASS | +-------------------------------+----------+ | Ubuntu 22.04 | PASS | +-------------------------------+----------+ | Red Hat Enterprise Linux 8.10 | PASS | +-------------------------------+----------+ | openSUSE Leap 15.6 | PASS | +-------------------------------+----------+ | Ubuntu 24.04 | PASS | +-------------------------------+----------+ CentOS Stream 10 Kernel: 5.15 Compiler: gcc gcc (GCC) 14.2.1 20250110 (Red Hat 14.2.1-8) CentOS Stream 9 Kernel: 5.15 Compiler: gcc gcc (GCC) 11.5.0 20240719 (Red Hat 11.5.0-7) Debian GNU/Linux 12 Kernel: 5.15 Compiler: gcc gcc (Debian 12.2.0-14+deb12u1) 12.2.0 Fedora Linux 40 Kernel: 5.15 Compiler: clang gcc (GCC) 14.2.1 20240912 (Red Hat 14.2.1-3) Fedora Linux 41 Kernel: 5.15 Compiler: clang gcc (GCC) 14.3.1 20250523 (Red Hat 14.3.1-1) Red Hat Enterprise Linux 9.5 Kernel: 5.15 Compiler: gcc gcc (GCC) 11.5.0 20240719 (Red Hat 11.5.0-2) Ubuntu 22.04 Kernel: 5.15 Compiler: gcc gcc (Ubuntu 11.4.0-1ubuntu1~22.04) 11.4.0 Red Hat Enterprise Linux 8.10 Kernel: 5.15 Compiler: gcc gcc (GCC) 8.5.0 20210514 (Red Hat 8.5.0-22) openSUSE Leap 15.6 Kernel: 5.15 Compiler: gcc gcc (SUSE Linux) 7.5.0 Ubuntu 24.04 Kernel: 5.15 Compiler: gcc gcc (Ubuntu 13.3.0-6ubuntu2~24.04) 13.3.0 To view detailed results, visit: https://lab.dpdk.org/results/dashboard/patchsets/33693/ UNH-IOL DPDK Community Lab To manage your email subscriptions, visit: https://lab.dpdk.org/results/dashboard/preferences/subscriptions/