From mboxrd@z Thu Jan 1 00:00:00 1970 Return-Path: Received: from mails.dpdk.org (mails.dpdk.org [217.70.189.124]) by inbox.dpdk.org (Postfix) with ESMTP id 5DEC746BB8 for ; Sat, 19 Jul 2025 13:59:30 +0200 (CEST) Received: from mails.dpdk.org (localhost [127.0.0.1]) by mails.dpdk.org (Postfix) with ESMTP id 3D0F5400D7; Sat, 19 Jul 2025 13:59:30 +0200 (CEST) Received: from mail-pl1-f227.google.com (mail-pl1-f227.google.com [209.85.214.227]) by mails.dpdk.org (Postfix) with ESMTP id EA93F400D7 for ; Sat, 19 Jul 2025 13:59:28 +0200 (CEST) Received: by mail-pl1-f227.google.com with SMTP id d9443c01a7336-2350b1b9129so20054685ad.0 for ; Sat, 19 Jul 2025 04:59:28 -0700 (PDT) DKIM-Signature: v=1; a=rsa-sha256; c=relaxed/relaxed; d=iol.unh.edu; s=unh-iol; t=1752926368; x=1753531168; darn=dpdk.org; h=references:in-reply-to:cc:to:from:subject:message-id:date:from:to :cc:subject:date:message-id:reply-to; bh=iTd6Zdk6CUYAYVA12I0XontZsIanHC42hDSCGgTlKgQ=; b=ihl5iMZkLbf1HYnn22+QVWkLy5/Wy60FqlPFL/tsAUb0asQjkA0m7L6c+iCLO6e9Ee 6tEr8dTmjyLYAY9Dyb0hEA50IQTljO2AxgW+vqDIDus7vwGpVgu0UuY3ivXfQn42Evvl Sw4DeAw8nJGzsvhkiooQiBOhGNnpbYmAwqsI8= X-Google-DKIM-Signature: v=1; a=rsa-sha256; c=relaxed/relaxed; d=1e100.net; s=20230601; t=1752926368; x=1753531168; h=references:in-reply-to:cc:to:from:subject:message-id:date :x-gm-message-state:from:to:cc:subject:date:message-id:reply-to; bh=iTd6Zdk6CUYAYVA12I0XontZsIanHC42hDSCGgTlKgQ=; b=p1QeTT1YX4ghb44lSPH+8JqPosAb7dkjR6xbkQq+neJBIzDgAHfBrdCmP7wcTQvmRO 2ps3+ZP9YY7VlLVQVeW/n4uI9m5+mGGrtsZOfF9UEZM1/80eBYMZ576w8S2ZXTA8OL7f X14Dl5L+Up3Fj8o5NVk511niIu3v/Kzznxc12QRv08xFuGm7QpvWkpjQ6V3RQ2oVWzmI MJwXHkS5NBHZnLTw1PnSZ9Hz6Y0ZZn1qXP1AA8+9K2wUCVlFtsxHj32s+ep8JEiG2Q4K CAgwhp1lCQ7nKq8ikEEEJqHs4Kb1QpU7f0zYkvNfEQ11kjFme/JFx5WPENko3QeCinMe sH7A== X-Gm-Message-State: AOJu0YwHXJkYALAVu/gVu1Ye5DXjz9InywgA7baZtXM9LeUMqh4b+A4T lzGnforOQZbFVtt+Wv+0kiVDi7/XsEzGK5IWh2RxFyw2PDEuhGhs/4iuJj5vwXDlY1i1NwLH1h6 yT5rC8AewNjSjCEfGD36ZUcjgJfSan9OLtdzKyJJ4X5qOH50DXiel2l3n9SKb X-Gm-Gg: ASbGncumI8Y4a5m54WDofrzMgxCde04iuQPlMYXow/xKRTzsn75ihqzZyXfwqLR+U90 v5Dr6hsZzp2Yo7Ez/UxZRTcWIA4ZdveQkhHOUQeNtowvLSUlSn7IvAMfDhay7j7+e7itkQCj0ud rVoj0EVHN8r+PlQd4cHvboh8q2/U2dDSNglfjUvcxfUB+VB6+JaXDm054pgOqlUidDhvczx/4NI HxnEOtt5aKoYRT5ff7wj0oGJhni3bACjOaQJnaZzqHaK8vCwQ3vddl52V9aS0OtSIlu8mKmjzU6 jwcjU2NoC8nwMRrOnk8D82E/+txDkIecVhBKmuo8OGImKi/E0w== X-Google-Smtp-Source: AGHT+IHlvDq/hq9UMxt1AxkwkYtd4FlfP7x2mBeMXjuN/nG+Ycestv3D1COiOfcbb0FzQ0jkurr8TTsb6GjA X-Received: by 2002:a17:903:faf:b0:23d:dd04:28e2 with SMTP id d9443c01a7336-23e2575a650mr224618095ad.35.1752926368042; Sat, 19 Jul 2025 04:59:28 -0700 (PDT) Received: from postal.iol.unh.edu (postal.iol.unh.edu. [2606:4100:3880:1234::84]) by smtp-relay.gmail.com with ESMTPS id d9443c01a7336-23e3b5ffed7sm2123135ad.20.2025.07.19.04.59.27 (version=TLS1_2 cipher=ECDHE-ECDSA-AES128-GCM-SHA256 bits=128/128); Sat, 19 Jul 2025 04:59:28 -0700 (PDT) X-Relaying-Domain: iol.unh.edu Date: Sat, 19 Jul 2025 04:59:28 -0700 (PDT) Message-ID: <687b88a0.170a0220.1158b5.ba64SMTPIN_ADDED_MISSING@mx.google.com> Received: from [172.21.0.2] (unknown [172.18.0.240]) by postal.iol.unh.edu (Postfix) with ESMTP id 85C536051830; Sat, 19 Jul 2025 07:59:27 -0400 (EDT) Subject: |SUCCESS| pw155350-155362 [PATCH] [v10,14/14] net/sxe: add Solve com From: dpdklab@iol.unh.edu To: Test Report Cc: dpdk-test-reports@iol.unh.edu In-Reply-To: <20250719090537.699357-14-liujie5@linkdatatechnology.com> References: <20250719090537.699357-14-liujie5@linkdatatechnology.com> Content-Type: text/plain X-BeenThere: test-report@dpdk.org X-Mailman-Version: 2.1.29 Precedence: list List-Id: automatic DPDK test reports List-Unsubscribe: , List-Archive: List-Post: List-Help: List-Subscribe: , Errors-To: test-report-bounces@dpdk.org Test-Label: iol-compile-amd64-testing Test-Status: SUCCESS http://dpdk.org/patch/155362 _Testing PASS_ Submitter: Jie Liu Date: Saturday, July 19 2025 09:05:37 DPDK git baseline: Repo:dpdk Branch: master CommitID:f6e3473724e7ce31103fa0ecad62b282ec8e7090 155350-155362 --> testing pass Upstream job id: Generic-DPDK-Compile-Meson#410020 Test environment and result as below: +-------------------------------+--------------------+-------------------+------------------+-------------------------+-------------------+----------------------+ | Environment | dpdk_meson_compile | dpdk_compile_spdk | dpdk_compile_ovs | dpdk_llvm_clang_compile | dpdk_msvc_compile | dpdk_mingw64_compile | +===============================+====================+===================+==================+=========================+===================+======================+ | CentOS Stream 9 | PASS | PASS | SKIPPED | SKIPPED | SKIPPED | SKIPPED | +-------------------------------+--------------------+-------------------+------------------+-------------------------+-------------------+----------------------+ | CentOS Stream 10 | PASS | SKIPPED | SKIPPED | SKIPPED | SKIPPED | SKIPPED | +-------------------------------+--------------------+-------------------+------------------+-------------------------+-------------------+----------------------+ | Debian GNU/Linux 12 | PASS | PASS | SKIPPED | SKIPPED | SKIPPED | SKIPPED | +-------------------------------+--------------------+-------------------+------------------+-------------------------+-------------------+----------------------+ | Fedora Linux 41 | PASS | PASS | PASS | SKIPPED | SKIPPED | SKIPPED | +-------------------------------+--------------------+-------------------+------------------+-------------------------+-------------------+----------------------+ | Fedora Linux 40 | PASS | PASS | SKIPPED | SKIPPED | SKIPPED | SKIPPED | +-------------------------------+--------------------+-------------------+------------------+-------------------------+-------------------+----------------------+ | openSUSE Leap 15.6 | PASS | SKIPPED | SKIPPED | SKIPPED | SKIPPED | SKIPPED | +-------------------------------+--------------------+-------------------+------------------+-------------------------+-------------------+----------------------+ | Red Hat Enterprise Linux 8.10 | PASS | SKIPPED | SKIPPED | SKIPPED | SKIPPED | SKIPPED | +-------------------------------+--------------------+-------------------+------------------+-------------------------+-------------------+----------------------+ | Red Hat Enterprise Linux 9.5 | PASS | SKIPPED | SKIPPED | SKIPPED | SKIPPED | SKIPPED | +-------------------------------+--------------------+-------------------+------------------+-------------------------+-------------------+----------------------+ | Ubuntu 20.04 | PASS | SKIPPED | SKIPPED | SKIPPED | SKIPPED | SKIPPED | +-------------------------------+--------------------+-------------------+------------------+-------------------------+-------------------+----------------------+ | Ubuntu 24.04 | PASS | PASS | PASS | SKIPPED | SKIPPED | SKIPPED | +-------------------------------+--------------------+-------------------+------------------+-------------------------+-------------------+----------------------+ | Ubuntu 22.04 | PASS | PASS | SKIPPED | SKIPPED | SKIPPED | SKIPPED | +-------------------------------+--------------------+-------------------+------------------+-------------------------+-------------------+----------------------+ | Alpine Linux 3.22.0 | PASS | SKIPPED | SKIPPED | SKIPPED | SKIPPED | SKIPPED | +-------------------------------+--------------------+-------------------+------------------+-------------------------+-------------------+----------------------+ | FreeBSD 14.2 | PASS | SKIPPED | SKIPPED | SKIPPED | SKIPPED | SKIPPED | +-------------------------------+--------------------+-------------------+------------------+-------------------------+-------------------+----------------------+ | Windows Server 2022 | SKIPPED | SKIPPED | SKIPPED | PASS | PASS | PASS | +-------------------------------+--------------------+-------------------+------------------+-------------------------+-------------------+----------------------+ CentOS Stream 9 Kernel: 5.15 Compiler: gcc gcc (GCC) 11.5.0 20240719 (Red Hat 11.5.0-7) CentOS Stream 10 Kernel: 5.15 Compiler: gcc gcc (GCC) 14.2.1 20250110 (Red Hat 14.2.1-8) Debian GNU/Linux 12 Kernel: 5.15 Compiler: gcc gcc (Debian 12.2.0-14+deb12u1) 12.2.0 Fedora Linux 41 Kernel: 5.15 Compiler: clang gcc (GCC) 14.3.1 20250523 (Red Hat 14.3.1-1) Fedora Linux 40 Kernel: 5.15 Compiler: gcc gcc (GCC) 14.2.1 20240912 (Red Hat 14.2.1-3) openSUSE Leap 15.6 Kernel: 5.15 Compiler: gcc gcc (SUSE Linux) 7.5.0 Red Hat Enterprise Linux 8.10 Kernel: 5.15 Compiler: gcc gcc (GCC) 8.5.0 20210514 (Red Hat 8.5.0-22) Red Hat Enterprise Linux 9.5 Kernel: 5.15 Compiler: gcc gcc (GCC) 11.5.0 20240719 (Red Hat 11.5.0-2) Ubuntu 20.04 Kernel: 5.15 Compiler: gcc gcc (Ubuntu 9.4.0-1ubuntu1~20.04.2) 9.4.0 Ubuntu 24.04 Kernel: 5.15 Compiler: gcc gcc (Ubuntu 13.3.0-6ubuntu2~24.04) 13.3.0 Ubuntu 22.04 Kernel: 5.15 Compiler: gcc gcc (Ubuntu 11.4.0-1ubuntu1~22.04) 11.4.0 Alpine Linux 3.22.0 Kernel: 5.15 Compiler: gcc gcc (Alpine 14.2.0) 14.2.0 FreeBSD 14.2 Kernel: 14.2-RELEASE Compiler: clang 18.1.6 Windows Server 2022 Kernel: 10.0.20348.2031 Compiler: clang 15.0.7, gcc 14.1.0 (MinGW), and MSVC VS 19.39.33521 To view detailed results, visit: https://lab.dpdk.org/results/dashboard/patchsets/33693/ UNH-IOL DPDK Community Lab To manage your email subscriptions, visit: https://lab.dpdk.org/results/dashboard/preferences/subscriptions/