From mboxrd@z Thu Jan 1 00:00:00 1970 Return-Path: Received: from mails.dpdk.org (mails.dpdk.org [217.70.189.124]) by inbox.dpdk.org (Postfix) with ESMTP id 40E7C46BB9 for ; Sat, 19 Jul 2025 14:33:24 +0200 (CEST) Received: from mails.dpdk.org (localhost [127.0.0.1]) by mails.dpdk.org (Postfix) with ESMTP id 23904400D7; Sat, 19 Jul 2025 14:33:24 +0200 (CEST) Received: from mail-qt1-f227.google.com (mail-qt1-f227.google.com [209.85.160.227]) by mails.dpdk.org (Postfix) with ESMTP id CC4DC400D7 for ; Sat, 19 Jul 2025 14:33:22 +0200 (CEST) Received: by mail-qt1-f227.google.com with SMTP id d75a77b69052e-4abc006bcadso10126571cf.0 for ; Sat, 19 Jul 2025 05:33:22 -0700 (PDT) DKIM-Signature: v=1; a=rsa-sha256; c=relaxed/relaxed; d=iol.unh.edu; s=unh-iol; t=1752928402; x=1753533202; darn=dpdk.org; h=references:in-reply-to:cc:to:from:subject:message-id:date:from:to :cc:subject:date:message-id:reply-to; bh=H9t7MHqW7Gs0ZlpO0b+JmM21XePlCAwojpmogItEfwM=; b=W4+rirANWqtd4iJvSNEHFUuD8aapo6rcrygJYSVv9FsskF0QD+UfMeANToFUGPrt9h Vi81l77rfCLCT8sefrHqd6x8vRevJ7OmE9gh4QSQT3Q1LvqyAmWTmby601WR8eJYY99l JS1TJJ6m9+Pp/HBFY71p3kK43O+H03U748Jd8= X-Google-DKIM-Signature: v=1; a=rsa-sha256; c=relaxed/relaxed; d=1e100.net; s=20230601; t=1752928402; x=1753533202; h=references:in-reply-to:cc:to:from:subject:message-id:date :x-gm-message-state:from:to:cc:subject:date:message-id:reply-to; bh=H9t7MHqW7Gs0ZlpO0b+JmM21XePlCAwojpmogItEfwM=; b=cZccyFmjFs9mbJKv8vzzS2p8rkLTv7kc90HYUCLrI0Y3eJyVHz875U/Vb2IzoeT9aO is8IAP0E1JPs95o3TWIWO6fdMA4JxV9PaESnNiJP4QlqbR0WfzoaELwP2LDMisB6HXoH PGLTyUKPpKJTQw+xe1mKFLMz5sbt4uyAGCf6UXCRVGIebHwi6IPXc1vhaW8xk7mhKJM+ EUg6Tr6tgsZJEa/Dc7MR48S1OdvHeIJnM/cCqG0uqI8/7Wiez/x/HLMJmYFx5+4QEsQg Ab4WVjLy9JMch6QcOkXEYvkRXvyhEZVjzz/crCn6jCPeqUSt9QycDF9HdGUhH6gCkfsG pc3g== X-Gm-Message-State: AOJu0YyckyOLD8eG4quuqWqrspUWrQ7bROQBR8vP3y5tIfxzGHQS8DKC jr3UPb6LbNDcHLp/GDSUZcy/zZoJoi0cXt5RlAGtqOZMEjxNtXyYhCSA8DQxOlSrQ67/W7aY/nS j+N7XqKpdiEWWEkmZvUY4nhCLcWrDAxtsjsAeDEXuYaLKYwyPHvmNUUj/9vte X-Gm-Gg: ASbGncsMyXPsIDKKfdDDO/4G46Xh396c9+nWhrXgIhCg/taRW4MpsAG/odwHrbcy8sU EawKRllvacXeoU4Fh3liGU73unxobTkRBfnIGJfDEkxxV9Ru40LOtwB3VsH2RcGY3zbCmWEiQ3q HvOvLW5i/A9akKg8Pf83fSR42H4iBsRYRkShqvmE5aDv8MKlyCJF7nJXnkB253q5PikK0jEjuqp JuCX1pcPeN4cFqvjIvX5wxWfd2IZpkF5k3bmpaut6PKhfTQBPUGTrai6OJrNcceyiMMhYOOC8Xw AqBy9RM0PqOC5h8a//wMeLNqk7sxgpcE4u6XpH6FlLKeNZ0E5g== X-Google-Smtp-Source: AGHT+IHtB4uc1e1VUjjBq2mMxbl9pozt5TtQBtdyaGpg7pxIf9SFNl6Pu0GQ1RgNnG0tEh4sEkQ0rgXBRg++ X-Received: by 2002:ac8:5e46:0:b0:4ab:6935:14b6 with SMTP id d75a77b69052e-4ab90988fb7mr230285561cf.4.1752928401959; Sat, 19 Jul 2025 05:33:21 -0700 (PDT) Received: from postal.iol.unh.edu (postal.iol.unh.edu. [2606:4100:3880:1234::84]) by smtp-relay.gmail.com with ESMTPS id d75a77b69052e-4abb4a4000dsm1692391cf.17.2025.07.19.05.33.21 (version=TLS1_2 cipher=ECDHE-ECDSA-AES128-GCM-SHA256 bits=128/128); Sat, 19 Jul 2025 05:33:21 -0700 (PDT) X-Relaying-Domain: iol.unh.edu Date: Sat, 19 Jul 2025 05:33:21 -0700 (PDT) Message-ID: <687b9091.050a0220.3e63f.80bcSMTPIN_ADDED_MISSING@mx.google.com> Received: from [172.21.0.2] (unknown [172.18.0.240]) by postal.iol.unh.edu (Postfix) with ESMTP id AD1496051830; Sat, 19 Jul 2025 08:33:21 -0400 (EDT) Subject: |SUCCESS| pw155364 [PATCH] mbuf: de-inline sanity checking a reiniti From: dpdklab@iol.unh.edu To: Test Report Cc: dpdk-test-reports@iol.unh.edu In-Reply-To: <20250719102315.435921-1-mb@smartsharesystems.com> References: <20250719102315.435921-1-mb@smartsharesystems.com> Content-Type: text/plain X-BeenThere: test-report@dpdk.org X-Mailman-Version: 2.1.29 Precedence: list List-Id: automatic DPDK test reports List-Unsubscribe: , List-Archive: List-Post: List-Help: List-Subscribe: , Errors-To: test-report-bounces@dpdk.org Test-Label: iol-abi-testing Test-Status: SUCCESS http://dpdk.org/patch/155364 _Testing PASS_ Submitter: Morten Brorup Date: Saturday, July 19 2025 10:23:15 DPDK git baseline: Repo:dpdk Branch: master CommitID:f6e3473724e7ce31103fa0ecad62b282ec8e7090 155364 --> testing pass Upstream job id: Generic-DPDK-Compile-ABI#134902 Test environment and result as below: +-------------------------------+----------+ | Environment | abi_test | +===============================+==========+ | CentOS Stream 9 | PASS | +-------------------------------+----------+ | Fedora Linux 40 | PASS | +-------------------------------+----------+ | Fedora Linux 41 | PASS | +-------------------------------+----------+ | CentOS Stream 10 | PASS | +-------------------------------+----------+ | Debian GNU/Linux 12 | PASS | +-------------------------------+----------+ | Red Hat Enterprise Linux 9.5 | PASS | +-------------------------------+----------+ | Ubuntu 24.04 | PASS | +-------------------------------+----------+ | Ubuntu 22.04 | PASS | +-------------------------------+----------+ | openSUSE Leap 15.6 | PASS | +-------------------------------+----------+ | Red Hat Enterprise Linux 8.10 | PASS | +-------------------------------+----------+ CentOS Stream 9 Kernel: 5.15 Compiler: gcc gcc (GCC) 11.5.0 20240719 (Red Hat 11.5.0-7) Fedora Linux 40 Kernel: 5.15 Compiler: gcc gcc (GCC) 14.2.1 20240912 (Red Hat 14.2.1-3) Fedora Linux 41 Kernel: 5.15 Compiler: clang gcc (GCC) 14.3.1 20250523 (Red Hat 14.3.1-1) CentOS Stream 10 Kernel: 5.15 Compiler: gcc gcc (GCC) 14.2.1 20250110 (Red Hat 14.2.1-8) Debian GNU/Linux 12 Kernel: 5.15 Compiler: gcc gcc (Debian 12.2.0-14+deb12u1) 12.2.0 Red Hat Enterprise Linux 9.5 Kernel: 5.15 Compiler: gcc gcc (GCC) 11.5.0 20240719 (Red Hat 11.5.0-2) Ubuntu 24.04 Kernel: 5.15 Compiler: gcc gcc (Ubuntu 13.3.0-6ubuntu2~24.04) 13.3.0 Ubuntu 22.04 Kernel: 5.15 Compiler: gcc gcc (Ubuntu 11.4.0-1ubuntu1~22.04) 11.4.0 openSUSE Leap 15.6 Kernel: 5.15 Compiler: gcc gcc (SUSE Linux) 7.5.0 Red Hat Enterprise Linux 8.10 Kernel: 5.15 Compiler: gcc gcc (GCC) 8.5.0 20210514 (Red Hat 8.5.0-22) To view detailed results, visit: https://lab.dpdk.org/results/dashboard/patchsets/33694/ UNH-IOL DPDK Community Lab To manage your email subscriptions, visit: https://lab.dpdk.org/results/dashboard/preferences/subscriptions/