From mboxrd@z Thu Jan 1 00:00:00 1970 Return-Path: Received: from mails.dpdk.org (mails.dpdk.org [217.70.189.124]) by inbox.dpdk.org (Postfix) with ESMTP id 6FCDC46BB9 for ; Sat, 19 Jul 2025 14:59:49 +0200 (CEST) Received: from mails.dpdk.org (localhost [127.0.0.1]) by mails.dpdk.org (Postfix) with ESMTP id 53415400D7; Sat, 19 Jul 2025 14:59:49 +0200 (CEST) Received: from mail-pl1-f227.google.com (mail-pl1-f227.google.com [209.85.214.227]) by mails.dpdk.org (Postfix) with ESMTP id F40A3400D7 for ; Sat, 19 Jul 2025 14:59:48 +0200 (CEST) Received: by mail-pl1-f227.google.com with SMTP id d9443c01a7336-23636167b30so27155495ad.1 for ; Sat, 19 Jul 2025 05:59:48 -0700 (PDT) DKIM-Signature: v=1; a=rsa-sha256; c=relaxed/relaxed; d=iol.unh.edu; s=unh-iol; t=1752929988; x=1753534788; darn=dpdk.org; h=references:in-reply-to:cc:to:from:subject:message-id:date:from:to :cc:subject:date:message-id:reply-to; bh=cnSYPWpzFqHUy2pCRRXh5+O7ebxmhx++t8lLHM69Uck=; b=cESljb9GJr9bv6QHovURN80UYZTHTzrXpz0HF6f5jqjGviFkbQLPvLbwPs3BEIPOuA CgRDHfKOGAv0Ymrv2gzbEX9EQKyhbV4b68AYgCC3h3fD+Fncrub3oipHkG2iFbWIHNI9 bSNKILlIUrlJcz6V8kq7YquSt8AoN5wsIAc/w= X-Google-DKIM-Signature: v=1; a=rsa-sha256; c=relaxed/relaxed; d=1e100.net; s=20230601; t=1752929988; x=1753534788; h=references:in-reply-to:cc:to:from:subject:message-id:date :x-gm-message-state:from:to:cc:subject:date:message-id:reply-to; bh=cnSYPWpzFqHUy2pCRRXh5+O7ebxmhx++t8lLHM69Uck=; b=TVk6WA5Ijpf0LnL1CdC5tcw2NlGGjAtcjrQ0az2jEpB2L1YrBg84TcMteQ/uuBIq/J /8b8g9oHymltybL5iIgYip7wIGz7H09IkG+JjZoTT5AUKfGILQr/Ne46OB+FALzzNTrh OjM34IXt2jSABQ+u2vGbueagYx87PACXOqKUgefrdIDVP/7DZsQ8FUL9BUyKc34Wh+bO r1BSOuN7CWttT3NTRNcRMUJiqN5Hv6ckxKCE5I0mFeXT8B25NakWZd7gT+zlis7phDyz CfAVzmsChxaxrcN/IpLepI67tMVkkc1HEt2I6aX6OpYrgV4dZYsFDxK0K6byKjyZFcSF p5gg== X-Gm-Message-State: AOJu0Yzd165nXCdnyRMiCu3jBpiJOknKKZmFNM3YGL7arhKIdwV/VQzj WuGWzdb1xEOg9q+FppBFRaXCoE4XLBfU8vaisOyesEFd4L2GGxeT74LohEjC22pxVKoxjjGIWWX L4XdmmQagzxstvJAHHacei2Y2caeJvX8T325n0Qn13EoDd/WTFFeHnA8IZi0S X-Gm-Gg: ASbGncvQWPG7ygfVAa1U74XIvKl9I3+XvOktOw6X3/uxmmuf1rH8+jqIkNQD8Ysigwy CzzT31oHxwA95J/9kreWaBkfU87ItcB9jRxicBKIUzje9aTFcXfPWkl8opZXk1gyRL0e38JRvMh UqDcwgDFEY7dIEsIdQCsYFMpSigoSADYyyEkPQ7aKHZEQvYybpjNpo0i3rgPYoItgB9fEy2obq5 PmlBrqr10vRdJUhSyMBUIwsZyAU1Bsm60d5vkQhEhXjLFXtxHeqq42GbWt3A8UHr9Z8gSnpZVx5 RC85hC7pOM6Sbwqs8YWS40yoCQefQjzGlUx7w3m9HITDzk+0Bg== X-Google-Smtp-Source: AGHT+IEcpZHsu6icUDV/gESZtZFNY1B6EnCiia0iuF73W0h1YMqNS9+uBlJU4WgJ/A/dkl5AXPijzFIYGKYZ X-Received: by 2002:a17:903:8c5:b0:235:e1d6:f98b with SMTP id d9443c01a7336-23e256c98e3mr208135075ad.22.1752929987982; Sat, 19 Jul 2025 05:59:47 -0700 (PDT) Received: from postal.iol.unh.edu (postal.iol.unh.edu. [2606:4100:3880:1234::84]) by smtp-relay.gmail.com with ESMTPS id d9443c01a7336-23e3b6b784dsm2140605ad.58.2025.07.19.05.59.47 (version=TLS1_2 cipher=ECDHE-ECDSA-AES128-GCM-SHA256 bits=128/128); Sat, 19 Jul 2025 05:59:47 -0700 (PDT) X-Relaying-Domain: iol.unh.edu Date: Sat, 19 Jul 2025 05:59:47 -0700 (PDT) Message-ID: <687b96c3.170a0220.3924ed.a605SMTPIN_ADDED_MISSING@mx.google.com> Received: from [172.21.0.3] (unknown [172.18.0.240]) by postal.iol.unh.edu (Postfix) with ESMTP id 6DBEE6051830; Sat, 19 Jul 2025 08:59:47 -0400 (EDT) Subject: |SUCCESS| pw155364 [PATCH] mbuf: de-inline sanity checking a reiniti From: dpdklab@iol.unh.edu To: Test Report Cc: dpdk-test-reports@iol.unh.edu In-Reply-To: <20250719102315.435921-1-mb@smartsharesystems.com> References: <20250719102315.435921-1-mb@smartsharesystems.com> Content-Type: text/plain X-BeenThere: test-report@dpdk.org X-Mailman-Version: 2.1.29 Precedence: list List-Id: automatic DPDK test reports List-Unsubscribe: , List-Archive: List-Post: List-Help: List-Subscribe: , Errors-To: test-report-bounces@dpdk.org Test-Label: iol-compile-amd64-testing Test-Status: SUCCESS http://dpdk.org/patch/155364 _Testing PASS_ Submitter: Morten Brorup Date: Saturday, July 19 2025 10:23:15 DPDK git baseline: Repo:dpdk Branch: master CommitID:f6e3473724e7ce31103fa0ecad62b282ec8e7090 155364 --> testing pass Upstream job id: Generic-DPDK-Compile-Meson#410053 Test environment and result as below: +-------------------------------+--------------------+-------------------+------------------+-------------------------+-------------------+----------------------+ | Environment | dpdk_meson_compile | dpdk_compile_spdk | dpdk_compile_ovs | dpdk_llvm_clang_compile | dpdk_msvc_compile | dpdk_mingw64_compile | +===============================+====================+===================+==================+=========================+===================+======================+ | CentOS Stream 10 | PASS | SKIPPED | SKIPPED | SKIPPED | SKIPPED | SKIPPED | +-------------------------------+--------------------+-------------------+------------------+-------------------------+-------------------+----------------------+ | Debian GNU/Linux 12 | PASS | PASS | SKIPPED | SKIPPED | SKIPPED | SKIPPED | +-------------------------------+--------------------+-------------------+------------------+-------------------------+-------------------+----------------------+ | Fedora Linux 40 | PASS | PASS | SKIPPED | SKIPPED | SKIPPED | SKIPPED | +-------------------------------+--------------------+-------------------+------------------+-------------------------+-------------------+----------------------+ | CentOS Stream 9 | PASS | PASS | SKIPPED | SKIPPED | SKIPPED | SKIPPED | +-------------------------------+--------------------+-------------------+------------------+-------------------------+-------------------+----------------------+ | Red Hat Enterprise Linux 9.5 | PASS | SKIPPED | SKIPPED | SKIPPED | SKIPPED | SKIPPED | +-------------------------------+--------------------+-------------------+------------------+-------------------------+-------------------+----------------------+ | Red Hat Enterprise Linux 8.10 | PASS | SKIPPED | SKIPPED | SKIPPED | SKIPPED | SKIPPED | +-------------------------------+--------------------+-------------------+------------------+-------------------------+-------------------+----------------------+ | Fedora Linux 41 | PASS | PASS | PASS | SKIPPED | SKIPPED | SKIPPED | +-------------------------------+--------------------+-------------------+------------------+-------------------------+-------------------+----------------------+ | openSUSE Leap 15.6 | PASS | SKIPPED | SKIPPED | SKIPPED | SKIPPED | SKIPPED | +-------------------------------+--------------------+-------------------+------------------+-------------------------+-------------------+----------------------+ | Ubuntu 20.04 | PASS | SKIPPED | SKIPPED | SKIPPED | SKIPPED | SKIPPED | +-------------------------------+--------------------+-------------------+------------------+-------------------------+-------------------+----------------------+ | Ubuntu 22.04 | PASS | PASS | SKIPPED | SKIPPED | SKIPPED | SKIPPED | +-------------------------------+--------------------+-------------------+------------------+-------------------------+-------------------+----------------------+ | Ubuntu 24.04 | PASS | PASS | PASS | SKIPPED | SKIPPED | SKIPPED | +-------------------------------+--------------------+-------------------+------------------+-------------------------+-------------------+----------------------+ | Alpine Linux 3.22.0 | PASS | SKIPPED | SKIPPED | SKIPPED | SKIPPED | SKIPPED | +-------------------------------+--------------------+-------------------+------------------+-------------------------+-------------------+----------------------+ | FreeBSD 14.2 | PASS | SKIPPED | SKIPPED | SKIPPED | SKIPPED | SKIPPED | +-------------------------------+--------------------+-------------------+------------------+-------------------------+-------------------+----------------------+ | Windows Server 2022 | SKIPPED | SKIPPED | SKIPPED | PASS | PASS | PASS | +-------------------------------+--------------------+-------------------+------------------+-------------------------+-------------------+----------------------+ CentOS Stream 10 Kernel: 5.15 Compiler: gcc gcc (GCC) 14.2.1 20250110 (Red Hat 14.2.1-8) Debian GNU/Linux 12 Kernel: 5.15 Compiler: gcc gcc (Debian 12.2.0-14+deb12u1) 12.2.0 Fedora Linux 40 Kernel: 5.15 Compiler: clang gcc (GCC) 14.2.1 20240912 (Red Hat 14.2.1-3) CentOS Stream 9 Kernel: 5.15 Compiler: gcc gcc (GCC) 11.5.0 20240719 (Red Hat 11.5.0-7) Red Hat Enterprise Linux 9.5 Kernel: 5.15 Compiler: gcc gcc (GCC) 11.5.0 20240719 (Red Hat 11.5.0-2) Red Hat Enterprise Linux 8.10 Kernel: 5.15 Compiler: gcc gcc (GCC) 8.5.0 20210514 (Red Hat 8.5.0-22) Fedora Linux 41 Kernel: 5.15 Compiler: gcc gcc (GCC) 14.3.1 20250523 (Red Hat 14.3.1-1) openSUSE Leap 15.6 Kernel: 5.15 Compiler: gcc gcc (SUSE Linux) 7.5.0 Ubuntu 20.04 Kernel: 5.15 Compiler: gcc gcc (Ubuntu 9.4.0-1ubuntu1~20.04.2) 9.4.0 Ubuntu 22.04 Kernel: 5.15 Compiler: gcc gcc (Ubuntu 11.4.0-1ubuntu1~22.04) 11.4.0 Ubuntu 24.04 Kernel: 5.15 Compiler: gcc gcc (Ubuntu 13.3.0-6ubuntu2~24.04) 13.3.0 Alpine Linux 3.22.0 Kernel: 5.15 Compiler: gcc gcc (Alpine 14.2.0) 14.2.0 FreeBSD 14.2 Kernel: 14.2-RELEASE Compiler: clang 18.1.6 Windows Server 2022 Kernel: 10.0.20348.2031 Compiler: clang 15.0.7, gcc 14.1.0 (MinGW), and MSVC VS 19.39.33521 To view detailed results, visit: https://lab.dpdk.org/results/dashboard/patchsets/33694/ UNH-IOL DPDK Community Lab To manage your email subscriptions, visit: https://lab.dpdk.org/results/dashboard/preferences/subscriptions/