From mboxrd@z Thu Jan 1 00:00:00 1970 Return-Path: Received: from mails.dpdk.org (mails.dpdk.org [217.70.189.124]) by inbox.dpdk.org (Postfix) with ESMTP id 7F27846BB9 for ; Sat, 19 Jul 2025 15:25:41 +0200 (CEST) Received: from mails.dpdk.org (localhost [127.0.0.1]) by mails.dpdk.org (Postfix) with ESMTP id 59231400D7; Sat, 19 Jul 2025 15:25:41 +0200 (CEST) Received: from mail-il1-f226.google.com (mail-il1-f226.google.com [209.85.166.226]) by mails.dpdk.org (Postfix) with ESMTP id 9ADE0400D7 for ; Sat, 19 Jul 2025 15:25:40 +0200 (CEST) Received: by mail-il1-f226.google.com with SMTP id e9e14a558f8ab-3de2b02c69eso10130605ab.1 for ; Sat, 19 Jul 2025 06:25:40 -0700 (PDT) DKIM-Signature: v=1; a=rsa-sha256; c=relaxed/relaxed; d=iol.unh.edu; s=unh-iol; t=1752931540; x=1753536340; darn=dpdk.org; h=references:in-reply-to:cc:to:from:subject:message-id:date:from:to :cc:subject:date:message-id:reply-to; bh=S5AA3wk1IKBWVLH7AP5u4l0h+5cZfsHoGg+I71ke1HI=; b=Kb4h8ss4Eq4S8V9jp2WWjpj9gXOljXjblbGD5rYV20ajnZsKSJTPA5U/lRL/vXEQjL a3+gILIxa3Gu9Kms4Oz46SwEsboCpp6TAxqGmbAP1v67SGA6cTo5ZnL8fI4foccamtC2 oQY6RgB4g+nSIyCS7CpdPeAYne+YoSQI/SkHQ= X-Google-DKIM-Signature: v=1; a=rsa-sha256; c=relaxed/relaxed; d=1e100.net; s=20230601; t=1752931540; x=1753536340; h=references:in-reply-to:cc:to:from:subject:message-id:date :x-gm-message-state:from:to:cc:subject:date:message-id:reply-to; bh=S5AA3wk1IKBWVLH7AP5u4l0h+5cZfsHoGg+I71ke1HI=; b=jz0gQGIScC96wIgnkS6oLcCqfhk02plzXoMf151oHffZ8psXcuiS1HT18fzrzQF++l d7u43+6Q5kROyqoN5zWu39t83rYrB1ZyphRqwqot+Wx0QA3EETNCMBhz++tWwaH4sPnQ pTLTvzP/9xRp0v1GP/jJpgTp3SBLnNrSRWkwgZLmsazw5UdbrjbqYmuXSGbwU4S0vivl BNjKqbSuLNZZoNOpP+3025DS5x809ItCofmEGNSxTzMQdI5ZqbzaSxrmEds+Wzzbc3xs qpnyZrlypgFQMeNh0mhS5y72LyjWrnh+5QpsjtqwwPeFvKUZbBegpdWjjSHmbtddoGzY xQNg== X-Gm-Message-State: AOJu0YxznOa5RgIvci+5o7OO96W2gvcAuwqZ+5AOS2iT6bqm+c0pEd/k T4JdCw0amvVh9mv0crCXkp3XNj6OcObDy/IpsVjAOGI1Iw0D/NOPS3IasC/Nw0Bza8cTGKrMd89 LlF7C8uBjo+8RUKg5a+MsvG9Xj7azvF5g2qYa2HOA2A/d X-Gm-Gg: ASbGnctc/yWDAe+DW2rZ54GkA8emgoOUa7AYqxGIB+mRS0dhZ4r60nOcDDrJvXLP9/x xKhlPSBZmMpDQej0s5EHYrRAo3p/h0M+JL5pln+xZHvu/s0gkkKxLkR6+6IvHDDp9i3Vpvu4aNo kOYe2PUDTduiP0dIs1diF9L/pF2ueIqXbiarLNnbf4vk/A9ENFnm4+PeupL+4In6tuIxef7mMH7 z0aZY85Lza6UfQbzzCKziTxq6nEiQxifrCErmy+JkIHDhEa8SZPMnMXH2rMBHTChUeVf7BtnuVK Wsxzh3G3FFbFlbdBgdZbFcL2LutmcMN6+yB8cBbs7XKTj4PhM16j/UhSWVnQDbqmsY3HHn4J X-Google-Smtp-Source: AGHT+IGaDDNjiYglj/FTu8e8V8BP/zsErVT2XLfKwNnmhYNiBxN6j64hTL0uTASgkHwnB4xlmpiiCjOFZmuB X-Received: by 2002:a05:6e02:2584:b0:3df:49b4:8cd6 with SMTP id e9e14a558f8ab-3e282de2035mr138358925ab.7.1752931539743; Sat, 19 Jul 2025 06:25:39 -0700 (PDT) Received: from postal.iol.unh.edu (postal.iol.unh.edu. [132.177.123.84]) by smtp-relay.gmail.com with ESMTPS id e9e14a558f8ab-3e29821c98fsm2363495ab.17.2025.07.19.06.25.39 (version=TLS1_2 cipher=ECDHE-ECDSA-AES128-GCM-SHA256 bits=128/128); Sat, 19 Jul 2025 06:25:39 -0700 (PDT) X-Relaying-Domain: iol.unh.edu Date: Sat, 19 Jul 2025 06:25:39 -0700 (PDT) Message-ID: <687b9cd3.050a0220.364155.b3d3SMTPIN_ADDED_MISSING@mx.google.com> Received: from [172.21.0.2] (unknown [172.18.0.240]) by postal.iol.unh.edu (Postfix) with ESMTP id 64A8A6051830; Sat, 19 Jul 2025 09:25:39 -0400 (EDT) Subject: |SUCCESS| pw155350-155362 [PATCH] [v10,14/14] net/sxe: add Solve com From: dpdklab@iol.unh.edu To: Test Report Cc: dpdk-test-reports@iol.unh.edu In-Reply-To: <20250719090537.699357-14-liujie5@linkdatatechnology.com> References: <20250719090537.699357-14-liujie5@linkdatatechnology.com> Content-Type: text/plain X-BeenThere: test-report@dpdk.org X-Mailman-Version: 2.1.29 Precedence: list List-Id: automatic DPDK test reports List-Unsubscribe: , List-Archive: List-Post: List-Help: List-Subscribe: , Errors-To: test-report-bounces@dpdk.org Test-Label: iol-compile-arm64-testing Test-Status: SUCCESS http://dpdk.org/patch/155362 _Testing PASS_ Submitter: Jie Liu Date: Saturday, July 19 2025 09:05:37 DPDK git baseline: Repo:dpdk Branch: master CommitID:f6e3473724e7ce31103fa0ecad62b282ec8e7090 155350-155362 --> testing pass Upstream job id: Generic-DPDK-Compile-Meson#410031 Test environment and result as below: +------------------------------+--------------------+ | Environment | dpdk_meson_compile | +==============================+====================+ | Red Hat Enterprise Linux 9.5 | PASS | +------------------------------+--------------------+ | Ubuntu 20.04 | PASS | +------------------------------+--------------------+ | Debian GNU/Linux 12 | PASS | +------------------------------+--------------------+ | Fedora Linux 40 | PASS | +------------------------------+--------------------+ | Fedora Linux 41 | PASS | +------------------------------+--------------------+ | Ubuntu 22.04 | PASS | +------------------------------+--------------------+ | Ubuntu 24.04 | PASS | +------------------------------+--------------------+ | CentOS Stream 9 | PASS | +------------------------------+--------------------+ | CentOS Stream 10 | PASS | +------------------------------+--------------------+ Red Hat Enterprise Linux 9.5 Kernel: 5.4 Compiler: gcc gcc (GCC) 11.5.0 20240719 (Red Hat 11.5.0-2) Ubuntu 20.04 Kernel: 5.15 Compiler: aarch64-linux-gnu-gcc gcc (Ubuntu 9.4.0-1ubuntu1~20.04.2) 9.4.0 Debian GNU/Linux 12 Kernel: 5.4 Compiler: gcc gcc (Debian 12.2.0-14+deb12u1) 12.2.0 Fedora Linux 40 Kernel: 5.4 Compiler: gcc gcc (GCC) 14.2.1 20240912 (Red Hat 14.2.1-3) Fedora Linux 41 Kernel: 5.4 Compiler: clang gcc (GCC) 14.3.1 20250523 (Red Hat 14.3.1-1) Ubuntu 22.04 Kernel: 5.4 Compiler: gcc gcc (Ubuntu 11.4.0-1ubuntu1~22.04) 11.4.0 Ubuntu 24.04 Kernel: 5.4 Compiler: gcc gcc (Ubuntu 13.3.0-6ubuntu2~24.04) 13.3.0 CentOS Stream 9 Kernel: 5.4 Compiler: gcc gcc (GCC) 11.5.0 20240719 (Red Hat 11.5.0-7) CentOS Stream 10 Kernel: 5.4 Compiler: gcc gcc (GCC) 14.2.1 20250110 (Red Hat 14.2.1-8) To view detailed results, visit: https://lab.dpdk.org/results/dashboard/patchsets/33693/ UNH-IOL DPDK Community Lab To manage your email subscriptions, visit: https://lab.dpdk.org/results/dashboard/preferences/subscriptions/