From mboxrd@z Thu Jan 1 00:00:00 1970 Return-Path: Received: from mails.dpdk.org (mails.dpdk.org [217.70.189.124]) by inbox.dpdk.org (Postfix) with ESMTP id 6FE8A46BB9 for ; Sat, 19 Jul 2025 15:25:53 +0200 (CEST) Received: from mails.dpdk.org (localhost [127.0.0.1]) by mails.dpdk.org (Postfix) with ESMTP id 6B03C400D7; Sat, 19 Jul 2025 15:25:53 +0200 (CEST) Received: from mail-il1-f226.google.com (mail-il1-f226.google.com [209.85.166.226]) by mails.dpdk.org (Postfix) with ESMTP id 9BEEE400D7 for ; Sat, 19 Jul 2025 15:25:52 +0200 (CEST) Received: by mail-il1-f226.google.com with SMTP id e9e14a558f8ab-3dda399db09so30628405ab.3 for ; Sat, 19 Jul 2025 06:25:52 -0700 (PDT) DKIM-Signature: v=1; a=rsa-sha256; c=relaxed/relaxed; d=iol.unh.edu; s=unh-iol; t=1752931552; x=1753536352; darn=dpdk.org; h=references:in-reply-to:cc:to:from:subject:message-id:date:from:to :cc:subject:date:message-id:reply-to; bh=w2B32NybtqiJ5KHjZsaPYkY05TTJ6sWNhsJAd7KohY4=; b=E+S0eMf9Ue00ttMq6QZ5z23VR/3lhf3UQ+XON2kgH6SOKG27N49/aUFwakNcm+Wigl NGDUkYhRFoonwSlMf3TX1zBm86aqIKwh8RKoS5/P8bDP8hJU8iQu5fJQLMGloWhucnSi I4MdIIFBaQz5eQX6HY/hbmm51oZ03m5K4Se+o= X-Google-DKIM-Signature: v=1; a=rsa-sha256; c=relaxed/relaxed; d=1e100.net; s=20230601; t=1752931552; x=1753536352; h=references:in-reply-to:cc:to:from:subject:message-id:date :x-gm-message-state:from:to:cc:subject:date:message-id:reply-to; bh=w2B32NybtqiJ5KHjZsaPYkY05TTJ6sWNhsJAd7KohY4=; b=XulDeR6Pu8ginV1vJgEScI3K+JWER4wwuTpxbhZIHyncXL9ytRVUg3HLWRYitz5tii 6SaL5a0HPvv70TG14rPpHTTfEunAWiOVXJii3zhSZj7g6PfJZSd8N/MZ/vNuxEkbKP0z +Jrngo62OmJAFYNegqxaqdX7xvEF8jSwTthHiFvPM6tsqEr99tF7iGkDt9URsgvpTAC3 zG/ELWT04kZqvLIz+WpqB/1FGCE0OMkprpaspLu28NGn4JOtfIvVaNSs5Z/59qnddp/1 nknNGeYqhCJjbiKPaXcXImQk3bHlhzbyWm4W4rYAddK3hlNKeBflDyjesCAurCZ1Dyb0 3Arg== X-Gm-Message-State: AOJu0YyJVEJIX5FH9aZX1biRCcbGS/QOn2HLvHdN9BQYJnQn3eib1kh0 78HWJTnF6s+c4C5wJYYUzN2QFF/NgQk2WYuN3Nz+ry8HHKMN+KS8hf1ZLTfHy/69zHnwGDtVW44 D1eNVFxXFKxXZUXOLu3TLLXPyJOv4CaPFFg1yYa12xsO6 X-Gm-Gg: ASbGncuGpQBToCq8ybr3a5B44pUBFrJaySYz8EQnzKaeo667Mo2NYFvF8aDV41Rp1Af OvYJHMihNCNCZTt9yIRvH3QdDydWtu/dXdoGR068YOnTGbU7D0AHkV6ZcSTKrhM72lHeA+LDIaB 9K7GcW/sKBRiZQ8RczFOKM6xQZ+WQ/+aKDFc8Z+Kl83ySvcjQEOlmEue7uZXCsSIPoS+deYoddt Ajh7l+CokFze6No2xVrKycnRH5PBq+FXMzQ3a3xLttYXur4Ueb+lHgJVCi1t0vU0Bxkte0aWIio CU4I5UjJK6KudZT8BICp3VnNYNOkdCVumrEKAoWwKIUZN4L7TKInL74ZmHR3iXp5IphzZxrn X-Google-Smtp-Source: AGHT+IF4C+I117KJPVd5GfgN0YhEwc7UPEuq+6N3SzR/tQtlzGcHWFg6tfIM7mqZrD1FtNnLJUa9mvqsYjNQ X-Received: by 2002:a05:6602:2c85:b0:879:bf3a:4fb5 with SMTP id ca18e2360f4ac-879c093a7bdmr1804736939f.12.1752931551925; Sat, 19 Jul 2025 06:25:51 -0700 (PDT) Received: from postal.iol.unh.edu (postal.iol.unh.edu. [132.177.123.84]) by smtp-relay.gmail.com with ESMTPS id 8926c6da1cb9f-5084c9776absm174594173.61.2025.07.19.06.25.51 (version=TLS1_2 cipher=ECDHE-ECDSA-AES128-GCM-SHA256 bits=128/128); Sat, 19 Jul 2025 06:25:51 -0700 (PDT) X-Relaying-Domain: iol.unh.edu Date: Sat, 19 Jul 2025 06:25:51 -0700 (PDT) Message-ID: <687b9cdf.050a0220.21876e.887cSMTPIN_ADDED_MISSING@mx.google.com> Received: from [172.21.0.2] (unknown [172.18.0.240]) by postal.iol.unh.edu (Postfix) with ESMTP id 7524B6051830; Sat, 19 Jul 2025 09:25:51 -0400 (EDT) Subject: |SUCCESS| pw155350-155362 [PATCH] [v10,14/14] net/sxe: add Solve com From: dpdklab@iol.unh.edu To: Test Report Cc: dpdk-test-reports@iol.unh.edu In-Reply-To: <20250719090537.699357-14-liujie5@linkdatatechnology.com> References: <20250719090537.699357-14-liujie5@linkdatatechnology.com> Content-Type: text/plain X-BeenThere: test-report@dpdk.org X-Mailman-Version: 2.1.29 Precedence: list List-Id: automatic DPDK test reports List-Unsubscribe: , List-Archive: List-Post: List-Help: List-Subscribe: , Errors-To: test-report-bounces@dpdk.org Test-Label: iol-compile-arm64-testing Test-Status: SUCCESS http://dpdk.org/patch/155362 _Testing PASS_ Submitter: Jie Liu Date: Saturday, July 19 2025 09:05:37 DPDK git baseline: Repo:dpdk Branch: master CommitID:f6e3473724e7ce31103fa0ecad62b282ec8e7090 155350-155362 --> testing pass Upstream job id: Generic-DPDK-Compile-Meson#410029 Test environment and result as below: +------------------------------+--------------------+ | Environment | dpdk_meson_compile | +==============================+====================+ | Red Hat Enterprise Linux 9.5 | PASS | +------------------------------+--------------------+ | Ubuntu 20.04 | PASS | +------------------------------+--------------------+ | Debian GNU/Linux 12 | PASS | +------------------------------+--------------------+ | Fedora Linux 40 | PASS | +------------------------------+--------------------+ | Fedora Linux 41 | PASS | +------------------------------+--------------------+ | Ubuntu 22.04 | PASS | +------------------------------+--------------------+ | Ubuntu 24.04 | PASS | +------------------------------+--------------------+ | CentOS Stream 9 | PASS | +------------------------------+--------------------+ | CentOS Stream 10 | PASS | +------------------------------+--------------------+ Red Hat Enterprise Linux 9.5 Kernel: 5.4 Compiler: gcc gcc (GCC) 11.5.0 20240719 (Red Hat 11.5.0-2) Ubuntu 20.04 Kernel: 5.15 Compiler: aarch64-linux-gnu-gcc gcc (Ubuntu 9.4.0-1ubuntu1~20.04.2) 9.4.0 Debian GNU/Linux 12 Kernel: 5.4 Compiler: gcc gcc (Debian 12.2.0-14+deb12u1) 12.2.0 Fedora Linux 40 Kernel: 5.4 Compiler: gcc gcc (GCC) 14.2.1 20240912 (Red Hat 14.2.1-3) Fedora Linux 41 Kernel: 5.4 Compiler: clang gcc (GCC) 14.3.1 20250523 (Red Hat 14.3.1-1) Ubuntu 22.04 Kernel: 5.4 Compiler: gcc gcc (Ubuntu 11.4.0-1ubuntu1~22.04) 11.4.0 Ubuntu 24.04 Kernel: 5.4 Compiler: gcc gcc (Ubuntu 13.3.0-6ubuntu2~24.04) 13.3.0 CentOS Stream 9 Kernel: 5.4 Compiler: gcc gcc (GCC) 11.5.0 20240719 (Red Hat 11.5.0-7) CentOS Stream 10 Kernel: 5.4 Compiler: gcc gcc (GCC) 14.2.1 20250110 (Red Hat 14.2.1-8) To view detailed results, visit: https://lab.dpdk.org/results/dashboard/patchsets/33693/ UNH-IOL DPDK Community Lab To manage your email subscriptions, visit: https://lab.dpdk.org/results/dashboard/preferences/subscriptions/