From mboxrd@z Thu Jan 1 00:00:00 1970 Return-Path: Received: from mails.dpdk.org (mails.dpdk.org [217.70.189.124]) by inbox.dpdk.org (Postfix) with ESMTP id EACCE46BBA for ; Sat, 19 Jul 2025 18:48:22 +0200 (CEST) Received: from mails.dpdk.org (localhost [127.0.0.1]) by mails.dpdk.org (Postfix) with ESMTP id CF3D8400D5; Sat, 19 Jul 2025 18:48:22 +0200 (CEST) Received: from mail-yw1-f227.google.com (mail-yw1-f227.google.com [209.85.128.227]) by mails.dpdk.org (Postfix) with ESMTP id C57AD400D5 for ; Sat, 19 Jul 2025 18:48:21 +0200 (CEST) Received: by mail-yw1-f227.google.com with SMTP id 00721157ae682-7180bb37846so25188967b3.3 for ; Sat, 19 Jul 2025 09:48:21 -0700 (PDT) DKIM-Signature: v=1; a=rsa-sha256; c=relaxed/relaxed; d=iol.unh.edu; s=unh-iol; t=1752943701; x=1753548501; darn=dpdk.org; h=references:in-reply-to:cc:to:from:subject:message-id:date:from:to :cc:subject:date:message-id:reply-to; bh=QQWeevk7wiIIUsXPOVOvQZq4NN5QkTkku6SAZL7FsNE=; b=JVWoSO9duYWStWMpXjzqjZTfKFrUEwFP16U95OSXAt6kbpU3mJCClNyrb0f4+5Ibwi h9FmW5P/Yos3jm5dWnVMejW7jk+Pq2cyr9+q0XwyzGpoBWV9VEHj11/yG1mc2us5Azw8 bPbismAGAQxMluIdnzQewaOvuUiQbOidD3ZiE= X-Google-DKIM-Signature: v=1; a=rsa-sha256; c=relaxed/relaxed; d=1e100.net; s=20230601; t=1752943701; x=1753548501; h=references:in-reply-to:cc:to:from:subject:message-id:date :x-gm-message-state:from:to:cc:subject:date:message-id:reply-to; bh=QQWeevk7wiIIUsXPOVOvQZq4NN5QkTkku6SAZL7FsNE=; b=wvu/6vahWBUrpVhlrDGbbZPpOTrZWAuKYZz2Fw2kcifPWu8/TVq/UZHJZ5mVqd4ozY Capl3ld9XjOX++umNXcDVh8Vq+4QEg36kPsiU/lm5swGkqF/93WM+W3deCELwerqnkSy QdezmuzUKDPdX54PDjCkQYF/6uNB6E6ZZLxi8VSHA4REsND/ezyN7cHl6Dv0X0N6etX7 ZcMHOt2aSVnYewTGpJKVx66dRKaAidHOMI4iGnjQmTFo6bEYd6GD1JiwLCbqRVzKzYBE 2wZ/V0A7zdLMOUMPJzzJtam7yK9mdgFky4JqlHpNzm1dm+fCWes43E4/hHYzn6dVKOOF AE/g== X-Gm-Message-State: AOJu0YwAs4q1zHBY1WwHLkrxWPqTJUuP59I7wRBhE4eLw8fC6GwzscQ/ OlXF8yiaQBss3cjxkaAoe7PzRlG8Bvp8arHB23uiYlgDpm66LF3nIaUOpAkm9B9FRvXDwB8+vXG xxdZveiooTSLTc7SCJk+3zMLOUBIm+fp4/qmU2M++Lw40 X-Gm-Gg: ASbGnctf918SsYN3SGGvqtUUOQp1dAfRNvQTpyt+Y6qrZChkTsOjWtp2QIfNcCkP0Zt oSAo+7IlzY+efurRwA1m/DwpqIu8oLu5cRjBDWcnau12xBg4+2KB0h3EdZVBDv417W6YkY87gIG G/NCR84TnBf/4rCCqw6VFbOchZIsOMglAbwS3H3tQd2L5FP/NheyK1WwKh1GkEgRIeBrmoS7iwL AyQ3Zt6ohF/rjhxfTI00JgYD8jI7xVoCGAsjitkrl1WO7h+oftDDHwysia5sReRzI9OTDWR1Jvc 7kNk1b7NVo6NVdDd+mZ7V/C4SdpN3heaj7V0laHprY9Tr8q/uws6vG0ajQ1mDHSD/lPCCyHN X-Google-Smtp-Source: AGHT+IFRXU+UboPQq/0it3u2RLhU0xuov7H2D4hZSSU6KGcgCQgkUIScA8+FPsSEpE1wq7bEtRh07eDC+7nA X-Received: by 2002:a05:690c:1c:b0:714:13:357a with SMTP id 00721157ae682-7183733e754mr201431547b3.20.1752943701062; Sat, 19 Jul 2025 09:48:21 -0700 (PDT) Received: from postal.iol.unh.edu (postal.iol.unh.edu. [132.177.123.84]) by smtp-relay.gmail.com with ESMTPS id 00721157ae682-719533605fbsm2164147b3.56.2025.07.19.09.48.21 (version=TLS1_2 cipher=ECDHE-ECDSA-AES128-GCM-SHA256 bits=128/128); Sat, 19 Jul 2025 09:48:21 -0700 (PDT) X-Relaying-Domain: iol.unh.edu Date: Sat, 19 Jul 2025 09:48:21 -0700 (PDT) Message-ID: <687bcc55.050a0220.2a03e4.aaf2SMTPIN_ADDED_MISSING@mx.google.com> Received: from [172.21.0.3] (unknown [172.18.0.240]) by postal.iol.unh.edu (Postfix) with ESMTP id B9BB46051830; Sat, 19 Jul 2025 12:48:20 -0400 (EDT) Subject: |SUCCESS| pw155366 [PATCH] [v2] mailmap: add new email to DPDK From: dpdklab@iol.unh.edu To: Test Report Cc: dpdk-test-reports@iol.unh.edu In-Reply-To: <20250719042158.39269-1-pravin.pathak.dev@gmail.com> References: <20250719042158.39269-1-pravin.pathak.dev@gmail.com> Content-Type: text/plain X-BeenThere: test-report@dpdk.org X-Mailman-Version: 2.1.29 Precedence: list List-Id: automatic DPDK test reports List-Unsubscribe: , List-Archive: List-Post: List-Help: List-Subscribe: , Errors-To: test-report-bounces@dpdk.org Test-Label: iol-unit-amd64-testing Test-Status: SUCCESS http://dpdk.org/patch/155366 _Testing PASS_ Submitter: Pravin Pathak Date: Saturday, July 19 2025 04:21:58 DPDK git baseline: Repo:dpdk Branch: master CommitID:f6e3473724e7ce31103fa0ecad62b282ec8e7090 155366 --> testing pass Upstream job id: Generic-Unit-Test-DPDK#356531 Test environment and result as below: +-------------------------------+----------------+ | Environment | dpdk_unit_test | +===============================+================+ | Fedora Linux 40 | PASS | +-------------------------------+----------------+ | CentOS Stream 10 | PASS | +-------------------------------+----------------+ | CentOS Stream 9 | PASS | +-------------------------------+----------------+ | Debian GNU/Linux 12 | PASS | +-------------------------------+----------------+ | Ubuntu 22.04 | PASS | +-------------------------------+----------------+ | Fedora Linux 41 | PASS | +-------------------------------+----------------+ | Ubuntu 20.04 | PASS | +-------------------------------+----------------+ | Red Hat Enterprise Linux 9.5 | PASS | +-------------------------------+----------------+ | Red Hat Enterprise Linux 8.10 | PASS | +-------------------------------+----------------+ | Ubuntu 24.04 | PASS | +-------------------------------+----------------+ | Windows Server 2022 | PASS | +-------------------------------+----------------+ Fedora Linux 40 Kernel: 5.15 Compiler: clang gcc (GCC) 14.2.1 20240912 (Red Hat 14.2.1-3) CentOS Stream 10 Kernel: 5.15 Compiler: gcc gcc (GCC) 14.2.1 20250110 (Red Hat 14.2.1-8) CentOS Stream 9 Kernel: 5.15 Compiler: gcc gcc (GCC) 11.5.0 20240719 (Red Hat 11.5.0-7) Debian GNU/Linux 12 Kernel: 5.15 Compiler: gcc gcc (Debian 12.2.0-14+deb12u1) 12.2.0 Ubuntu 22.04 Kernel: 5.15 Compiler: gcc gcc (Ubuntu 11.4.0-1ubuntu1~22.04) 11.4.0 Fedora Linux 41 Kernel: 5.15 Compiler: clang gcc (GCC) 14.3.1 20250523 (Red Hat 14.3.1-1) Ubuntu 20.04 Kernel: 5.15 Compiler: gcc gcc (Ubuntu 9.4.0-1ubuntu1~20.04.2) 9.4.0 Red Hat Enterprise Linux 9.5 Kernel: 5.15 Compiler: gcc gcc (GCC) 11.5.0 20240719 (Red Hat 11.5.0-2) Red Hat Enterprise Linux 8.10 Kernel: 5.15 Compiler: gcc gcc (GCC) 8.5.0 20210514 (Red Hat 8.5.0-22) Ubuntu 24.04 Kernel: 5.15 Compiler: gcc gcc (Ubuntu 13.3.0-6ubuntu2~24.04) 13.3.0 Windows Server 2022 Kernel: 10.0.20348.2031 Compiler: clang 15.0.7, gcc 14.1.0 (MinGW), and MSVC VS 19.39.33521 To view detailed results, visit: https://lab.dpdk.org/results/dashboard/patchsets/33696/ UNH-IOL DPDK Community Lab To manage your email subscriptions, visit: https://lab.dpdk.org/results/dashboard/preferences/subscriptions/