From mboxrd@z Thu Jan 1 00:00:00 1970 Return-Path: Received: from mails.dpdk.org (mails.dpdk.org [217.70.189.124]) by inbox.dpdk.org (Postfix) with ESMTP id 530D546BBA for ; Sat, 19 Jul 2025 19:36:44 +0200 (CEST) Received: from mails.dpdk.org (localhost [127.0.0.1]) by mails.dpdk.org (Postfix) with ESMTP id 338AE400D5; Sat, 19 Jul 2025 19:36:44 +0200 (CEST) Received: from mail-il1-f228.google.com (mail-il1-f228.google.com [209.85.166.228]) by mails.dpdk.org (Postfix) with ESMTP id 7B9B5400D5 for ; Sat, 19 Jul 2025 19:36:42 +0200 (CEST) Received: by mail-il1-f228.google.com with SMTP id e9e14a558f8ab-3e28058c18cso31792275ab.0 for ; Sat, 19 Jul 2025 10:36:42 -0700 (PDT) DKIM-Signature: v=1; a=rsa-sha256; c=relaxed/relaxed; d=iol.unh.edu; s=unh-iol; t=1752946602; x=1753551402; darn=dpdk.org; h=references:in-reply-to:cc:to:from:subject:message-id:date:from:to :cc:subject:date:message-id:reply-to; bh=daQFtSOQ9KoaeIo938SRk7/hb+hPEeVZb46tG/pGcVM=; b=KB1ABX5nliY3b8Y97SmBm1qx38lEcXJ66nM+Y3SjAC3hDVLZuF7wuTkJNVOfmbY+FT u9pceMNVDmeMl8C4IT85VdgTJbi1MjOAPj8zYri6+07KxXToy+2jH+mG6NtXhlHNX/68 LurFPr1AO8vLStRuRLxeFrtasxKBww1Vktkwk= X-Google-DKIM-Signature: v=1; a=rsa-sha256; c=relaxed/relaxed; d=1e100.net; s=20230601; t=1752946602; x=1753551402; h=references:in-reply-to:cc:to:from:subject:message-id:date :x-gm-message-state:from:to:cc:subject:date:message-id:reply-to; bh=daQFtSOQ9KoaeIo938SRk7/hb+hPEeVZb46tG/pGcVM=; b=bJWzj/NHRWKNX9Hm7dmwhRukCBwC440VSMk5kIhkFexu0TSaOEdrn2wNa09T6IaVN1 w89RuxVzVPS11nhYR4lDGzbo13l+fCckv8KC/v5lgYJCaPaRS4s8lCZlCCVf4U9Clel/ 9b1O5VPNJuFMlpk+KOywAQwo0A3TIGkezyDvsExJ5aY51DjBLjZlcSHLfQ43fzEaiWQH iVT05DGFUrzcC+M0YipIw1JMu2suxTuth8/7+WgBeoB9PLufO8wSa9sMP4ELszOXNfif SOBaft9dUL/gDJBQKESkoK0gc27bug4+dsodrvBWe9Cq+NybHF/iWyKa+zFi76y7EX0R NE5A== X-Gm-Message-State: AOJu0Yymg3dzozOjgMv+df152KI4DB7dzwXobz+dLzrSJWk5oJNCijXZ vwg7tmKDrVD8ekcJR8iN34XNEa8b+ygRJdCABrCqcdHZm+eJr2zwCQUSLs3CzwzljrzHPBc5FBN 7divUL0BuNfk3IbNYayNCJb65ETsHgsL7LXjjGxOgsfqRfMX7YCzppV5PfAm4 X-Gm-Gg: ASbGncv9m6TJqqfCyfoIDzk2txL6sdhxWLqQGs51Atxzt8xnEHAPUF1XYYhNFuplZsW MIM+2qVXlt/Ol3zog/qe62l9XiEzs965Iq9LgG8VZFY4M42xevHUYHFKsBzoXrxGgmMNkgIbIBY qyMwMO3iMBpLtWpamfJKGFWg8b3XdzA4koFB0S1I3DizErJtHcBHt+1jqc7mUZqF04EKgANeMS3 NBtQ0rJb5niQHstQ/81Yyb11KGQyxkQMkgxMO5Jpt1lA9SLODUhI6uZqXIj+MwnFipBNDY7NeGF OndsSJxCs1R9IhLWjJjjh5fJ6Gw38C98qGozttnyfch6nOHIWA== X-Google-Smtp-Source: AGHT+IHL8RBp7QYp5HTQy6m+kcBcSlOWfvJ4UwMe53ZFsj/DTfVAZxsmi88bdy53Lgz2diHQunCfOiTGRmh4 X-Received: by 2002:a05:6e02:1985:b0:3d6:cbad:235c with SMTP id e9e14a558f8ab-3e282d88fe3mr152905655ab.6.1752946601823; Sat, 19 Jul 2025 10:36:41 -0700 (PDT) Received: from postal.iol.unh.edu (postal.iol.unh.edu. [2606:4100:3880:1234::84]) by smtp-relay.gmail.com with ESMTPS id 8926c6da1cb9f-5084c7b105csm92567173.16.2025.07.19.10.36.41 (version=TLS1_2 cipher=ECDHE-ECDSA-AES128-GCM-SHA256 bits=128/128); Sat, 19 Jul 2025 10:36:41 -0700 (PDT) X-Relaying-Domain: iol.unh.edu Date: Sat, 19 Jul 2025 10:36:41 -0700 (PDT) Message-ID: <687bd7a9.050a0220.1fd315.3686SMTPIN_ADDED_MISSING@mx.google.com> Received: from [172.21.0.2] (unknown [172.18.0.240]) by postal.iol.unh.edu (Postfix) with ESMTP id 620B76051830; Sat, 19 Jul 2025 13:36:41 -0400 (EDT) Subject: |SUCCESS| pw155366 [PATCH] [v2] mailmap: add new email to DPDK From: dpdklab@iol.unh.edu To: Test Report Cc: dpdk-test-reports@iol.unh.edu In-Reply-To: <20250719042158.39269-1-pravin.pathak.dev@gmail.com> References: <20250719042158.39269-1-pravin.pathak.dev@gmail.com> Content-Type: text/plain X-BeenThere: test-report@dpdk.org X-Mailman-Version: 2.1.29 Precedence: list List-Id: automatic DPDK test reports List-Unsubscribe: , List-Archive: List-Post: List-Help: List-Subscribe: , Errors-To: test-report-bounces@dpdk.org Test-Label: iol-unit-arm64-testing Test-Status: SUCCESS http://dpdk.org/patch/155366 _Testing PASS_ Submitter: Pravin Pathak Date: Saturday, July 19 2025 04:21:58 DPDK git baseline: Repo:dpdk Branch: master CommitID:f6e3473724e7ce31103fa0ecad62b282ec8e7090 155366 --> testing pass Upstream job id: Generic-Unit-Test-DPDK#356523 Test environment and result as below: +------------------------------+--------------+---------------------------+------------------------------+----------------+ | Environment | lpm_autotest | cryptodev_sw_zuc_autotest | cryptodev_sw_snow3g_autotest | dpdk_unit_test | +==============================+==============+===========================+==============================+================+ | Ubuntu 20.04 | PASS | SKIPPED | SKIPPED | PASS | +------------------------------+--------------+---------------------------+------------------------------+----------------+ | Debian 12 (arm) | SKIPPED | PASS | PASS | SKIPPED | +------------------------------+--------------+---------------------------+------------------------------+----------------+ | CentOS Stream 10 | SKIPPED | SKIPPED | SKIPPED | PASS | +------------------------------+--------------+---------------------------+------------------------------+----------------+ | CentOS Stream 9 | SKIPPED | SKIPPED | SKIPPED | PASS | +------------------------------+--------------+---------------------------+------------------------------+----------------+ | Fedora Linux 40 | SKIPPED | SKIPPED | SKIPPED | PASS | +------------------------------+--------------+---------------------------+------------------------------+----------------+ | Red Hat Enterprise Linux 9.5 | SKIPPED | SKIPPED | SKIPPED | PASS | +------------------------------+--------------+---------------------------+------------------------------+----------------+ | Debian GNU/Linux 12 | SKIPPED | SKIPPED | SKIPPED | PASS | +------------------------------+--------------+---------------------------+------------------------------+----------------+ | Fedora Linux 41 | SKIPPED | SKIPPED | SKIPPED | PASS | +------------------------------+--------------+---------------------------+------------------------------+----------------+ | Ubuntu 24.04 | SKIPPED | SKIPPED | SKIPPED | PASS | +------------------------------+--------------+---------------------------+------------------------------+----------------+ | Ubuntu 22.04 | SKIPPED | SKIPPED | SKIPPED | PASS | +------------------------------+--------------+---------------------------+------------------------------+----------------+ Ubuntu 20.04 Kernel: 5.4 Compiler: gcc gcc (Ubuntu 9.4.0-1ubuntu1~20.04.2) 9.4.0 Debian 12 (arm) Kernel: Depends on container host Compiler: gcc (Debian 12.2.0-14) 12.2.0 CentOS Stream 10 Kernel: 5.4 Compiler: gcc gcc (GCC) 14.2.1 20250110 (Red Hat 14.2.1-8) CentOS Stream 9 Kernel: 5.4 Compiler: gcc gcc (GCC) 11.5.0 20240719 (Red Hat 11.5.0-7) Fedora Linux 40 Kernel: 5.4 Compiler: clang gcc (GCC) 14.2.1 20240912 (Red Hat 14.2.1-3) Red Hat Enterprise Linux 9.5 Kernel: 5.4 Compiler: gcc gcc (GCC) 11.5.0 20240719 (Red Hat 11.5.0-2) Debian GNU/Linux 12 Kernel: 5.4 Compiler: gcc gcc (Debian 12.2.0-14+deb12u1) 12.2.0 Fedora Linux 41 Kernel: 5.4 Compiler: clang gcc (GCC) 14.3.1 20250523 (Red Hat 14.3.1-1) Ubuntu 24.04 Kernel: 5.4 Compiler: gcc gcc (Ubuntu 13.3.0-6ubuntu2~24.04) 13.3.0 Ubuntu 22.04 Kernel: 5.4 Compiler: gcc gcc (Ubuntu 11.4.0-1ubuntu1~22.04) 11.4.0 To view detailed results, visit: https://lab.dpdk.org/results/dashboard/patchsets/33696/ UNH-IOL DPDK Community Lab To manage your email subscriptions, visit: https://lab.dpdk.org/results/dashboard/preferences/subscriptions/