From mboxrd@z Thu Jan 1 00:00:00 1970 Return-Path: Received: from mails.dpdk.org (mails.dpdk.org [217.70.189.124]) by inbox.dpdk.org (Postfix) with ESMTP id 42C2346BBA for ; Sat, 19 Jul 2025 19:47:57 +0200 (CEST) Received: from mails.dpdk.org (localhost [127.0.0.1]) by mails.dpdk.org (Postfix) with ESMTP id 1C351400D5; Sat, 19 Jul 2025 19:47:57 +0200 (CEST) Received: from mail-io1-f100.google.com (mail-io1-f100.google.com [209.85.166.100]) by mails.dpdk.org (Postfix) with ESMTP id 66802400D5 for ; Sat, 19 Jul 2025 19:47:55 +0200 (CEST) Received: by mail-io1-f100.google.com with SMTP id ca18e2360f4ac-879399faac9so255222639f.3 for ; Sat, 19 Jul 2025 10:47:55 -0700 (PDT) DKIM-Signature: v=1; a=rsa-sha256; c=relaxed/relaxed; d=iol.unh.edu; s=unh-iol; t=1752947274; x=1753552074; darn=dpdk.org; h=references:in-reply-to:cc:to:from:subject:message-id:date:from:to :cc:subject:date:message-id:reply-to; bh=MBUDHBHmsGZXnZQtLosSbaX46Ng7OmhynKK10cAmYBg=; b=ETi/j9RupfU4oZZ1Z6aq78Y7OxqeiXSDk5qjhfnjiZjCir+nFXVqqEVQHx/L6DVOY3 D+tulza11wpwbQjL43LNSfV7/VpJM8rl/syoADF9HX3yiR4p9D7buDRTIwqMZkU5CWbZ zqeceKwZMVfbRf9w5vSotG0mUDjZhCUOo99Ls= X-Google-DKIM-Signature: v=1; a=rsa-sha256; c=relaxed/relaxed; d=1e100.net; s=20230601; t=1752947274; x=1753552074; h=references:in-reply-to:cc:to:from:subject:message-id:date :x-gm-message-state:from:to:cc:subject:date:message-id:reply-to; bh=MBUDHBHmsGZXnZQtLosSbaX46Ng7OmhynKK10cAmYBg=; b=JZouIr3Yb7T4Z2x9J7eFveUUKetAEMecDFJQfrA7NG//OT5jShr+l3RCvJJqnyP6rv DsRm9dwj7uhTCXPfnbT4Z+QTxA4Anyt360DZiiJQlD3dO7rYv++kZKTl8wRaIhZTHGul Xs4HP9HwvCkN1kS+qf+Ndruqt+l9LIAW0qSD28V97otd7a77RfWsj+rObCdxpsnEJJNR c0ifPo/LMVxL56+AQH7NOYOD1OTqXwXlIlW8IFDCoxX/I0Xg4D4Bj0Cs4zHJzjDuo9lo XJbSKqiuzjTBWh0CiDBRqbNIcInhPNP6UE2XFW+bw5SVcaYVhX0/CYk2IyIsStDaJV6c vogw== X-Gm-Message-State: AOJu0Yy7cY1PxcMFOs36lCIa1NbhXrXzt/bw5BrEE2WeaZpdP7DANb6f ZAh8yEu+jmv/Nrqccjx1wMPz2e5iJyVdQ3WjtVT45GTTsj8ZbkbyFYnzNDvvcLfP1iLZjXLAnfP ipwIChwLdStFOipUCVPoJzcIe8AJV9VuWLp7H/MpQzg4Wg9NBPZCsW8Q/Fu4+ X-Gm-Gg: ASbGnctFmmzU0dCxv/7OgWgcIJ106yAIRqabLyTrDIH/moMWsiby7x3ih3yW34aV61F oCtzGdseDmbSwlvNTYBzwp8OiAI2Fjykrxw2NdhMUAF+te/VSbY+IzwP5VqJImaU6qK1kqOifFG H5keBqWIWC+mJptx+F94h+HKWon+DsLdFwywznvHsQ/ey49sMRLS3LpYOJk5UCAuObCBNyD7qEF kRKRyI5Q5rYYQT3iUFxGVjq4MTFaqkz+iuBk10XHDoSKLoPN/CeUPN8A5sc8isrcgAOtbwNYf+U 14BbVZ8XXIBIaHuLxnUJEcfCg7S/kw1fxR+6/o88Eh4DYp6r3A== X-Google-Smtp-Source: AGHT+IG5Cvn+VWsEVJzh/WlqfDWxRbfbrU4eBvE5T5O+4oameI3pqG/rjuqIX03Z2dTTq2bohtPSQpo830xc X-Received: by 2002:a05:6602:718e:b0:86c:fea7:6b83 with SMTP id ca18e2360f4ac-879c08a4f87mr1925859139f.6.1752947274595; Sat, 19 Jul 2025 10:47:54 -0700 (PDT) Received: from postal.iol.unh.edu (postal.iol.unh.edu. [2606:4100:3880:1234::84]) by smtp-relay.gmail.com with ESMTPS id ca18e2360f4ac-87c0e7244a0sm20857639f.23.2025.07.19.10.47.54 (version=TLS1_2 cipher=ECDHE-ECDSA-AES128-GCM-SHA256 bits=128/128); Sat, 19 Jul 2025 10:47:54 -0700 (PDT) X-Relaying-Domain: iol.unh.edu Date: Sat, 19 Jul 2025 10:47:54 -0700 (PDT) Message-ID: <687bda4a.050a0220.183740.9c5eSMTPIN_ADDED_MISSING@mx.google.com> Received: from [172.21.0.3] (unknown [172.18.0.240]) by postal.iol.unh.edu (Postfix) with ESMTP id 23E0E6051830; Sat, 19 Jul 2025 13:47:54 -0400 (EDT) Subject: |SUCCESS| pw155367-155368 [PATCH] [v3,2/2] crypto/ipsec_mb: fix QP r From: dpdklab@iol.unh.edu To: Test Report Cc: dpdk-test-reports@iol.unh.edu In-Reply-To: <20250719153227.1980-2-mosesyyoung@gmail.com> References: <20250719153227.1980-2-mosesyyoung@gmail.com> Content-Type: text/plain X-BeenThere: test-report@dpdk.org X-Mailman-Version: 2.1.29 Precedence: list List-Id: automatic DPDK test reports List-Unsubscribe: , List-Archive: List-Post: List-Help: List-Subscribe: , Errors-To: test-report-bounces@dpdk.org Test-Label: iol-compile-amd64-testing Test-Status: SUCCESS http://dpdk.org/patch/155368 _Testing PASS_ Submitter: Yang Ming Date: Saturday, July 19 2025 15:32:26 DPDK git baseline: Repo:dpdk Branch: master CommitID:f6e3473724e7ce31103fa0ecad62b282ec8e7090 155367-155368 --> testing pass Upstream job id: Windows-Compile-DPDK-Native#29878 Test environment and result as below: +---------------------+-------------------+--------------------+-------------------------+ | Environment | dpdk_msvc_compile | dpdk_meson_compile | dpdk_llvm_clang_compile | +=====================+===================+====================+=========================+ | Windows Server 2022 | PASS | SKIPPED | PASS | +---------------------+-------------------+--------------------+-------------------------+ | Ubuntu 20.04 | SKIPPED | PASS | SKIPPED | +---------------------+-------------------+--------------------+-------------------------+ | FreeBSD 14.2 | SKIPPED | PASS | SKIPPED | +---------------------+-------------------+--------------------+-------------------------+ Windows Server 2022 Kernel: 10.0.20348.2031 Compiler: clang 15.0.7, gcc 14.1.0 (MinGW), and MSVC VS 19.39.33521 Ubuntu 20.04 Kernel: 4.19 Compiler: gcc gcc (Ubuntu 9.4.0-1ubuntu1~20.04.2) 9.4.0 FreeBSD 14.2 Kernel: 14.2-RELEASE Compiler: clang 18.1.6 To view detailed results, visit: https://lab.dpdk.org/results/dashboard/patchsets/33697/ UNH-IOL DPDK Community Lab To manage your email subscriptions, visit: https://lab.dpdk.org/results/dashboard/preferences/subscriptions/