From mboxrd@z Thu Jan 1 00:00:00 1970 Return-Path: Received: from mails.dpdk.org (mails.dpdk.org [217.70.189.124]) by inbox.dpdk.org (Postfix) with ESMTP id 1B43F46BBA for ; Sat, 19 Jul 2025 19:59:00 +0200 (CEST) Received: from mails.dpdk.org (localhost [127.0.0.1]) by mails.dpdk.org (Postfix) with ESMTP id 116AC400D5; Sat, 19 Jul 2025 19:59:00 +0200 (CEST) Received: from mail-pl1-f225.google.com (mail-pl1-f225.google.com [209.85.214.225]) by mails.dpdk.org (Postfix) with ESMTP id 53A44400D5 for ; Sat, 19 Jul 2025 19:58:59 +0200 (CEST) Received: by mail-pl1-f225.google.com with SMTP id d9443c01a7336-2350b1b9129so21094575ad.0 for ; Sat, 19 Jul 2025 10:58:59 -0700 (PDT) DKIM-Signature: v=1; a=rsa-sha256; c=relaxed/relaxed; d=iol.unh.edu; s=unh-iol; t=1752947938; x=1753552738; darn=dpdk.org; h=references:in-reply-to:cc:to:from:subject:message-id:date:from:to :cc:subject:date:message-id:reply-to; bh=qAWEhEW+Rwns1TC3zFJvVqwck7yBmHIue6yku3fC734=; b=dBSeOAi8oNGqVIYqsWm+nBDJRhbP/fObik8GtIlpt3HwXtcoDkbqhGXk1W2tEFbl9j TYcs+Xt0mc7Qv2ojnlaazBFvQg0FErxXq0KBEvhSJCL5tTH14TBNZvPGlWndocAcnsxl 6uBlI9qARvps5LcmmrYEAloQMesz0qlG6NxFQ= X-Google-DKIM-Signature: v=1; a=rsa-sha256; c=relaxed/relaxed; d=1e100.net; s=20230601; t=1752947938; x=1753552738; h=references:in-reply-to:cc:to:from:subject:message-id:date :x-gm-message-state:from:to:cc:subject:date:message-id:reply-to; bh=qAWEhEW+Rwns1TC3zFJvVqwck7yBmHIue6yku3fC734=; b=veGX9ibP5lon6OgUqL9oOvjNL9097yJTG69mb/svQ1Hbk5poo5AUyp7vvbhnZQ5FEP Onzadj3LhKEt2dxWBNpeqOCj6E/r7P7yvZuce2UFRICs+q1t68UdLHNSOeuTDrrxJhCL d4bfX34tfFPwFMeJwlfwS5yjo5Eg2P6kkZKsc6f5ssfSWmMBnRG1oUKpohYS413lI5jB 7QcBf2XbcoG/PmZyaHw4dPHDKi4YesAGRalsXZcVPe9H9LwaVLtx2rEJuEEKLIMBkBpX 48EqrkKoB8Fl1G3xCXg7XGyRwxcyCdP3//c9lS9MtbmmNNs2FNOWA89iFHs3yNJNqfrE cyvQ== X-Gm-Message-State: AOJu0YyicuRPGNI1ysGaq0iDyoN5sn2HAdagFzKohE2kUR252F9m8Nqj zjvvryFX9U7JNx1SSFqOnDp72+8OIDT4B4hFJG/xi6tUQJ6VM6P8XE2D6zZ7E/6BjRa1GNRB8s8 NMV/tucpmBXjjBzf1+/BKE4vGF3Emm8yzZHo1ctYhzzezPHOyW377ZyhDkF+A X-Gm-Gg: ASbGncvMSups4W7KjmwvtcoGMXtc11Uqx2ewsD2nR9y2qP/Vb9fpoeWEnvewmQE7Xrx hqD3buKYq8eE6Kx48AQ8w55rBFWZsgwWoEvNWtQQ/BBdtcroJkPEHb7cWTSIc9vQtsqWxsg9t1Q 4Rs8TsOjGWSf9Uh3ptgj0cbW5aXLtz6/yAIYdcx5FaYxNydtTM6qpl71N7hpqxnHJsbpAMFnf39 khzaJNqwd3LBYzqsh8tDMeMbqDu46hhMN/+HfsAomfJOj76phlZWM9vqQ8qWNDd6PEIATZY3XFV OQPiNUOm5F76K041A7+qO77jW+DyTNwRf5SR6j8Z/HV6apgNJw== X-Google-Smtp-Source: AGHT+IESlSN1zW9OkPiOmq95JtCyS4uVZdJJaW1yQ0TUi/FSor/9ERcDsU/8RUhVazj6AJf+7Ttw1ZI1i7mW X-Received: by 2002:a17:903:41c3:b0:234:d292:be72 with SMTP id d9443c01a7336-23e2573019amr203053965ad.26.1752947938232; Sat, 19 Jul 2025 10:58:58 -0700 (PDT) Received: from postal.iol.unh.edu (postal.iol.unh.edu. [2606:4100:3880:1234::84]) by smtp-relay.gmail.com with ESMTPS id d9443c01a7336-23e3b6b7500sm2369655ad.68.2025.07.19.10.58.58 (version=TLS1_2 cipher=ECDHE-ECDSA-AES128-GCM-SHA256 bits=128/128); Sat, 19 Jul 2025 10:58:58 -0700 (PDT) X-Relaying-Domain: iol.unh.edu Date: Sat, 19 Jul 2025 10:58:58 -0700 (PDT) Message-ID: <687bdce2.170a0220.1c33ff.b2efSMTPIN_ADDED_MISSING@mx.google.com> Received: from [172.21.0.3] (unknown [172.18.0.240]) by postal.iol.unh.edu (Postfix) with ESMTP id 788216051830; Sat, 19 Jul 2025 13:58:57 -0400 (EDT) Subject: |SUCCESS| pw155367-155368 [PATCH] [v3,2/2] crypto/ipsec_mb: fix QP r From: dpdklab@iol.unh.edu To: Test Report Cc: dpdk-test-reports@iol.unh.edu In-Reply-To: <20250719153227.1980-2-mosesyyoung@gmail.com> References: <20250719153227.1980-2-mosesyyoung@gmail.com> Content-Type: text/plain X-BeenThere: test-report@dpdk.org X-Mailman-Version: 2.1.29 Precedence: list List-Id: automatic DPDK test reports List-Unsubscribe: , List-Archive: List-Post: List-Help: List-Subscribe: , Errors-To: test-report-bounces@dpdk.org Test-Label: iol-compile-amd64-testing Test-Status: SUCCESS http://dpdk.org/patch/155368 _Testing PASS_ Submitter: Yang Ming Date: Saturday, July 19 2025 15:32:26 DPDK git baseline: Repo:dpdk Branch: master CommitID:f6e3473724e7ce31103fa0ecad62b282ec8e7090 155367-155368 --> testing pass Upstream job id: Windows-Compile-DPDK-Native#29879 Test environment and result as below: +---------------------+-------------------+--------------------+-------------------------+----------------------+ | Environment | dpdk_msvc_compile | dpdk_meson_compile | dpdk_llvm_clang_compile | dpdk_mingw64_compile | +=====================+===================+====================+=========================+======================+ | Windows Server 2022 | PASS | SKIPPED | PASS | PASS | +---------------------+-------------------+--------------------+-------------------------+----------------------+ | Ubuntu 20.04 | SKIPPED | PASS | SKIPPED | SKIPPED | +---------------------+-------------------+--------------------+-------------------------+----------------------+ | FreeBSD 14.2 | SKIPPED | PASS | SKIPPED | SKIPPED | +---------------------+-------------------+--------------------+-------------------------+----------------------+ Windows Server 2022 Kernel: 10.0.20348.2031 Compiler: clang 15.0.7, gcc 14.1.0 (MinGW), and MSVC VS 19.39.33521 Ubuntu 20.04 Kernel: 4.19 Compiler: gcc gcc (Ubuntu 9.4.0-1ubuntu1~20.04.2) 9.4.0 FreeBSD 14.2 Kernel: 14.2-RELEASE Compiler: clang 18.1.6 To view detailed results, visit: https://lab.dpdk.org/results/dashboard/patchsets/33697/ UNH-IOL DPDK Community Lab To manage your email subscriptions, visit: https://lab.dpdk.org/results/dashboard/preferences/subscriptions/