From mboxrd@z Thu Jan 1 00:00:00 1970 Return-Path: Received: from mails.dpdk.org (mails.dpdk.org [217.70.189.124]) by inbox.dpdk.org (Postfix) with ESMTP id 8AF0446BBC for ; Sat, 19 Jul 2025 20:03:58 +0200 (CEST) Received: from mails.dpdk.org (localhost [127.0.0.1]) by mails.dpdk.org (Postfix) with ESMTP id 85B27400D5; Sat, 19 Jul 2025 20:03:58 +0200 (CEST) Received: from mail-oi1-f228.google.com (mail-oi1-f228.google.com [209.85.167.228]) by mails.dpdk.org (Postfix) with ESMTP id 14AD3400D5 for ; Sat, 19 Jul 2025 20:03:58 +0200 (CEST) Received: by mail-oi1-f228.google.com with SMTP id 5614622812f47-4218ecf4565so196733b6e.0 for ; Sat, 19 Jul 2025 11:03:58 -0700 (PDT) DKIM-Signature: v=1; a=rsa-sha256; c=relaxed/relaxed; d=iol.unh.edu; s=unh-iol; t=1752948237; x=1753553037; darn=dpdk.org; h=references:in-reply-to:cc:to:from:subject:message-id:date:from:to :cc:subject:date:message-id:reply-to; bh=0senV/Vs3t91d3+Uaes1h8BqNMlpbP5UjOe9T7fAE94=; b=fa/2701iwtBMU6W3KLTHp8DKRAYmGzkjbTkZ3iWXF/8Fu+2+wuQl/Uulf2YUud/EMk KfKgQ/eaEG9usag/tiKWeLePWAExVBZ/UfAFL5Hp1d8jOzQatpbF4ZEuGzCWEjjHJnp8 emESgI+NcyKTS1MpXSpk18MKSnrXfMECi7JB8= X-Google-DKIM-Signature: v=1; a=rsa-sha256; c=relaxed/relaxed; d=1e100.net; s=20230601; t=1752948237; x=1753553037; h=references:in-reply-to:cc:to:from:subject:message-id:date :x-gm-message-state:from:to:cc:subject:date:message-id:reply-to; bh=0senV/Vs3t91d3+Uaes1h8BqNMlpbP5UjOe9T7fAE94=; b=dLNfEPB/vTha/L6D+NNbjI9P1T5khbn3XOkgm+Toi63tyOLCaYblNAKvtLzcaGOzvJ lyQOA/lEJGeyUn0SKNnqErcoIo1TLZYEei06eMmqaL7OJFw6v3CyRYXXLshr/lLXTCMs V7+Og9K9ZcFuRkSP/12uD1G5bQ8EWJyITJHVd4KruvIDjclx7hCvaHPaw1ZooGn9Y2Aa KbCiDvxfI8TKX9SHNbRe4sL5pAfwNcDMNbRF6Et0dFb1/jhXndCUQKnIx/8x80Pn4vy8 ekGTnGD08X0VHbnzgC9SRV9GtePravi5qttCd50TAcKcYXNU4/wfxMporWXRExkEdQoN ONWw== X-Gm-Message-State: AOJu0YwhQCEaAJptxJnTfI/ZV5erHsFj1Wm5XWtqSU2pRo4q8sakKmc+ 7wBJdAEvdx/pWUG3HJS+jl8LIabnlNWGPfr26TJPtsCVDAcyjC/IzeX7OOhgydiKikhO5ZsBWzL +F05E/FKF/FOtsXOqMssb996GldrpOfSO0RaY8dstLoPW X-Gm-Gg: ASbGncvmINVeS0Zek0FVDHwNjhXpnFUF7gG7vpnnJr9QKSMa7lKA0qZcqmgXQi+9D17 M58LM5uvxKY3zSBuNhAVD4pkX1BNRqKfsHgL5MYtQQUqaUeKekKmmXi3Tz4SzxBLAnRcJ1o08A/ CRYnT6HQZDilsB3N/5DORstlyg9gKGNvmC4C0HykL4rwi9Z01/e6/+lVpRm5QrNrRGrdqxzeLhG juey1xNNP80WErgRTJptQear7c6V+bUrK1mhTazFGfPJpFyw3QmMDGxgS4bdX2JIpVixBT2e+iE MCjvhgDVO/RfQkGkziUW6PDpAYRJn25gDRTEJkqbKSPfv8H1NNENyCI5dszhBjMox1xqhIt9 X-Google-Smtp-Source: AGHT+IHyuGQG9kAqC3VPvAwshtqsieUdCoW+T4iupNIlMHXNAVlnsTxllerHv7ukfirproTUujeQU4/4mYF0 X-Received: by 2002:a05:6808:2207:b0:40d:173:b1e1 with SMTP id 5614622812f47-41f5eb713cbmr5767109b6e.4.1752948237256; Sat, 19 Jul 2025 11:03:57 -0700 (PDT) Received: from postal.iol.unh.edu (postal.iol.unh.edu. [132.177.123.84]) by smtp-relay.gmail.com with ESMTPS id 006d021491bc7-615bcc6f6bcsm68986eaf.10.2025.07.19.11.03.57 (version=TLS1_2 cipher=ECDHE-ECDSA-AES128-GCM-SHA256 bits=128/128); Sat, 19 Jul 2025 11:03:57 -0700 (PDT) X-Relaying-Domain: iol.unh.edu Date: Sat, 19 Jul 2025 11:03:57 -0700 (PDT) Message-ID: <687bde0d.050a0220.45f96.3323SMTPIN_ADDED_MISSING@mx.google.com> Received: from [172.21.0.2] (unknown [172.18.0.240]) by postal.iol.unh.edu (Postfix) with ESMTP id BCEF06051830; Sat, 19 Jul 2025 14:03:56 -0400 (EDT) Subject: |SUCCESS| pw155366 [PATCH] [v2] mailmap: add new email to DPDK From: dpdklab@iol.unh.edu To: Test Report Cc: dpdk-test-reports@iol.unh.edu In-Reply-To: <20250719042158.39269-1-pravin.pathak.dev@gmail.com> References: <20250719042158.39269-1-pravin.pathak.dev@gmail.com> Content-Type: text/plain X-BeenThere: test-report@dpdk.org X-Mailman-Version: 2.1.29 Precedence: list List-Id: automatic DPDK test reports List-Unsubscribe: , List-Archive: List-Post: List-Help: List-Subscribe: , Errors-To: test-report-bounces@dpdk.org Test-Label: iol-abi-testing Test-Status: SUCCESS http://dpdk.org/patch/155366 _Testing PASS_ Submitter: Pravin Pathak Date: Saturday, July 19 2025 04:21:58 DPDK git baseline: Repo:dpdk Branch: master CommitID:f6e3473724e7ce31103fa0ecad62b282ec8e7090 155366 --> testing pass Upstream job id: Generic-DPDK-Compile-ABI#134913 Test environment and result as below: +-------------------------------+----------+ | Environment | abi_test | +===============================+==========+ | CentOS Stream 9 | PASS | +-------------------------------+----------+ | CentOS Stream 10 | PASS | +-------------------------------+----------+ | Debian GNU/Linux 12 | PASS | +-------------------------------+----------+ | Fedora Linux 40 | PASS | +-------------------------------+----------+ | Fedora Linux 41 | PASS | +-------------------------------+----------+ | Red Hat Enterprise Linux 8.10 | PASS | +-------------------------------+----------+ | openSUSE Leap 15.6 | PASS | +-------------------------------+----------+ | Red Hat Enterprise Linux 9.5 | PASS | +-------------------------------+----------+ | Ubuntu 24.04 | PASS | +-------------------------------+----------+ | Ubuntu 22.04 | PASS | +-------------------------------+----------+ CentOS Stream 9 Kernel: 5.15 Compiler: gcc gcc (GCC) 11.5.0 20240719 (Red Hat 11.5.0-7) CentOS Stream 10 Kernel: 5.15 Compiler: gcc gcc (GCC) 14.2.1 20250110 (Red Hat 14.2.1-8) Debian GNU/Linux 12 Kernel: 5.15 Compiler: gcc gcc (Debian 12.2.0-14+deb12u1) 12.2.0 Fedora Linux 40 Kernel: 5.15 Compiler: clang gcc (GCC) 14.2.1 20240912 (Red Hat 14.2.1-3) Fedora Linux 41 Kernel: 5.15 Compiler: gcc gcc (GCC) 14.3.1 20250523 (Red Hat 14.3.1-1) Red Hat Enterprise Linux 8.10 Kernel: 5.15 Compiler: gcc gcc (GCC) 8.5.0 20210514 (Red Hat 8.5.0-22) openSUSE Leap 15.6 Kernel: 5.15 Compiler: gcc gcc (SUSE Linux) 7.5.0 Red Hat Enterprise Linux 9.5 Kernel: 5.15 Compiler: gcc gcc (GCC) 11.5.0 20240719 (Red Hat 11.5.0-2) Ubuntu 24.04 Kernel: 5.15 Compiler: gcc gcc (Ubuntu 13.3.0-6ubuntu2~24.04) 13.3.0 Ubuntu 22.04 Kernel: 5.15 Compiler: gcc gcc (Ubuntu 11.4.0-1ubuntu1~22.04) 11.4.0 To view detailed results, visit: https://lab.dpdk.org/results/dashboard/patchsets/33696/ UNH-IOL DPDK Community Lab To manage your email subscriptions, visit: https://lab.dpdk.org/results/dashboard/preferences/subscriptions/