From mboxrd@z Thu Jan 1 00:00:00 1970 Return-Path: Received: from mails.dpdk.org (mails.dpdk.org [217.70.189.124]) by inbox.dpdk.org (Postfix) with ESMTP id A01FA46BBC for ; Sat, 19 Jul 2025 20:04:22 +0200 (CEST) Received: from mails.dpdk.org (localhost [127.0.0.1]) by mails.dpdk.org (Postfix) with ESMTP id 9B50B400D5; Sat, 19 Jul 2025 20:04:22 +0200 (CEST) Received: from mail-qt1-f226.google.com (mail-qt1-f226.google.com [209.85.160.226]) by mails.dpdk.org (Postfix) with ESMTP id 170B9400D5 for ; Sat, 19 Jul 2025 20:04:22 +0200 (CEST) Received: by mail-qt1-f226.google.com with SMTP id d75a77b69052e-4ab5953f5dcso35058891cf.0 for ; Sat, 19 Jul 2025 11:04:22 -0700 (PDT) DKIM-Signature: v=1; a=rsa-sha256; c=relaxed/relaxed; d=iol.unh.edu; s=unh-iol; t=1752948261; x=1753553061; darn=dpdk.org; h=references:in-reply-to:cc:to:from:subject:message-id:date:from:to :cc:subject:date:message-id:reply-to; bh=eDLAXZEm8rx/EOqBfJWrq8ali0jheqn0GTU5nnIMG14=; b=BtUCy++uf9a5f02O9/gpLVKQnP5N+dPGVp0tLNTnB5fEayFk+m4sOi1rZM5qXRz9UE XaK7fiLXx3KpYgltkSTMo//P7Mfl7cX3azTgFzDLTI5fbbpczI3+uBq2mGgMRoJk07LW 8+MS+dh3z1H3mmKX0ZUJc5wKfxoNgCsZBaqzM= X-Google-DKIM-Signature: v=1; a=rsa-sha256; c=relaxed/relaxed; d=1e100.net; s=20230601; t=1752948261; x=1753553061; h=references:in-reply-to:cc:to:from:subject:message-id:date :x-gm-message-state:from:to:cc:subject:date:message-id:reply-to; bh=eDLAXZEm8rx/EOqBfJWrq8ali0jheqn0GTU5nnIMG14=; b=JZvD6lRZjn9Y0pjKhUCGc0NS9tMdi8+wCxDtC8JtSQ6zib2HC2K8DbBIZv6WDiWMKz Qzg/tTO1YeYD4rlDvJhTcC0igGxUw+wGT7P+Glg/Ri2LZ4vuQEOf7W4D6y1+/onWKs7W IArMF58C0QZmsUbBoj0jf243/SuKzzRFdX8NflkpgHeR1j35IY3eoqcs0JmxhnnrDD9H x8FWWKr+T22/nA1qmyGEQrCbrrOxfl/kNAo4IU6gt5u5vbqkla8vibGE8NAKUsfW5JHP lywDTuKP/Nm/Xt/arSUbYdEbDfws9m032Cm1Yj4X23/9/GJ+goHFrxoYRIr7/m3mtDli Bhiw== X-Gm-Message-State: AOJu0YzaWAZStQsRxiyiknfIEJy75ssW+bQDfUqFRlbDmp84wbKGbOhH 9iHX0TeKe2be8CIvqrtj/CKYAQWd9J04MNkskkxKEg0zmXTR2OjmWan3XYxjIL132ZViqTKbKOC o6ojaAw17Dzz3HDzUtEXSsooO7zw6XK4xvzRCN/v4m7i43Ojb+/NShx+O+E54 X-Gm-Gg: ASbGncu5+tmFJ7q71tBq38u7ZU2YQigY4548QD2W4xkF9JCRwQ8wrV8t/1lpoiOkYwy ZzehaNy9KQ/bYZlg9ETuOl2jpiF6Hkp49VzWFgzIT4fvUaucOilEnpm/ulrMVJTEqOJt1zYjmMi q9eVpKYZG0KzXYIYFTUCBpHqPh+QzbcJISe7T3R6pDIFuVb4EGWQ2INAax8+iRL97t0QhdVOE42 tE819fU4WVWz44QwBnjtZynwp2v3jNAT9jOH85pZ1EJFF4GkmKeHGoJec/h8SvhDPQBc5V8Dp7y TpMtvhIevQ3iKIz36SzdfxX2ooZrRhR4Y0s3MBgtKPphKNNP+Q== X-Google-Smtp-Source: AGHT+IEhOotlx2cJ8/7H6r1Tacvc+1hpX9DYtXMcRgmBtVAK7gF+WXlnexOliq5dnctWv7ns8VauqOOwIgnL X-Received: by 2002:a05:622a:1b1b:b0:4ab:41f8:979c with SMTP id d75a77b69052e-4ab93c5188fmr281159821cf.3.1752948261359; Sat, 19 Jul 2025 11:04:21 -0700 (PDT) Received: from postal.iol.unh.edu (postal.iol.unh.edu. [2606:4100:3880:1234::84]) by smtp-relay.gmail.com with ESMTPS id d75a77b69052e-4abb4a4000dsm1928191cf.17.2025.07.19.11.04.21 (version=TLS1_2 cipher=ECDHE-ECDSA-AES128-GCM-SHA256 bits=128/128); Sat, 19 Jul 2025 11:04:21 -0700 (PDT) X-Relaying-Domain: iol.unh.edu Date: Sat, 19 Jul 2025 11:04:21 -0700 (PDT) Message-ID: <687bde25.050a0220.3e63f.90faSMTPIN_ADDED_MISSING@mx.google.com> Received: from [172.21.0.2] (unknown [172.18.0.240]) by postal.iol.unh.edu (Postfix) with ESMTP id 1FDD66051830; Sat, 19 Jul 2025 14:04:21 -0400 (EDT) Subject: |SUCCESS| pw155366 [PATCH] [v2] mailmap: add new email to DPDK From: dpdklab@iol.unh.edu To: Test Report Cc: dpdk-test-reports@iol.unh.edu In-Reply-To: <20250719042158.39269-1-pravin.pathak.dev@gmail.com> References: <20250719042158.39269-1-pravin.pathak.dev@gmail.com> Content-Type: text/plain X-BeenThere: test-report@dpdk.org X-Mailman-Version: 2.1.29 Precedence: list List-Id: automatic DPDK test reports List-Unsubscribe: , List-Archive: List-Post: List-Help: List-Subscribe: , Errors-To: test-report-bounces@dpdk.org Test-Label: iol-abi-testing Test-Status: SUCCESS http://dpdk.org/patch/155366 _Testing PASS_ Submitter: Pravin Pathak Date: Saturday, July 19 2025 04:21:58 DPDK git baseline: Repo:dpdk Branch: master CommitID:f6e3473724e7ce31103fa0ecad62b282ec8e7090 155366 --> testing pass Upstream job id: Generic-DPDK-Compile-ABI#134919 Test environment and result as below: +-------------------------------+----------+ | Environment | abi_test | +===============================+==========+ | CentOS Stream 9 | PASS | +-------------------------------+----------+ | CentOS Stream 10 | PASS | +-------------------------------+----------+ | Debian GNU/Linux 12 | PASS | +-------------------------------+----------+ | Fedora Linux 40 | PASS | +-------------------------------+----------+ | Fedora Linux 41 | PASS | +-------------------------------+----------+ | Red Hat Enterprise Linux 8.10 | PASS | +-------------------------------+----------+ | openSUSE Leap 15.6 | PASS | +-------------------------------+----------+ | Red Hat Enterprise Linux 9.5 | PASS | +-------------------------------+----------+ | Ubuntu 24.04 | PASS | +-------------------------------+----------+ | Ubuntu 22.04 | PASS | +-------------------------------+----------+ CentOS Stream 9 Kernel: 5.15 Compiler: gcc gcc (GCC) 11.5.0 20240719 (Red Hat 11.5.0-7) CentOS Stream 10 Kernel: 5.15 Compiler: gcc gcc (GCC) 14.2.1 20250110 (Red Hat 14.2.1-8) Debian GNU/Linux 12 Kernel: 5.15 Compiler: gcc gcc (Debian 12.2.0-14+deb12u1) 12.2.0 Fedora Linux 40 Kernel: 5.15 Compiler: clang gcc (GCC) 14.2.1 20240912 (Red Hat 14.2.1-3) Fedora Linux 41 Kernel: 5.15 Compiler: gcc gcc (GCC) 14.3.1 20250523 (Red Hat 14.3.1-1) Red Hat Enterprise Linux 8.10 Kernel: 5.15 Compiler: gcc gcc (GCC) 8.5.0 20210514 (Red Hat 8.5.0-22) openSUSE Leap 15.6 Kernel: 5.15 Compiler: gcc gcc (SUSE Linux) 7.5.0 Red Hat Enterprise Linux 9.5 Kernel: 5.15 Compiler: gcc gcc (GCC) 11.5.0 20240719 (Red Hat 11.5.0-2) Ubuntu 24.04 Kernel: 5.15 Compiler: gcc gcc (Ubuntu 13.3.0-6ubuntu2~24.04) 13.3.0 Ubuntu 22.04 Kernel: 5.15 Compiler: gcc gcc (Ubuntu 11.4.0-1ubuntu1~22.04) 11.4.0 To view detailed results, visit: https://lab.dpdk.org/results/dashboard/patchsets/33696/ UNH-IOL DPDK Community Lab To manage your email subscriptions, visit: https://lab.dpdk.org/results/dashboard/preferences/subscriptions/