From mboxrd@z Thu Jan 1 00:00:00 1970 Return-Path: Received: from mails.dpdk.org (mails.dpdk.org [217.70.189.124]) by inbox.dpdk.org (Postfix) with ESMTP id 688DA46BBC for ; Sat, 19 Jul 2025 20:12:17 +0200 (CEST) Received: from mails.dpdk.org (localhost [127.0.0.1]) by mails.dpdk.org (Postfix) with ESMTP id 44812400D5; Sat, 19 Jul 2025 20:12:17 +0200 (CEST) Received: from mail-qt1-f226.google.com (mail-qt1-f226.google.com [209.85.160.226]) by mails.dpdk.org (Postfix) with ESMTP id 36570400D5 for ; Sat, 19 Jul 2025 20:12:16 +0200 (CEST) Received: by mail-qt1-f226.google.com with SMTP id d75a77b69052e-4ab81d016c8so44037341cf.1 for ; Sat, 19 Jul 2025 11:12:16 -0700 (PDT) DKIM-Signature: v=1; a=rsa-sha256; c=relaxed/relaxed; d=iol.unh.edu; s=unh-iol; t=1752948735; x=1753553535; darn=dpdk.org; h=references:in-reply-to:cc:to:from:subject:message-id:date:from:to :cc:subject:date:message-id:reply-to; bh=oq6DamjSbHe4AZMAceD1YpJrbP+lun87eUZHpBcNX0c=; b=KzhNW+NyS20nhB8lI90Ye+vxHege7arDZofcfN6jBWniaPRp6XhfcSRaeP0boVBbdJ 9ZXZhbcrWCQ25T3W4CRe1+Su2NiTAVaxkKgbzu3mbPrI8+ufANeYB+F0CF85Ye4p7tzu KETOvhFRdIUzAizsMKo0dEKA+Vat74zuIaV+w= X-Google-DKIM-Signature: v=1; a=rsa-sha256; c=relaxed/relaxed; d=1e100.net; s=20230601; t=1752948735; x=1753553535; h=references:in-reply-to:cc:to:from:subject:message-id:date :x-gm-message-state:from:to:cc:subject:date:message-id:reply-to; bh=oq6DamjSbHe4AZMAceD1YpJrbP+lun87eUZHpBcNX0c=; b=KddpPvcXXH+xluBnDi81ByzP31q+BowCwrcOKSEDFMiujbGhKXR2BESPnLrywmSmMN yGnO4q187OEXgWRYd86k25Efvyi0QDpMy/JSB8032DEGD57alGySwRNkP1omZlHcbt+u HIaH7ND4CPmQt159SXbt1pZm2EzpQLNqY6WwXkJrc/BoO9nh3UC8jnu9tg2scDA7PbCz vrwqDq+HbQd5vqMggS8RMdKZjnhoveSmZUOcuqrgRwhTVusnXLROFMHF24VfwtjYbp8h F0ociiCl5VlZnDvMFZd5pCcSdmWoSDs85aEzUxKeMn5BblH4+T97J6VTmbDAtNLpVcdm oqfA== X-Gm-Message-State: AOJu0YyiFAJOM9nGQbOLPEaqMN5iDQf3VVo/0cFQy4+k8Nf1Jy4mEfja UE2pI94dfQIOCe/28vpavpAM5YKiIj6BF+SiNtRaCP2LYVIQY7VpYzuzZGsPpJK6p4xicWKY8eL MrixnBnYwS+eru3XRTuuX79F6j6g6mzRI0Bm5zuelnEpTrAycXKmyMCKGfC4t X-Gm-Gg: ASbGncuL+/RnsanrpeodlR5QalBeXpjSgW6TrUIkkvSNnxcHaIe9BCYX4N6uj8b1qbE r/ckxAy9ZrI86i2+UoxquRUmcILTituORZiuf0yRoSEXxfqMgBefPaWZ5fp6eMGhevIiHNNGtil /eaGe4uSZ+WJ2KZ/wsWGxNkSGLrwcRrgB+fRnwDaMNRNaMCKKb/ule1xZL8td1rPeORTB6t8Fow t2Xifw1AvVxNbFBYKC+GqDYxHzK4JNWXhdM60ZqOuYUB44e8YCfPBtPBaSBkhzPWgJCmmNniUyw oVyWOcjZogOGxn3KciP/hx0PFfJ9V3/6yv7CFzVWC6uu4SZXmQ== X-Google-Smtp-Source: AGHT+IFaPCeKuwi7uvR8S0o7wL0xJ+zCDkb9CN9Gun+pFnDWLBazWNB8Bmb5wU2cxRLRd/JEWLAekXQyYaV+ X-Received: by 2002:a05:6214:4409:b0:705:19a2:e257 with SMTP id 6a1803df08f44-70519a2e2cdmr101942326d6.11.1752948735513; Sat, 19 Jul 2025 11:12:15 -0700 (PDT) Received: from postal.iol.unh.edu (postal.iol.unh.edu. [2606:4100:3880:1234::84]) by smtp-relay.gmail.com with ESMTPS id 6a1803df08f44-7051bcce89asm2191526d6.39.2025.07.19.11.12.15 (version=TLS1_2 cipher=ECDHE-ECDSA-AES128-GCM-SHA256 bits=128/128); Sat, 19 Jul 2025 11:12:15 -0700 (PDT) X-Relaying-Domain: iol.unh.edu Date: Sat, 19 Jul 2025 11:12:15 -0700 (PDT) Message-ID: <687bdfff.d40a0220.2f9d16.a352SMTPIN_ADDED_MISSING@mx.google.com> Received: from [172.21.0.2] (unknown [172.18.0.240]) by postal.iol.unh.edu (Postfix) with ESMTP id 4361A6051830; Sat, 19 Jul 2025 14:12:15 -0400 (EDT) Subject: |SUCCESS| pw155365 [PATCH] [v1] mailmap: add new email to DPDK From: dpdklab@iol.unh.edu To: Test Report Cc: dpdk-test-reports@iol.unh.edu In-Reply-To: <20250719041909.39192-1-pravin.pathak.dev@gmail.com> References: <20250719041909.39192-1-pravin.pathak.dev@gmail.com> Content-Type: text/plain X-BeenThere: test-report@dpdk.org X-Mailman-Version: 2.1.29 Precedence: list List-Id: automatic DPDK test reports List-Unsubscribe: , List-Archive: List-Post: List-Help: List-Subscribe: , Errors-To: test-report-bounces@dpdk.org Test-Label: iol-unit-amd64-testing Test-Status: SUCCESS http://dpdk.org/patch/155365 _Testing PASS_ Submitter: Pravin Pathak Date: Saturday, July 19 2025 04:19:09 DPDK git baseline: Repo:dpdk Branch: master CommitID:f6e3473724e7ce31103fa0ecad62b282ec8e7090 155365 --> testing pass Upstream job id: Generic-Unit-Test-DPDK#356540 Test environment and result as below: +-------------------------------+----------------+ | Environment | dpdk_unit_test | +===============================+================+ | Fedora Linux 41 | PASS | +-------------------------------+----------------+ | CentOS Stream 9 | PASS | +-------------------------------+----------------+ | Fedora Linux 40 | PASS | +-------------------------------+----------------+ | Red Hat Enterprise Linux 8.10 | PASS | +-------------------------------+----------------+ | CentOS Stream 10 | PASS | +-------------------------------+----------------+ | Ubuntu 20.04 | PASS | +-------------------------------+----------------+ | Ubuntu 22.04 | PASS | +-------------------------------+----------------+ | Ubuntu 24.04 | PASS | +-------------------------------+----------------+ | Debian GNU/Linux 12 | PASS | +-------------------------------+----------------+ | Red Hat Enterprise Linux 9.5 | PASS | +-------------------------------+----------------+ | Windows Server 2022 | PASS | +-------------------------------+----------------+ Fedora Linux 41 Kernel: 5.15 Compiler: clang gcc (GCC) 14.3.1 20250523 (Red Hat 14.3.1-1) CentOS Stream 9 Kernel: 5.15 Compiler: gcc gcc (GCC) 11.5.0 20240719 (Red Hat 11.5.0-7) Fedora Linux 40 Kernel: 5.15 Compiler: gcc gcc (GCC) 14.2.1 20240912 (Red Hat 14.2.1-3) Red Hat Enterprise Linux 8.10 Kernel: 5.15 Compiler: gcc gcc (GCC) 8.5.0 20210514 (Red Hat 8.5.0-22) CentOS Stream 10 Kernel: 5.15 Compiler: gcc gcc (GCC) 14.2.1 20250110 (Red Hat 14.2.1-8) Ubuntu 20.04 Kernel: 5.15 Compiler: gcc gcc (Ubuntu 9.4.0-1ubuntu1~20.04.2) 9.4.0 Ubuntu 22.04 Kernel: 5.15 Compiler: gcc gcc (Ubuntu 11.4.0-1ubuntu1~22.04) 11.4.0 Ubuntu 24.04 Kernel: 5.15 Compiler: gcc gcc (Ubuntu 13.3.0-6ubuntu2~24.04) 13.3.0 Debian GNU/Linux 12 Kernel: 5.15 Compiler: gcc gcc (Debian 12.2.0-14+deb12u1) 12.2.0 Red Hat Enterprise Linux 9.5 Kernel: 5.15 Compiler: gcc gcc (GCC) 11.5.0 20240719 (Red Hat 11.5.0-2) Windows Server 2022 Kernel: 10.0.20348.2031 Compiler: clang 15.0.7, gcc 14.1.0 (MinGW), and MSVC VS 19.39.33521 To view detailed results, visit: https://lab.dpdk.org/results/dashboard/patchsets/33695/ UNH-IOL DPDK Community Lab To manage your email subscriptions, visit: https://lab.dpdk.org/results/dashboard/preferences/subscriptions/