From mboxrd@z Thu Jan 1 00:00:00 1970 Return-Path: Received: from mails.dpdk.org (mails.dpdk.org [217.70.189.124]) by inbox.dpdk.org (Postfix) with ESMTP id C00E446BBC for ; Sat, 19 Jul 2025 20:42:03 +0200 (CEST) Received: from mails.dpdk.org (localhost [127.0.0.1]) by mails.dpdk.org (Postfix) with ESMTP id 996DA400D5; Sat, 19 Jul 2025 20:42:03 +0200 (CEST) Received: from mail-il1-f228.google.com (mail-il1-f228.google.com [209.85.166.228]) by mails.dpdk.org (Postfix) with ESMTP id D665D400D5 for ; Sat, 19 Jul 2025 20:42:01 +0200 (CEST) Received: by mail-il1-f228.google.com with SMTP id e9e14a558f8ab-3e28be470f1so14208705ab.0 for ; Sat, 19 Jul 2025 11:42:01 -0700 (PDT) DKIM-Signature: v=1; a=rsa-sha256; c=relaxed/relaxed; d=iol.unh.edu; s=unh-iol; t=1752950521; x=1753555321; darn=dpdk.org; h=references:in-reply-to:cc:to:from:subject:message-id:date:from:to :cc:subject:date:message-id:reply-to; bh=bofsGLLLtUJIpCmBPjLilRfbcBW6Bn3Kh96ctUc3gIk=; b=QPs10q2hPYkbb/k+4XeLmJa4mdB+YCo0LPKYAPeShAvx6s8Byb871ZGsgb0pwuPseH aLfuR4KlOUkDF3Qu31pNUetXf3vCzwJMvaLUGFHq+P5x4d/gU8TOHZc0rT5L64IVWQY7 abxQGZJ0h3+PaJlJZA60NnAADpMa6QZiMZW00= X-Google-DKIM-Signature: v=1; a=rsa-sha256; c=relaxed/relaxed; d=1e100.net; s=20230601; t=1752950521; x=1753555321; h=references:in-reply-to:cc:to:from:subject:message-id:date :x-gm-message-state:from:to:cc:subject:date:message-id:reply-to; bh=bofsGLLLtUJIpCmBPjLilRfbcBW6Bn3Kh96ctUc3gIk=; b=k/VD7Y0mNdQVBLI8kb3a4zR8zjSNpJ7pzJ8vapJaO04BJrnMkqt5Yo4j7YO8xtHXrq EfUADe7QBq0qomZ+iAF61Y7TgrwmymL4NyiESRi2ptEVWl2W4crKW3WXeD8H3vSShzUR v0kZIactwUbdmKhtRgeAImKjX31+UatjHFO+agTZ9FG59WEwCqRPRCSZbn9g1SmD1e5a gftUf9L4jkyryiQN0MIuUqRXPjq1bmB+HjWmrzdl/xZyrb/vFp/xQByXxtCtUfhvYyzh C9WPdb4yzp2A8vnqtuRC40A+zQ6YZtF+CtMrxheYRylLHLepZ7vMUzD4q0qpBPEGQpDH lssg== X-Gm-Message-State: AOJu0YylggqB/KICKr3NdB83ChuKSXxhH+WhbRhIJcoCDXvTtCmZv2TQ UZSYCMKS9AtvtBZjQ5JNqAuh6NF8fLrtDV9KZ8iYjk+GXcUrxdeyAZtpxbmN4KdG9A5R0QCjSrl dcXUpnMiqbRnPspXa6yokJjRnnsrH+vwuVfkr0N097Pv4 X-Gm-Gg: ASbGncs6ljt+P4zD0eOks7Gc/havY/s3n31TCjCTdUoHqbinMnc9ExVpfvbWCgQ51YI /jcjZbD4bq7duKSoRleCB5bonzHxdNerUfDP6MtShEQ28jcKDvX7Wf5jM/OaSEpqdatVvi8N0ao +KgMEHBFzWtEFcH5I40lVk1KMVESc8/2syt2tQIZ4Y7HRTFKY9PzUlNT2MJ5an0Psqd9+kKHy2B TQu+V2IwYO/6OOVcm/0SHkr6Df88MRSfs6gvKtinJFB7OVs22Dxs6Oe/8wH/uD53oqq1ZnP2iVY OPtKw54x9USiYFLx6S04GwhiiC5s4u9j881OHj6SAe9JrQk94hPJBdaNg0vTsbvQWxPE//j2 X-Google-Smtp-Source: AGHT+IHKD6qCCTIHeTTPp0rcuGgu4VGkDFXhRFBvKerr/Lj+85bVOM7I39uLQp1VdAHOCS1DAK2/wr62tobO X-Received: by 2002:a05:6e02:f50:b0:3e1:433e:2605 with SMTP id e9e14a558f8ab-3e295a5a36fmr60591465ab.9.1752950520947; Sat, 19 Jul 2025 11:42:00 -0700 (PDT) Received: from postal.iol.unh.edu (postal.iol.unh.edu. [132.177.123.84]) by smtp-relay.gmail.com with ESMTPS id e9e14a558f8ab-3e298354454sm2649215ab.36.2025.07.19.11.42.00 (version=TLS1_2 cipher=ECDHE-ECDSA-AES128-GCM-SHA256 bits=128/128); Sat, 19 Jul 2025 11:42:00 -0700 (PDT) X-Relaying-Domain: iol.unh.edu Date: Sat, 19 Jul 2025 11:42:00 -0700 (PDT) Message-ID: <687be6f8.050a0220.335395.ca13SMTPIN_ADDED_MISSING@mx.google.com> Received: from [172.21.0.2] (unknown [172.18.0.240]) by postal.iol.unh.edu (Postfix) with ESMTP id 7E9B96051830; Sat, 19 Jul 2025 14:42:00 -0400 (EDT) Subject: |SUCCESS| pw155366 [PATCH] [v2] mailmap: add new email to DPDK From: dpdklab@iol.unh.edu To: Test Report Cc: dpdk-test-reports@iol.unh.edu In-Reply-To: <20250719042158.39269-1-pravin.pathak.dev@gmail.com> References: <20250719042158.39269-1-pravin.pathak.dev@gmail.com> Content-Type: text/plain X-BeenThere: test-report@dpdk.org X-Mailman-Version: 2.1.29 Precedence: list List-Id: automatic DPDK test reports List-Unsubscribe: , List-Archive: List-Post: List-Help: List-Subscribe: , Errors-To: test-report-bounces@dpdk.org Test-Label: iol-compile-amd64-testing Test-Status: SUCCESS http://dpdk.org/patch/155366 _Testing PASS_ Submitter: Pravin Pathak Date: Saturday, July 19 2025 04:21:58 DPDK git baseline: Repo:dpdk Branch: master CommitID:f6e3473724e7ce31103fa0ecad62b282ec8e7090 155366 --> testing pass Upstream job id: Generic-DPDK-Compile-Meson#410082 Test environment and result as below: +-------------------------------+--------------------+-------------------+------------------+-------------------------+-------------------+----------------------+ | Environment | dpdk_meson_compile | dpdk_compile_spdk | dpdk_compile_ovs | dpdk_llvm_clang_compile | dpdk_msvc_compile | dpdk_mingw64_compile | +===============================+====================+===================+==================+=========================+===================+======================+ | CentOS Stream 9 | PASS | PASS | SKIPPED | SKIPPED | SKIPPED | SKIPPED | +-------------------------------+--------------------+-------------------+------------------+-------------------------+-------------------+----------------------+ | CentOS Stream 10 | PASS | SKIPPED | SKIPPED | SKIPPED | SKIPPED | SKIPPED | +-------------------------------+--------------------+-------------------+------------------+-------------------------+-------------------+----------------------+ | Debian GNU/Linux 12 | PASS | PASS | SKIPPED | SKIPPED | SKIPPED | SKIPPED | +-------------------------------+--------------------+-------------------+------------------+-------------------------+-------------------+----------------------+ | Fedora Linux 40 | PASS | PASS | SKIPPED | SKIPPED | SKIPPED | SKIPPED | +-------------------------------+--------------------+-------------------+------------------+-------------------------+-------------------+----------------------+ | Fedora Linux 41 | PASS | PASS | PASS | SKIPPED | SKIPPED | SKIPPED | +-------------------------------+--------------------+-------------------+------------------+-------------------------+-------------------+----------------------+ | Red Hat Enterprise Linux 8.10 | PASS | SKIPPED | SKIPPED | SKIPPED | SKIPPED | SKIPPED | +-------------------------------+--------------------+-------------------+------------------+-------------------------+-------------------+----------------------+ | Ubuntu 20.04 | PASS | SKIPPED | SKIPPED | SKIPPED | SKIPPED | SKIPPED | +-------------------------------+--------------------+-------------------+------------------+-------------------------+-------------------+----------------------+ | Red Hat Enterprise Linux 9.5 | PASS | SKIPPED | SKIPPED | SKIPPED | SKIPPED | SKIPPED | +-------------------------------+--------------------+-------------------+------------------+-------------------------+-------------------+----------------------+ | Ubuntu 24.04 | PASS | PASS | PASS | SKIPPED | SKIPPED | SKIPPED | +-------------------------------+--------------------+-------------------+------------------+-------------------------+-------------------+----------------------+ | Ubuntu 22.04 | PASS | PASS | SKIPPED | SKIPPED | SKIPPED | SKIPPED | +-------------------------------+--------------------+-------------------+------------------+-------------------------+-------------------+----------------------+ | Alpine Linux 3.22.0 | PASS | SKIPPED | SKIPPED | SKIPPED | SKIPPED | SKIPPED | +-------------------------------+--------------------+-------------------+------------------+-------------------------+-------------------+----------------------+ | FreeBSD 14.2 | PASS | SKIPPED | SKIPPED | SKIPPED | SKIPPED | SKIPPED | +-------------------------------+--------------------+-------------------+------------------+-------------------------+-------------------+----------------------+ | openSUSE Leap 15.6 | PASS | SKIPPED | SKIPPED | SKIPPED | SKIPPED | SKIPPED | +-------------------------------+--------------------+-------------------+------------------+-------------------------+-------------------+----------------------+ | Windows Server 2022 | SKIPPED | SKIPPED | SKIPPED | PASS | PASS | PASS | +-------------------------------+--------------------+-------------------+------------------+-------------------------+-------------------+----------------------+ CentOS Stream 9 Kernel: 5.15 Compiler: gcc gcc (GCC) 11.5.0 20240719 (Red Hat 11.5.0-7) CentOS Stream 10 Kernel: 5.15 Compiler: gcc gcc (GCC) 14.2.1 20250110 (Red Hat 14.2.1-8) Debian GNU/Linux 12 Kernel: 5.15 Compiler: gcc gcc (Debian 12.2.0-14+deb12u1) 12.2.0 Fedora Linux 40 Kernel: 5.15 Compiler: clang gcc (GCC) 14.2.1 20240912 (Red Hat 14.2.1-3) Fedora Linux 41 Kernel: 5.15 Compiler: gcc gcc (GCC) 14.3.1 20250523 (Red Hat 14.3.1-1) Red Hat Enterprise Linux 8.10 Kernel: 5.15 Compiler: gcc gcc (GCC) 8.5.0 20210514 (Red Hat 8.5.0-22) Ubuntu 20.04 Kernel: 5.15 Compiler: gcc gcc (Ubuntu 9.4.0-1ubuntu1~20.04.2) 9.4.0 Red Hat Enterprise Linux 9.5 Kernel: 5.15 Compiler: gcc gcc (GCC) 11.5.0 20240719 (Red Hat 11.5.0-2) Ubuntu 24.04 Kernel: 5.15 Compiler: gcc gcc (Ubuntu 13.3.0-6ubuntu2~24.04) 13.3.0 Ubuntu 22.04 Kernel: 5.15 Compiler: gcc gcc (Ubuntu 11.4.0-1ubuntu1~22.04) 11.4.0 Alpine Linux 3.22.0 Kernel: 5.15 Compiler: gcc gcc (Alpine 14.2.0) 14.2.0 FreeBSD 14.2 Kernel: 14.2-RELEASE Compiler: clang 18.1.6 openSUSE Leap 15.6 Kernel: 5.15 Compiler: gcc gcc (SUSE Linux) 7.5.0 Windows Server 2022 Kernel: 10.0.20348.2031 Compiler: clang 15.0.7, gcc 14.1.0 (MinGW), and MSVC VS 19.39.33521 To view detailed results, visit: https://lab.dpdk.org/results/dashboard/patchsets/33696/ UNH-IOL DPDK Community Lab To manage your email subscriptions, visit: https://lab.dpdk.org/results/dashboard/preferences/subscriptions/