From mboxrd@z Thu Jan 1 00:00:00 1970 Return-Path: Received: from mails.dpdk.org (mails.dpdk.org [217.70.189.124]) by inbox.dpdk.org (Postfix) with ESMTP id CD21146BBC for ; Sat, 19 Jul 2025 20:43:39 +0200 (CEST) Received: from mails.dpdk.org (localhost [127.0.0.1]) by mails.dpdk.org (Postfix) with ESMTP id C69DB400D5; Sat, 19 Jul 2025 20:43:39 +0200 (CEST) Received: from mail-il1-f226.google.com (mail-il1-f226.google.com [209.85.166.226]) by mails.dpdk.org (Postfix) with ESMTP id EC21A400D5 for ; Sat, 19 Jul 2025 20:43:37 +0200 (CEST) Received: by mail-il1-f226.google.com with SMTP id e9e14a558f8ab-3e2a3873132so9610225ab.2 for ; Sat, 19 Jul 2025 11:43:37 -0700 (PDT) DKIM-Signature: v=1; a=rsa-sha256; c=relaxed/relaxed; d=iol.unh.edu; s=unh-iol; t=1752950617; x=1753555417; darn=dpdk.org; h=references:in-reply-to:cc:to:from:subject:message-id:date:from:to :cc:subject:date:message-id:reply-to; bh=cCDi/WyeuO4/L81H9saY7zsXje6KW1TUzypnmAgNS84=; b=DgdQvRNAufsC0pVxweX2hN/W+3TtqfW/UDEWIi3jzOklqu+9+cImMT/veig/eu3/G3 fYdEUssET84VSY+2uGoimo73Mw0X43rACreSVCOZSw6xPltCAj1ki2tEjo9YU3R/foDE p1UIKjOXC1btC+bvcyGwVRt2EhN77qz3JNcuA= X-Google-DKIM-Signature: v=1; a=rsa-sha256; c=relaxed/relaxed; d=1e100.net; s=20230601; t=1752950617; x=1753555417; h=references:in-reply-to:cc:to:from:subject:message-id:date :x-gm-message-state:from:to:cc:subject:date:message-id:reply-to; bh=cCDi/WyeuO4/L81H9saY7zsXje6KW1TUzypnmAgNS84=; b=GVhqVweEOSX+zsqkiMSS18GN4n7xWTjwcY6QlqFv3RdE8wMq1ccxPf46mJ+Nbcfc1p T+B+j5qF+VnD/sWysT6MOAPOiTFdFgt86rw5xGeX6h0j3+o0BJibysSj3zbIfrzDr6kY IFeHqcNLuU6hwK+QNswP8Ew9RBHdle7Ivw/lCZ3gvzhGXrLHx3ogT3VvH1qqFLOa+EoK wBcy4KERsIk908tHP1C33khptLhBfmhpeNTYGSvRF/dLV6s4wzPP+iR1TkNtgGDH0Vz+ vWBPTwIzO0XpZK2pINZBu6BtRJ0kxjNnq+/f7lLiE8UO3dyDvx3B1VO0gcNM8XwvCwXV ExkA== X-Gm-Message-State: AOJu0YxQN1XX57uIhcERmDPeW3P7nDm/ejh+ZPilJXJScnYMJg+zwXYV nRhRH4L/JTC6qHc4/xZx6BNUNkCA8HjpnIJ16QWF4wCgmUI67U+QhsDjWo8UkJVgxStWDPfHOOh +PzHrAo6wxCT+oOfBQjxk4Ec7Gzbsj51eYqqniXZVBAQ7 X-Gm-Gg: ASbGncsjKKly53bXdlfLj1eDMKITj/C64qJN2bSjGd6tdSj+OZx2peOWyRC4lfd7CfE lrh4NbZcGCcTF9uJ60p4tHu1kAkntZsyiuqq1/m4fhGtdJhTL9LblzwHIHv2qjpMMXGKfQUf5yc 26TTXpCx+brEUOfvuvQ/OGOrO4+66WKBPg12y293HNBB2ofZA6P7BaNYteoUgqCaPH83G2o/FSi 8ibaQOdK6kyNa82U76Gni8HGCT8A1GRaxL1cfuTK1QXbNFyc7p59qInTM/rP53BLRW+U5M1PWm4 HVnVXCMHvJfZNfvJx5ncUHQLsXoaANMOfd+g7m8ESftGQ8iv/uUJ7jJqlJgDB6y/TaMt0SVZ X-Google-Smtp-Source: AGHT+IHL2jnUwSaehZZwRdJ360M8+ZjJl0Yoymwg6ZNPurjR1MG2bU/8p7abuXuEty/ubDrmR8l1RjHKo0mH X-Received: by 2002:a05:6e02:2486:b0:3e2:8b05:c4ee with SMTP id e9e14a558f8ab-3e28b05c714mr125378085ab.8.1752950617226; Sat, 19 Jul 2025 11:43:37 -0700 (PDT) Received: from postal.iol.unh.edu (postal.iol.unh.edu. [132.177.123.84]) by smtp-relay.gmail.com with ESMTPS id e9e14a558f8ab-3e298353f5asm2642665ab.39.2025.07.19.11.43.37 (version=TLS1_2 cipher=ECDHE-ECDSA-AES128-GCM-SHA256 bits=128/128); Sat, 19 Jul 2025 11:43:37 -0700 (PDT) X-Relaying-Domain: iol.unh.edu Date: Sat, 19 Jul 2025 11:43:37 -0700 (PDT) Message-ID: <687be759.050a0220.34eca3.c8d7SMTPIN_ADDED_MISSING@mx.google.com> Received: from [172.21.0.5] (unknown [172.18.0.240]) by postal.iol.unh.edu (Postfix) with ESMTP id BBEFF6051830; Sat, 19 Jul 2025 14:43:36 -0400 (EDT) Subject: |SUCCESS| pw155365 [PATCH] [v1] mailmap: add new email to DPDK From: dpdklab@iol.unh.edu To: Test Report Cc: dpdk-test-reports@iol.unh.edu In-Reply-To: <20250719041909.39192-1-pravin.pathak.dev@gmail.com> References: <20250719041909.39192-1-pravin.pathak.dev@gmail.com> Content-Type: text/plain X-BeenThere: test-report@dpdk.org X-Mailman-Version: 2.1.29 Precedence: list List-Id: automatic DPDK test reports List-Unsubscribe: , List-Archive: List-Post: List-Help: List-Subscribe: , Errors-To: test-report-bounces@dpdk.org Test-Label: iol-unit-arm64-testing Test-Status: SUCCESS http://dpdk.org/patch/155365 _Testing PASS_ Submitter: Pravin Pathak Date: Saturday, July 19 2025 04:19:09 DPDK git baseline: Repo:dpdk Branch: master CommitID:f6e3473724e7ce31103fa0ecad62b282ec8e7090 155365 --> testing pass Upstream job id: Generic-Unit-Test-DPDK#356545 Test environment and result as below: +------------------------------+---------------------------+--------------+------------------------------+----------------+ | Environment | cryptodev_sw_zuc_autotest | lpm_autotest | cryptodev_sw_snow3g_autotest | dpdk_unit_test | +==============================+===========================+==============+==============================+================+ | Debian 12 (arm) | PASS | SKIPPED | PASS | SKIPPED | +------------------------------+---------------------------+--------------+------------------------------+----------------+ | Ubuntu 20.04 | SKIPPED | PASS | SKIPPED | PASS | +------------------------------+---------------------------+--------------+------------------------------+----------------+ | Red Hat Enterprise Linux 9.5 | SKIPPED | SKIPPED | SKIPPED | PASS | +------------------------------+---------------------------+--------------+------------------------------+----------------+ | CentOS Stream 9 | SKIPPED | SKIPPED | SKIPPED | PASS | +------------------------------+---------------------------+--------------+------------------------------+----------------+ | Ubuntu 24.04 | SKIPPED | SKIPPED | SKIPPED | PASS | +------------------------------+---------------------------+--------------+------------------------------+----------------+ | Fedora Linux 41 | SKIPPED | SKIPPED | SKIPPED | PASS | +------------------------------+---------------------------+--------------+------------------------------+----------------+ | Fedora Linux 40 | SKIPPED | SKIPPED | SKIPPED | PASS | +------------------------------+---------------------------+--------------+------------------------------+----------------+ | CentOS Stream 10 | SKIPPED | SKIPPED | SKIPPED | PASS | +------------------------------+---------------------------+--------------+------------------------------+----------------+ | Debian GNU/Linux 12 | SKIPPED | SKIPPED | SKIPPED | PASS | +------------------------------+---------------------------+--------------+------------------------------+----------------+ | Ubuntu 22.04 | SKIPPED | SKIPPED | SKIPPED | PASS | +------------------------------+---------------------------+--------------+------------------------------+----------------+ Debian 12 (arm) Kernel: Depends on container host Compiler: gcc (Debian 12.2.0-14) 12.2.0 Ubuntu 20.04 Kernel: 5.4 Compiler: gcc gcc (Ubuntu 9.4.0-1ubuntu1~20.04.2) 9.4.0 Red Hat Enterprise Linux 9.5 Kernel: 5.4 Compiler: gcc gcc (GCC) 11.5.0 20240719 (Red Hat 11.5.0-2) CentOS Stream 9 Kernel: 5.4 Compiler: gcc gcc (GCC) 11.5.0 20240719 (Red Hat 11.5.0-7) Ubuntu 24.04 Kernel: 5.4 Compiler: gcc gcc (Ubuntu 13.3.0-6ubuntu2~24.04) 13.3.0 Fedora Linux 41 Kernel: 5.4 Compiler: clang gcc (GCC) 14.3.1 20250523 (Red Hat 14.3.1-1) Fedora Linux 40 Kernel: 5.4 Compiler: gcc gcc (GCC) 14.2.1 20240912 (Red Hat 14.2.1-3) CentOS Stream 10 Kernel: 5.4 Compiler: gcc gcc (GCC) 14.2.1 20250110 (Red Hat 14.2.1-8) Debian GNU/Linux 12 Kernel: 5.4 Compiler: gcc gcc (Debian 12.2.0-14+deb12u1) 12.2.0 Ubuntu 22.04 Kernel: 5.4 Compiler: gcc gcc (Ubuntu 11.4.0-1ubuntu1~22.04) 11.4.0 To view detailed results, visit: https://lab.dpdk.org/results/dashboard/patchsets/33695/ UNH-IOL DPDK Community Lab To manage your email subscriptions, visit: https://lab.dpdk.org/results/dashboard/preferences/subscriptions/