From mboxrd@z Thu Jan 1 00:00:00 1970 Return-Path: Received: from mails.dpdk.org (mails.dpdk.org [217.70.189.124]) by inbox.dpdk.org (Postfix) with ESMTP id 9FFEB46BBC for ; Sat, 19 Jul 2025 20:51:37 +0200 (CEST) Received: from mails.dpdk.org (localhost [127.0.0.1]) by mails.dpdk.org (Postfix) with ESMTP id 74DD0400D5; Sat, 19 Jul 2025 20:51:37 +0200 (CEST) Received: from mail-yw1-f227.google.com (mail-yw1-f227.google.com [209.85.128.227]) by mails.dpdk.org (Postfix) with ESMTP id EA9F8400D5 for ; Sat, 19 Jul 2025 20:51:35 +0200 (CEST) Received: by mail-yw1-f227.google.com with SMTP id 00721157ae682-718409593b9so33064207b3.3 for ; Sat, 19 Jul 2025 11:51:35 -0700 (PDT) DKIM-Signature: v=1; a=rsa-sha256; c=relaxed/relaxed; d=iol.unh.edu; s=unh-iol; t=1752951095; x=1753555895; darn=dpdk.org; h=references:in-reply-to:cc:to:from:subject:message-id:date:from:to :cc:subject:date:message-id:reply-to; bh=Wj4Irks/dIc05kx/MzuBhSynjucr3M/aFJvFvMVRBaE=; b=LJ/CybKQxb1wpaRvBBRXovRHwagbQLh8mvaHvV3iy6I//dHCxC82qN/d+YAHUIzhTb EaNAX0WHKMHM6kA9u///nvd75Y94LBDCDb23T6OFeI4ujyQihXQftSM4P0Fp1LzSYI2E /OeM3vswW4/LqfuJWGaLUVh9DpvNMz3ltFu/4= X-Google-DKIM-Signature: v=1; a=rsa-sha256; c=relaxed/relaxed; d=1e100.net; s=20230601; t=1752951095; x=1753555895; h=references:in-reply-to:cc:to:from:subject:message-id:date :x-gm-message-state:from:to:cc:subject:date:message-id:reply-to; bh=Wj4Irks/dIc05kx/MzuBhSynjucr3M/aFJvFvMVRBaE=; b=I3qfkW/85tx10eRM0EMtLzfiyXT5fNWMMWRTzUxL542amzekCn9hmoMIuYu71AKnwK cI0LA/lBdttfXqTwYvVb9MS5T1WSOhrvLweFFC07LC6NfaOX/ZTSYzScPD3JlTd/mtay XwsdUGizKPIylZNBLPCFQ8Qfz2ITsdyPwrx0xbMrZxy9vjdJxrOn/1pXyrMwpNFS3wVu +LtS7qBKPd9XZILEnAKjBWWuWkPZI9A4U3vW2xBoRA6X1y/FpnCXbg1xZNs1/RqkhKjY +fENdDOIQADlBAxTo59gf+3BZQ2bFkoP+dRhJNyvw5dwRhyk0GEEQSiCRS1I2A9gvIJ3 mBgw== X-Gm-Message-State: AOJu0YzunzAk17C+DMFndMphCjW60tw1N8/jamaodnpULpCvhRtb91Jb i7jr6N7xKt3Z5X102fH2xTUyrzBSbG1ONpcoFnbUwy/OKl2IGpfHb8QQDTPp0D0qYcTBiwRwR1r RgalPT3QKf4uncsyxpHYVHRt/SIYQK9Bx8Au1n1pbppie81jYR6CIaEaqSjHX X-Gm-Gg: ASbGncv3JtLHEtnyCRoCLLcK9srrholko9eJ24v7ntvHWPiOZBGnkLkINrbKkxScW58 vSxbBv9xcT3W8Cvz0xii2LZv2/umuyOokB8xARbX0dh8/qlfmVTZ38scDd+nBqhXBVW7YtappTS EA+FoLCarmAkK7ukQtzl/MEDtdHNj4UNa9BGUni+JYPgnuVF5bU225HjLJIWUTzPi6k6Q1dBhZw U1AWMRK4/7Z68bhP1LtZEXkytV69hLICu+mE/9NiEi8HcycR24gWHdXCwKrLjXjrhQPmvuy6nr4 rq6lEhG7e533BQ8jXZ4S4uRkKAbPiudELJaXwmm3cgYNoh7rxw== X-Google-Smtp-Source: AGHT+IEI02HIDC9jXskTbvBdhoJK0hk5ZF0BVq3ssM0zz1NfHh/cB20MlosPDXtzgVTqeG2ytp6JDoi95Ko3 X-Received: by 2002:a05:690c:3341:b0:710:ee42:5c37 with SMTP id 00721157ae682-719521daf74mr96385497b3.17.1752951094774; Sat, 19 Jul 2025 11:51:34 -0700 (PDT) Received: from postal.iol.unh.edu (postal.iol.unh.edu. [2606:4100:3880:1234::84]) by smtp-relay.gmail.com with ESMTPS id 00721157ae682-7195335e51asm1111357b3.53.2025.07.19.11.51.34 (version=TLS1_2 cipher=ECDHE-ECDSA-AES128-GCM-SHA256 bits=128/128); Sat, 19 Jul 2025 11:51:34 -0700 (PDT) X-Relaying-Domain: iol.unh.edu Date: Sat, 19 Jul 2025 11:51:34 -0700 (PDT) Message-ID: <687be936.050a0220.29c9d3.489bSMTPIN_ADDED_MISSING@mx.google.com> Received: from [172.21.0.3] (unknown [172.18.0.240]) by postal.iol.unh.edu (Postfix) with ESMTP id 718276051830; Sat, 19 Jul 2025 14:51:34 -0400 (EDT) Subject: |SUCCESS| pw155365 [PATCH] [v1] mailmap: add new email to DPDK From: dpdklab@iol.unh.edu To: Test Report Cc: dpdk-test-reports@iol.unh.edu In-Reply-To: <20250719041909.39192-1-pravin.pathak.dev@gmail.com> References: <20250719041909.39192-1-pravin.pathak.dev@gmail.com> Content-Type: text/plain X-BeenThere: test-report@dpdk.org X-Mailman-Version: 2.1.29 Precedence: list List-Id: automatic DPDK test reports List-Unsubscribe: , List-Archive: List-Post: List-Help: List-Subscribe: , Errors-To: test-report-bounces@dpdk.org Test-Label: iol-abi-testing Test-Status: SUCCESS http://dpdk.org/patch/155365 _Testing PASS_ Submitter: Pravin Pathak Date: Saturday, July 19 2025 04:19:09 DPDK git baseline: Repo:dpdk Branch: master CommitID:f6e3473724e7ce31103fa0ecad62b282ec8e7090 155365 --> testing pass Upstream job id: Generic-DPDK-Compile-ABI#134925 Test environment and result as below: +-------------------------------+----------+ | Environment | abi_test | +===============================+==========+ | CentOS Stream 10 | PASS | +-------------------------------+----------+ | CentOS Stream 9 | PASS | +-------------------------------+----------+ | Fedora Linux 40 | PASS | +-------------------------------+----------+ | Fedora Linux 41 | PASS | +-------------------------------+----------+ | Debian GNU/Linux 12 | PASS | +-------------------------------+----------+ | Red Hat Enterprise Linux 9.5 | PASS | +-------------------------------+----------+ | openSUSE Leap 15.6 | PASS | +-------------------------------+----------+ | Red Hat Enterprise Linux 8.10 | PASS | +-------------------------------+----------+ | Ubuntu 24.04 | PASS | +-------------------------------+----------+ | Ubuntu 22.04 | PASS | +-------------------------------+----------+ CentOS Stream 10 Kernel: 5.15 Compiler: gcc gcc (GCC) 14.2.1 20250110 (Red Hat 14.2.1-8) CentOS Stream 9 Kernel: 5.15 Compiler: gcc gcc (GCC) 11.5.0 20240719 (Red Hat 11.5.0-7) Fedora Linux 40 Kernel: 5.15 Compiler: gcc gcc (GCC) 14.2.1 20240912 (Red Hat 14.2.1-3) Fedora Linux 41 Kernel: 5.15 Compiler: gcc gcc (GCC) 14.3.1 20250523 (Red Hat 14.3.1-1) Debian GNU/Linux 12 Kernel: 5.15 Compiler: gcc gcc (Debian 12.2.0-14+deb12u1) 12.2.0 Red Hat Enterprise Linux 9.5 Kernel: 5.15 Compiler: gcc gcc (GCC) 11.5.0 20240719 (Red Hat 11.5.0-2) openSUSE Leap 15.6 Kernel: 5.15 Compiler: gcc gcc (SUSE Linux) 7.5.0 Red Hat Enterprise Linux 8.10 Kernel: 5.15 Compiler: gcc gcc (GCC) 8.5.0 20210514 (Red Hat 8.5.0-22) Ubuntu 24.04 Kernel: 5.15 Compiler: gcc gcc (Ubuntu 13.3.0-6ubuntu2~24.04) 13.3.0 Ubuntu 22.04 Kernel: 5.15 Compiler: gcc gcc (Ubuntu 11.4.0-1ubuntu1~22.04) 11.4.0 To view detailed results, visit: https://lab.dpdk.org/results/dashboard/patchsets/33695/ UNH-IOL DPDK Community Lab To manage your email subscriptions, visit: https://lab.dpdk.org/results/dashboard/preferences/subscriptions/