From mboxrd@z Thu Jan 1 00:00:00 1970 Return-Path: Received: from mails.dpdk.org (mails.dpdk.org [217.70.189.124]) by inbox.dpdk.org (Postfix) with ESMTP id 8666846BBC for ; Sat, 19 Jul 2025 20:51:41 +0200 (CEST) Received: from mails.dpdk.org (localhost [127.0.0.1]) by mails.dpdk.org (Postfix) with ESMTP id 81652400D5; Sat, 19 Jul 2025 20:51:41 +0200 (CEST) Received: from mail-yw1-f228.google.com (mail-yw1-f228.google.com [209.85.128.228]) by mails.dpdk.org (Postfix) with ESMTP id 42438400D5 for ; Sat, 19 Jul 2025 20:51:40 +0200 (CEST) Received: by mail-yw1-f228.google.com with SMTP id 00721157ae682-710fd2d0372so31774357b3.0 for ; Sat, 19 Jul 2025 11:51:40 -0700 (PDT) DKIM-Signature: v=1; a=rsa-sha256; c=relaxed/relaxed; d=iol.unh.edu; s=unh-iol; t=1752951099; x=1753555899; darn=dpdk.org; h=references:in-reply-to:cc:to:from:subject:message-id:date:from:to :cc:subject:date:message-id:reply-to; bh=fa6zhTPWQKpCVWGZsYJIoIsNyuQKBaRPlUAkAL5KMWE=; b=YbSogN5nRMIpAjytv/WIqBYHWFAaeXXCLl1a1HYkmleGATrVQsPkTB/zqVZHvtjiLS t2jMzQb410lC7bPFXIJQARN1VIhc5waA4gV6MD04ZtH5A+uOA0KgQFlWcFwm9VOtIBAx 6+306/Bo/16KIOrVnyPtaeQeGl7AE1nAs1Jq8= X-Google-DKIM-Signature: v=1; a=rsa-sha256; c=relaxed/relaxed; d=1e100.net; s=20230601; t=1752951099; x=1753555899; h=references:in-reply-to:cc:to:from:subject:message-id:date :x-gm-message-state:from:to:cc:subject:date:message-id:reply-to; bh=fa6zhTPWQKpCVWGZsYJIoIsNyuQKBaRPlUAkAL5KMWE=; b=vIYV8yMdskVMNl5J3ku4mVbtgvjY9DeMWKlyW/211w9YmgvbwlpPOnsXmCF8GkRCRG BboRlv2nhhtxO2YYV93C8HujTt47/8tCIf+AyJG2dnegBU1XPc3kdF8FgmeQM/xlZsMd VZMoDnO9UAdoIFKTDdqxM+NaAepeMB0Q9Euo0PYs1xK4j8GcEZ9uz6jNIYrVAgltAGRa N/EwVlJTj7eRwqWm2eecjgexM2F7hRL6N5LtgarpmXrooXlSb90TK+3jtMc0Kqrdva8H FxTcWSrTpmROUr5JSHhvqW+fOX6VE3tfBocUHhRC0CxEUxVDIMSt89gWxoi4C72pbKg0 b1tA== X-Gm-Message-State: AOJu0YwA7rqQipfdxK9e6BVcnaaWqlnhQv4aZQgjT867J18okNOYF1M+ lG5UI3DEXPsKEIR+UCBiPFqpaPDugxQI16TScpgj4sMaB9Nx3wr/jy9nKuDQJhCH9BHwiYICoOi /XyX0Lyj6O9n6KLYnFENOe3EVGVcFqk+2j0gRT/8Lt+FBcJo3vY7S9Kx0IBbh X-Gm-Gg: ASbGncsiBbxTNPloxxiRa/o6NOW/CSPLnlmOjJFRjchzW32o7Z86l747Z6xwNvCOXwX uKQCbMP24nHAuPpOaF+QnKqCxKW0Gd3Uxv2jonLQH4eXAEuwRZOfn1uJbGN5nIkzFzLlxS1otPu hAwUVwlF4HcGkv18M4UyYOwsJ+vzJj3LiDlYPUn8GTTesL5iF9vo7UQTGIHrbCzecT4dyIHUUQK tk7igvKchqbILbMxF52BPGpIL3eUpTMz3i2LdS6vFmjdwKORvcfOQG/P5n+aU7MMEGX0NlXtaEQ JypBqmdNMJi18+qexynC9ICs6bk17ZBycJxFquDFbbiv2yhppA== X-Google-Smtp-Source: AGHT+IH4ajaMwmvmzK91RzPdhBqF47PtHu8QvidQAVgeOGav4TiOMHnzcwNh5VJwnLi9t7EjQUXiMol2AKCz X-Received: by 2002:a05:690c:22c1:b0:712:cc11:b02 with SMTP id 00721157ae682-7194cd4274dmr117030847b3.4.1752951099619; Sat, 19 Jul 2025 11:51:39 -0700 (PDT) Received: from postal.iol.unh.edu (postal.iol.unh.edu. [2606:4100:3880:1234::84]) by smtp-relay.gmail.com with ESMTPS id 00721157ae682-7195330d340sm2259707b3.43.2025.07.19.11.51.39 (version=TLS1_2 cipher=ECDHE-ECDSA-AES128-GCM-SHA256 bits=128/128); Sat, 19 Jul 2025 11:51:39 -0700 (PDT) X-Relaying-Domain: iol.unh.edu Date: Sat, 19 Jul 2025 11:51:39 -0700 (PDT) Message-ID: <687be93b.050a0220.1c3099.b24fSMTPIN_ADDED_MISSING@mx.google.com> Received: from [172.21.0.2] (unknown [172.18.0.240]) by postal.iol.unh.edu (Postfix) with ESMTP id 4FBF76051830; Sat, 19 Jul 2025 14:51:39 -0400 (EDT) Subject: |SUCCESS| pw155365 [PATCH] [v1] mailmap: add new email to DPDK From: dpdklab@iol.unh.edu To: Test Report Cc: dpdk-test-reports@iol.unh.edu In-Reply-To: <20250719041909.39192-1-pravin.pathak.dev@gmail.com> References: <20250719041909.39192-1-pravin.pathak.dev@gmail.com> Content-Type: text/plain X-BeenThere: test-report@dpdk.org X-Mailman-Version: 2.1.29 Precedence: list List-Id: automatic DPDK test reports List-Unsubscribe: , List-Archive: List-Post: List-Help: List-Subscribe: , Errors-To: test-report-bounces@dpdk.org Test-Label: iol-abi-testing Test-Status: SUCCESS http://dpdk.org/patch/155365 _Testing PASS_ Submitter: Pravin Pathak Date: Saturday, July 19 2025 04:19:09 DPDK git baseline: Repo:dpdk Branch: master CommitID:f6e3473724e7ce31103fa0ecad62b282ec8e7090 155365 --> testing pass Upstream job id: Generic-DPDK-Compile-ABI#134926 Test environment and result as below: +-------------------------------+----------+ | Environment | abi_test | +===============================+==========+ | CentOS Stream 10 | PASS | +-------------------------------+----------+ | CentOS Stream 9 | PASS | +-------------------------------+----------+ | Fedora Linux 40 | PASS | +-------------------------------+----------+ | Fedora Linux 41 | PASS | +-------------------------------+----------+ | Debian GNU/Linux 12 | PASS | +-------------------------------+----------+ | Red Hat Enterprise Linux 9.5 | PASS | +-------------------------------+----------+ | openSUSE Leap 15.6 | PASS | +-------------------------------+----------+ | Red Hat Enterprise Linux 8.10 | PASS | +-------------------------------+----------+ | Ubuntu 24.04 | PASS | +-------------------------------+----------+ | Ubuntu 22.04 | PASS | +-------------------------------+----------+ CentOS Stream 10 Kernel: 5.15 Compiler: gcc gcc (GCC) 14.2.1 20250110 (Red Hat 14.2.1-8) CentOS Stream 9 Kernel: 5.15 Compiler: gcc gcc (GCC) 11.5.0 20240719 (Red Hat 11.5.0-7) Fedora Linux 40 Kernel: 5.15 Compiler: gcc gcc (GCC) 14.2.1 20240912 (Red Hat 14.2.1-3) Fedora Linux 41 Kernel: 5.15 Compiler: gcc gcc (GCC) 14.3.1 20250523 (Red Hat 14.3.1-1) Debian GNU/Linux 12 Kernel: 5.15 Compiler: gcc gcc (Debian 12.2.0-14+deb12u1) 12.2.0 Red Hat Enterprise Linux 9.5 Kernel: 5.15 Compiler: gcc gcc (GCC) 11.5.0 20240719 (Red Hat 11.5.0-2) openSUSE Leap 15.6 Kernel: 5.15 Compiler: gcc gcc (SUSE Linux) 7.5.0 Red Hat Enterprise Linux 8.10 Kernel: 5.15 Compiler: gcc gcc (GCC) 8.5.0 20210514 (Red Hat 8.5.0-22) Ubuntu 24.04 Kernel: 5.15 Compiler: gcc gcc (Ubuntu 13.3.0-6ubuntu2~24.04) 13.3.0 Ubuntu 22.04 Kernel: 5.15 Compiler: gcc gcc (Ubuntu 11.4.0-1ubuntu1~22.04) 11.4.0 To view detailed results, visit: https://lab.dpdk.org/results/dashboard/patchsets/33695/ UNH-IOL DPDK Community Lab To manage your email subscriptions, visit: https://lab.dpdk.org/results/dashboard/preferences/subscriptions/