From mboxrd@z Thu Jan 1 00:00:00 1970 Return-Path: Received: from mails.dpdk.org (mails.dpdk.org [217.70.189.124]) by inbox.dpdk.org (Postfix) with ESMTP id 133E746BBC for ; Sat, 19 Jul 2025 21:23:41 +0200 (CEST) Received: from mails.dpdk.org (localhost [127.0.0.1]) by mails.dpdk.org (Postfix) with ESMTP id E98D9400D5; Sat, 19 Jul 2025 21:23:40 +0200 (CEST) Received: from mail-yb1-f227.google.com (mail-yb1-f227.google.com [209.85.219.227]) by mails.dpdk.org (Postfix) with ESMTP id 027D8400D5 for ; Sat, 19 Jul 2025 21:23:38 +0200 (CEST) Received: by mail-yb1-f227.google.com with SMTP id 3f1490d57ef6-e8bd171826cso2847397276.3 for ; Sat, 19 Jul 2025 12:23:38 -0700 (PDT) DKIM-Signature: v=1; a=rsa-sha256; c=relaxed/relaxed; d=iol.unh.edu; s=unh-iol; t=1752953018; x=1753557818; darn=dpdk.org; h=references:in-reply-to:cc:to:from:subject:message-id:date:from:to :cc:subject:date:message-id:reply-to; bh=Jngs9aSHYIGt4loOsxm2wpW/T1ERvH/zXJQV+i/ijWI=; b=BXlqk4dxfDBu0pvS1iTJFpAL9lihTOCwOUwv4jxV778JsnDhsQCiyU9n/jCXFZFjb8 LkODaK1vkIaQfco4dd/PwA3P+qz8XknDFvseXpRNFrrt3/iBMdZzc17+2NTPaicw9h7N sieqkl+gTPwJjkDGg8XOTsz8TRg5udPY4lwm8= X-Google-DKIM-Signature: v=1; a=rsa-sha256; c=relaxed/relaxed; d=1e100.net; s=20230601; t=1752953018; x=1753557818; h=references:in-reply-to:cc:to:from:subject:message-id:date :x-gm-message-state:from:to:cc:subject:date:message-id:reply-to; bh=Jngs9aSHYIGt4loOsxm2wpW/T1ERvH/zXJQV+i/ijWI=; b=pDnHaxIO6jQtPNVIfr2/8X20Uzo5KyN/n5H2/055P0Bx/1Z41MLWE+BU+Ar/FLiBWU +/p6C2pi4RhLoAp0EitNz5Ragj0N2VWO8dinq8zDfN12zVdgvNhw71/qW7VQDOwRW0Zp PTazQb6pTNkojkl1sjkHHkR/y9n6s9vcLblqH3sr65MR3iHd9b6C+/aioQnxQsLTz8a6 e9BLmbPHCAcFeS+inzBT6NAVCV2DDKATyLmREZX5T4heCCXsL08csL9sBiIV4f73G9yS 59sbNeKph4hxNVbuQ4NEkfXgq/46zvwOT1jAjPOjSYai7b34AnOs+pJ5rW3Y0LXit2jv r3Dg== X-Gm-Message-State: AOJu0YzxA8R5+OAqA7QO6AtpDUP8Uib8NoMwb2duIpV7FiwNXKJMYynR LXfZViqqrXtQ7iyfjo3C0ge8SaHLnPNNpa1qhrjrCcWMfR+4SzecVsOThUNeDkhSXYRnhfLs1FU QXFE7qJowhLZ0Jbz9Ld5Kwblwn+2QN+x4bFisIgGhD1AhloPpXyY8SUGPVpNJ X-Gm-Gg: ASbGnct4VcbMyrUO2CiymS7A5ndT54k4QdcMu58kMYTkJRCowA/Lr/h6sbtgYGJtyfz +49WIb5g2vuuw0wW3Jg87MRnINfoMaTK6kCky2LoROxmdpHIGpLulUhlxQtvrFXs+zNkQwks8rJ AHAIAH6t4SGNkvLe3IYXebWGwpKYpe6VuOC9sX2bPk+H/ZpXgJANVsB56Uns6s6FQPAneljessA ClE0zFKwZyU2vaWmRKiIAQAOa41lQuj/9ZJZMznLvIBfVyiTz1+n7RbMmp6it++By8LR1/bJjgH SwsJhZQxbASxMOw5YSfW3dILgdvT/9/mgrRsCsWMDhCeACkFNw== X-Google-Smtp-Source: AGHT+IHIX1bj6MvdfCB33jlzejFVyjz3VG9bVlEjcbaMVOpT4xPMQK8L4otZvKvSUusW1gMp2kMiXD06L4JF X-Received: by 2002:a05:690c:7243:b0:717:bff8:4681 with SMTP id 00721157ae682-718374eb9demr211296077b3.24.1752953018212; Sat, 19 Jul 2025 12:23:38 -0700 (PDT) Received: from postal.iol.unh.edu (postal.iol.unh.edu. [2606:4100:3880:1234::84]) by smtp-relay.gmail.com with ESMTPS id 00721157ae682-71953360874sm1282317b3.55.2025.07.19.12.23.38 (version=TLS1_2 cipher=ECDHE-ECDSA-AES128-GCM-SHA256 bits=128/128); Sat, 19 Jul 2025 12:23:38 -0700 (PDT) X-Relaying-Domain: iol.unh.edu Date: Sat, 19 Jul 2025 12:23:38 -0700 (PDT) Message-ID: <687bf0ba.050a0220.3065d9.76edSMTPIN_ADDED_MISSING@mx.google.com> Received: from [172.21.0.3] (unknown [172.18.0.240]) by postal.iol.unh.edu (Postfix) with ESMTP id EB45C6051830; Sat, 19 Jul 2025 15:23:37 -0400 (EDT) Subject: |SUCCESS| pw155367-155368 [PATCH] [v3,2/2] crypto/ipsec_mb: fix QP r From: dpdklab@iol.unh.edu To: Test Report Cc: dpdk-test-reports@iol.unh.edu In-Reply-To: <20250719153227.1980-2-mosesyyoung@gmail.com> References: <20250719153227.1980-2-mosesyyoung@gmail.com> Content-Type: text/plain X-BeenThere: test-report@dpdk.org X-Mailman-Version: 2.1.29 Precedence: list List-Id: automatic DPDK test reports List-Unsubscribe: , List-Archive: List-Post: List-Help: List-Subscribe: , Errors-To: test-report-bounces@dpdk.org Test-Label: iol-unit-amd64-testing Test-Status: SUCCESS http://dpdk.org/patch/155368 _Testing PASS_ Submitter: Yang Ming Date: Saturday, July 19 2025 15:32:26 DPDK git baseline: Repo:dpdk Branch: master CommitID:f6e3473724e7ce31103fa0ecad62b282ec8e7090 155367-155368 --> testing pass Upstream job id: Generic-Unit-Test-DPDK#356578 Test environment and result as below: +-------------------------------+----------------+ | Environment | dpdk_unit_test | +===============================+================+ | Debian GNU/Linux 12 | PASS | +-------------------------------+----------------+ | CentOS Stream 9 | PASS | +-------------------------------+----------------+ | CentOS Stream 10 | PASS | +-------------------------------+----------------+ | Red Hat Enterprise Linux 9.5 | PASS | +-------------------------------+----------------+ | Fedora Linux 41 | PASS | +-------------------------------+----------------+ | Fedora Linux 40 | PASS | +-------------------------------+----------------+ | Ubuntu 22.04 | PASS | +-------------------------------+----------------+ | Ubuntu 20.04 | PASS | +-------------------------------+----------------+ | Red Hat Enterprise Linux 8.10 | PASS | +-------------------------------+----------------+ | Ubuntu 24.04 | PASS | +-------------------------------+----------------+ | Windows Server 2022 | PASS | +-------------------------------+----------------+ Debian GNU/Linux 12 Kernel: 5.15 Compiler: gcc gcc (Debian 12.2.0-14+deb12u1) 12.2.0 CentOS Stream 9 Kernel: 5.15 Compiler: gcc gcc (GCC) 11.5.0 20240719 (Red Hat 11.5.0-7) CentOS Stream 10 Kernel: 5.15 Compiler: gcc gcc (GCC) 14.2.1 20250110 (Red Hat 14.2.1-8) Red Hat Enterprise Linux 9.5 Kernel: 5.15 Compiler: gcc gcc (GCC) 11.5.0 20240719 (Red Hat 11.5.0-2) Fedora Linux 41 Kernel: 5.15 Compiler: clang gcc (GCC) 14.3.1 20250523 (Red Hat 14.3.1-1) Fedora Linux 40 Kernel: 5.15 Compiler: gcc gcc (GCC) 14.2.1 20240912 (Red Hat 14.2.1-3) Ubuntu 22.04 Kernel: 5.15 Compiler: gcc gcc (Ubuntu 11.4.0-1ubuntu1~22.04) 11.4.0 Ubuntu 20.04 Kernel: 5.15 Compiler: gcc gcc (Ubuntu 9.4.0-1ubuntu1~20.04.2) 9.4.0 Red Hat Enterprise Linux 8.10 Kernel: 5.15 Compiler: gcc gcc (GCC) 8.5.0 20210514 (Red Hat 8.5.0-22) Ubuntu 24.04 Kernel: 5.15 Compiler: gcc gcc (Ubuntu 13.3.0-6ubuntu2~24.04) 13.3.0 Windows Server 2022 Kernel: 10.0.20348.2031 Compiler: clang 15.0.7, gcc 14.1.0 (MinGW), and MSVC VS 19.39.33521 To view detailed results, visit: https://lab.dpdk.org/results/dashboard/patchsets/33697/ UNH-IOL DPDK Community Lab To manage your email subscriptions, visit: https://lab.dpdk.org/results/dashboard/preferences/subscriptions/