From mboxrd@z Thu Jan 1 00:00:00 1970 Return-Path: Received: from mails.dpdk.org (mails.dpdk.org [217.70.189.124]) by inbox.dpdk.org (Postfix) with ESMTP id 7E81546BBC for ; Sat, 19 Jul 2025 21:28:59 +0200 (CEST) Received: from mails.dpdk.org (localhost [127.0.0.1]) by mails.dpdk.org (Postfix) with ESMTP id 793EF400D5; Sat, 19 Jul 2025 21:28:59 +0200 (CEST) Received: from mail-yw1-f227.google.com (mail-yw1-f227.google.com [209.85.128.227]) by mails.dpdk.org (Postfix) with ESMTP id 60DD9400D5 for ; Sat, 19 Jul 2025 21:28:58 +0200 (CEST) Received: by mail-yw1-f227.google.com with SMTP id 00721157ae682-70f94fe1e40so46230667b3.1 for ; Sat, 19 Jul 2025 12:28:58 -0700 (PDT) DKIM-Signature: v=1; a=rsa-sha256; c=relaxed/relaxed; d=iol.unh.edu; s=unh-iol; t=1752953338; x=1753558138; darn=dpdk.org; h=references:in-reply-to:cc:to:from:subject:message-id:date:from:to :cc:subject:date:message-id:reply-to; bh=kL9hxYYOICfI5pRjvljlq8odBKnF4VRIvQzvScEPaeQ=; b=NvHpjynbISZP3Y00b/4zClODs6JPalYO2aAaozzMpR/Rqmr9Hsjt0OsmgbyiRHV+dZ 8LZEHlYYoSwkE28IMtxglFd38Imjo3ykR++6zCXLkvaA9JrPpU/33lcWTA01+bCz2Wly ErhG2Bwu9u5Ba25SGUxnLvM7wIrS6oduUQRmw= X-Google-DKIM-Signature: v=1; a=rsa-sha256; c=relaxed/relaxed; d=1e100.net; s=20230601; t=1752953338; x=1753558138; h=references:in-reply-to:cc:to:from:subject:message-id:date :x-gm-message-state:from:to:cc:subject:date:message-id:reply-to; bh=kL9hxYYOICfI5pRjvljlq8odBKnF4VRIvQzvScEPaeQ=; b=dWOSNhPF8r28mk7ZWiCif6rVpMM8V4RMT16LzC9K4YlDjlsf5ynwmT9GWZGrKqqXtA Dye2ehK8Z1TPiXqNMDRxcyNBSbODfE7oSruHu9W64QIi4hU4pCU8BXBGy6SsTBgM48Rr m5Vh7mSwmZOqcmAglDjcIGJvXImhsfJ/PoUqtJ+mf46P1U3U7vUlhnQB5gBqQOIbGb5a lgxvmqmy7x3jOI11ou92v44/BkEXH+kH2S2sWocLJmLXorokBPr31vQmE0U8wfPXEWvS UWC/iNSX6l/AaAxNRpFN7hL5urOlUMbNT31ArjkcwieSkxMkMpajMy/PcNjq5G2r0t04 mbCQ== X-Gm-Message-State: AOJu0YwP29U06uPIJQOaknMf4Zo2Kie/taYH/Fy2h1RxnQ5ELVSFJzCC IDDJzskpralJpvancMMWSVY58tZzHdFJeWNdR8EPgfIWl9vDIDif0r9YM7y7pmQrECP0kt6jdO2 qg2eXAORRzINQF91hE0V6F9tEXMnK6DU9KtaYS+RzC2B4 X-Gm-Gg: ASbGncu9nWb2xGgJcf9N1vyxnfeV+sT+gRAbxTB7X+gCKXcxtiN0Kjxb440hk/+YZN+ j98DnsK1QsA4afkkpF68dd+q1YjTyUTTdLCocSFOJOhxMHjd9i8xKxzPs49UYSLze+IwCi01qiW ofshYYBoixHdxxfg6SIzXgxkogZunGzomneXS/ODHAdjjmPnXbj8NcRpZY1x9VVDfd9ISjXvBTE DC6sVsqXmfc/jnz9h6WqWdObkgeVpddrJDIgNJ00UnkHA/+MMyMz3RAiZX4SP2RYBto7AHrY/Uu PdC2NPZ6YS9G7mmGy0aXBSyXXhWF9Ygw9BsFF/3Ob51yXujwbkB8dHSQ0jGvxKI4evyvzE8g X-Google-Smtp-Source: AGHT+IESCi34qfFf6hQgKyK9tr8RlPJ1n2tybGCf2FI3KR+UTsot/CRCJeSv3bWWC7qJdS4yBJPD6OhXtPql X-Received: by 2002:a05:690c:6908:b0:703:b47a:7312 with SMTP id 00721157ae682-7184f7f653cmr148064867b3.15.1752953337693; Sat, 19 Jul 2025 12:28:57 -0700 (PDT) Received: from postal.iol.unh.edu (postal.iol.unh.edu. [132.177.123.84]) by smtp-relay.gmail.com with ESMTPS id 00721157ae682-71953360874sm1285077b3.55.2025.07.19.12.28.57 (version=TLS1_2 cipher=ECDHE-ECDSA-AES128-GCM-SHA256 bits=128/128); Sat, 19 Jul 2025 12:28:57 -0700 (PDT) X-Relaying-Domain: iol.unh.edu Date: Sat, 19 Jul 2025 12:28:57 -0700 (PDT) Message-ID: <687bf1f9.050a0220.3065d9.772bSMTPIN_ADDED_MISSING@mx.google.com> Received: from [172.21.0.6] (unknown [172.18.0.240]) by postal.iol.unh.edu (Postfix) with ESMTP id 56B266051830; Sat, 19 Jul 2025 15:28:57 -0400 (EDT) Subject: |SUCCESS| pw155365 [PATCH] [v1] mailmap: add new email to DPDK From: dpdklab@iol.unh.edu To: Test Report Cc: dpdk-test-reports@iol.unh.edu In-Reply-To: <20250719041909.39192-1-pravin.pathak.dev@gmail.com> References: <20250719041909.39192-1-pravin.pathak.dev@gmail.com> Content-Type: text/plain X-BeenThere: test-report@dpdk.org X-Mailman-Version: 2.1.29 Precedence: list List-Id: automatic DPDK test reports List-Unsubscribe: , List-Archive: List-Post: List-Help: List-Subscribe: , Errors-To: test-report-bounces@dpdk.org Test-Label: iol-compile-amd64-testing Test-Status: SUCCESS http://dpdk.org/patch/155365 _Testing PASS_ Submitter: Pravin Pathak Date: Saturday, July 19 2025 04:19:09 DPDK git baseline: Repo:dpdk Branch: master CommitID:f6e3473724e7ce31103fa0ecad62b282ec8e7090 155365 --> testing pass Upstream job id: Generic-DPDK-Compile-Meson#410116 Test environment and result as below: +-------------------------------+--------------------+-------------------+------------------+-------------------------+-------------------+----------------------+ | Environment | dpdk_meson_compile | dpdk_compile_spdk | dpdk_compile_ovs | dpdk_llvm_clang_compile | dpdk_msvc_compile | dpdk_mingw64_compile | +===============================+====================+===================+==================+=========================+===================+======================+ | Debian GNU/Linux 12 | PASS | PASS | SKIPPED | SKIPPED | SKIPPED | SKIPPED | +-------------------------------+--------------------+-------------------+------------------+-------------------------+-------------------+----------------------+ | Fedora Linux 40 | PASS | PASS | SKIPPED | SKIPPED | SKIPPED | SKIPPED | +-------------------------------+--------------------+-------------------+------------------+-------------------------+-------------------+----------------------+ | CentOS Stream 9 | PASS | PASS | SKIPPED | SKIPPED | SKIPPED | SKIPPED | +-------------------------------+--------------------+-------------------+------------------+-------------------------+-------------------+----------------------+ | CentOS Stream 10 | PASS | SKIPPED | SKIPPED | SKIPPED | SKIPPED | SKIPPED | +-------------------------------+--------------------+-------------------+------------------+-------------------------+-------------------+----------------------+ | openSUSE Leap 15.6 | PASS | SKIPPED | SKIPPED | SKIPPED | SKIPPED | SKIPPED | +-------------------------------+--------------------+-------------------+------------------+-------------------------+-------------------+----------------------+ | Fedora Linux 41 | PASS | PASS | PASS | SKIPPED | SKIPPED | SKIPPED | +-------------------------------+--------------------+-------------------+------------------+-------------------------+-------------------+----------------------+ | FreeBSD 14.2 | PASS | SKIPPED | SKIPPED | SKIPPED | SKIPPED | SKIPPED | +-------------------------------+--------------------+-------------------+------------------+-------------------------+-------------------+----------------------+ | Red Hat Enterprise Linux 8.10 | PASS | SKIPPED | SKIPPED | SKIPPED | SKIPPED | SKIPPED | +-------------------------------+--------------------+-------------------+------------------+-------------------------+-------------------+----------------------+ | Ubuntu 22.04 | PASS | PASS | SKIPPED | SKIPPED | SKIPPED | SKIPPED | +-------------------------------+--------------------+-------------------+------------------+-------------------------+-------------------+----------------------+ | Ubuntu 20.04 | PASS | SKIPPED | SKIPPED | SKIPPED | SKIPPED | SKIPPED | +-------------------------------+--------------------+-------------------+------------------+-------------------------+-------------------+----------------------+ | Ubuntu 24.04 | PASS | PASS | PASS | SKIPPED | SKIPPED | SKIPPED | +-------------------------------+--------------------+-------------------+------------------+-------------------------+-------------------+----------------------+ | Red Hat Enterprise Linux 9.5 | PASS | SKIPPED | SKIPPED | SKIPPED | SKIPPED | SKIPPED | +-------------------------------+--------------------+-------------------+------------------+-------------------------+-------------------+----------------------+ | Alpine Linux 3.22.0 | PASS | SKIPPED | SKIPPED | SKIPPED | SKIPPED | SKIPPED | +-------------------------------+--------------------+-------------------+------------------+-------------------------+-------------------+----------------------+ | Windows Server 2022 | SKIPPED | SKIPPED | SKIPPED | PASS | PASS | PASS | +-------------------------------+--------------------+-------------------+------------------+-------------------------+-------------------+----------------------+ Debian GNU/Linux 12 Kernel: 5.15 Compiler: gcc gcc (Debian 12.2.0-14+deb12u1) 12.2.0 Fedora Linux 40 Kernel: 5.15 Compiler: gcc gcc (GCC) 14.2.1 20240912 (Red Hat 14.2.1-3) CentOS Stream 9 Kernel: 5.15 Compiler: gcc gcc (GCC) 11.5.0 20240719 (Red Hat 11.5.0-7) CentOS Stream 10 Kernel: 5.15 Compiler: gcc gcc (GCC) 14.2.1 20250110 (Red Hat 14.2.1-8) openSUSE Leap 15.6 Kernel: 5.15 Compiler: gcc gcc (SUSE Linux) 7.5.0 Fedora Linux 41 Kernel: 5.15 Compiler: clang gcc (GCC) 14.3.1 20250523 (Red Hat 14.3.1-1) FreeBSD 14.2 Kernel: 14.2-RELEASE Compiler: clang 18.1.6 Red Hat Enterprise Linux 8.10 Kernel: 5.15 Compiler: gcc gcc (GCC) 8.5.0 20210514 (Red Hat 8.5.0-22) Ubuntu 22.04 Kernel: 5.15 Compiler: gcc gcc (Ubuntu 11.4.0-1ubuntu1~22.04) 11.4.0 Ubuntu 20.04 Kernel: 4.19 Compiler: gcc gcc (Ubuntu 9.4.0-1ubuntu1~20.04.2) 9.4.0 Ubuntu 24.04 Kernel: 5.15 Compiler: gcc gcc (Ubuntu 13.3.0-6ubuntu2~24.04) 13.3.0 Red Hat Enterprise Linux 9.5 Kernel: 5.15 Compiler: gcc gcc (GCC) 11.5.0 20240719 (Red Hat 11.5.0-2) Alpine Linux 3.22.0 Kernel: 5.15 Compiler: gcc gcc (Alpine 14.2.0) 14.2.0 Windows Server 2022 Kernel: 10.0.20348.2031 Compiler: clang 15.0.7, gcc 14.1.0 (MinGW), and MSVC VS 19.39.33521 To view detailed results, visit: https://lab.dpdk.org/results/dashboard/patchsets/33695/ UNH-IOL DPDK Community Lab To manage your email subscriptions, visit: https://lab.dpdk.org/results/dashboard/preferences/subscriptions/