From mboxrd@z Thu Jan 1 00:00:00 1970 Return-Path: Received: from mails.dpdk.org (mails.dpdk.org [217.70.189.124]) by inbox.dpdk.org (Postfix) with ESMTP id 9853346BBC for ; Sat, 19 Jul 2025 21:29:29 +0200 (CEST) Received: from mails.dpdk.org (localhost [127.0.0.1]) by mails.dpdk.org (Postfix) with ESMTP id 94CE2400D5; Sat, 19 Jul 2025 21:29:29 +0200 (CEST) Received: from mail-pf1-f225.google.com (mail-pf1-f225.google.com [209.85.210.225]) by mails.dpdk.org (Postfix) with ESMTP id F16BA400D5 for ; Sat, 19 Jul 2025 21:29:27 +0200 (CEST) Received: by mail-pf1-f225.google.com with SMTP id d2e1a72fcca58-747fba9f962so2970073b3a.0 for ; Sat, 19 Jul 2025 12:29:27 -0700 (PDT) DKIM-Signature: v=1; a=rsa-sha256; c=relaxed/relaxed; d=iol.unh.edu; s=unh-iol; t=1752953367; x=1753558167; darn=dpdk.org; h=references:in-reply-to:cc:to:from:subject:message-id:date:from:to :cc:subject:date:message-id:reply-to; bh=V4q/2oCa9ae1f5y2S8AKrhjHAEytN4y/jPx9CWJCNHU=; b=Za8Sp5SOR0CoILj4GSEC4dlrQjKQqQG89SZ0Tlm+4TH9n1p+HikaRUTws9AkJdS5FT qRcsaAlqRgRZf5IiZQ29qkj+QwBiuzFlHe5RgWn4ZZ0e5GfbL9610oEZHvWjFEzG5wPH mKqJf1qH3DLnv1gokv/yF0k0mdQRSbmfVoGjs= X-Google-DKIM-Signature: v=1; a=rsa-sha256; c=relaxed/relaxed; d=1e100.net; s=20230601; t=1752953367; x=1753558167; h=references:in-reply-to:cc:to:from:subject:message-id:date :x-gm-message-state:from:to:cc:subject:date:message-id:reply-to; bh=V4q/2oCa9ae1f5y2S8AKrhjHAEytN4y/jPx9CWJCNHU=; b=v5RKLhj61WKDuGs0MYFMIk6CN2YGXKDrui1WOuZgPMVB0usZpiHNe/Ympo5VOL8/H0 UXAZrPFVcNu11fqsiXc5n6Z9ydnHYcIwrziP2+mcZzmYyh652ECsuDJJmrvhZTwRQb1g qLTemkB4TMBTIZIrndy/A0Q5kHLOh1ycDJ7t1doPnvczBcjEh96U40yzZ/4fSmxqgETk pe/8qZpQ53jX1Bz9d46CWq2cA3XmuyEZL2Zife9ltMyVumD8qAjQ9pSxUuYV50MgqZUY I+JCmLQTJwdk/jxZTOgSTePIPlqkFMu6pUP3Y7T73uiRgmGrkrlpqH1q28x3agJNTHb3 9Vag== X-Gm-Message-State: AOJu0YzRSb7gfMFTK4NbS+F4KcxHWiODtfpjUHjlakb8yNP1Oh3vyDA2 IDWhJi6kxtc4KT0u7MYoWm2oVgKumZPeKiwIeHlkZE7ao+gsi3toyS1ECDPLyGV33wgw5b/kEly d05CcTyGBAPMqSXH5S43JNE4ZbRyW7SY7Gp7ZOv3JeSnBbZ2por5yoZUK7tnP X-Gm-Gg: ASbGncvHE7IsxmAvUQbIfArm4qXiDPwkTWniCyieD0bsbbTggircqRGBQWETecZmFgI wEhJnrZy3xz7yMIXtAF4dcHAWiwvmWZ9PJ5WYiOdnjvyAt5Cb2YNv6xUb4QM0YTcNgo4Tj8RPyu unuUlsYXzpPQ72rRY0f/gNttVs/bcGUPYkC58Lh7W9qP4eHIRweymTDrEdN9H+StfxaGyPiRv8/ Eu5Vz4RHsAd1H4jRCfNxlyxoFK+xdyVxgiNtqoSu+jOIHgn0ilFoqQwkiPzjG+1fUb1bIuBhfh8 +2d2+LUfUonpUrpggmXJup342I8RhlEwaV/KyUCK8qT75xGtAA== X-Google-Smtp-Source: AGHT+IEGmEIf0Og9W5k6Lsg8RUdrq/h8WCUzWXip7K5bHyAdri8lmuLrTK2Yu/6SAu/K48G9CMw7unzaKKPg X-Received: by 2002:a05:6a21:2d4a:b0:220:2fe9:f07a with SMTP id adf61e73a8af0-2390c76485emr16312445637.6.1752953367078; Sat, 19 Jul 2025 12:29:27 -0700 (PDT) Received: from postal.iol.unh.edu (postal.iol.unh.edu. [2606:4100:3880:1234::84]) by smtp-relay.gmail.com with ESMTPS id d2e1a72fcca58-759c5b0d2casm264700b3a.0.2025.07.19.12.29.26 (version=TLS1_2 cipher=ECDHE-ECDSA-AES128-GCM-SHA256 bits=128/128); Sat, 19 Jul 2025 12:29:27 -0700 (PDT) X-Relaying-Domain: iol.unh.edu Date: Sat, 19 Jul 2025 12:29:27 -0700 (PDT) Message-ID: <687bf217.050a0220.1f946c.cf8eSMTPIN_ADDED_MISSING@mx.google.com> Received: from [172.21.0.9] (unknown [172.18.0.240]) by postal.iol.unh.edu (Postfix) with ESMTP id 45CBB6051830; Sat, 19 Jul 2025 15:29:26 -0400 (EDT) Subject: |SUCCESS| pw155365 [PATCH] [v1] mailmap: add new email to DPDK From: dpdklab@iol.unh.edu To: Test Report Cc: dpdk-test-reports@iol.unh.edu In-Reply-To: <20250719041909.39192-1-pravin.pathak.dev@gmail.com> References: <20250719041909.39192-1-pravin.pathak.dev@gmail.com> Content-Type: text/plain X-BeenThere: test-report@dpdk.org X-Mailman-Version: 2.1.29 Precedence: list List-Id: automatic DPDK test reports List-Unsubscribe: , List-Archive: List-Post: List-Help: List-Subscribe: , Errors-To: test-report-bounces@dpdk.org Test-Label: iol-compile-amd64-testing Test-Status: SUCCESS http://dpdk.org/patch/155365 _Testing PASS_ Submitter: Pravin Pathak Date: Saturday, July 19 2025 04:19:09 DPDK git baseline: Repo:dpdk Branch: master CommitID:f6e3473724e7ce31103fa0ecad62b282ec8e7090 155365 --> testing pass Upstream job id: Generic-DPDK-Compile-Meson#410112 Test environment and result as below: +-------------------------------+--------------------+-------------------+------------------+-------------------------+-------------------+----------------------+ | Environment | dpdk_meson_compile | dpdk_compile_spdk | dpdk_compile_ovs | dpdk_llvm_clang_compile | dpdk_msvc_compile | dpdk_mingw64_compile | +===============================+====================+===================+==================+=========================+===================+======================+ | Debian GNU/Linux 12 | PASS | PASS | SKIPPED | SKIPPED | SKIPPED | SKIPPED | +-------------------------------+--------------------+-------------------+------------------+-------------------------+-------------------+----------------------+ | Fedora Linux 40 | PASS | PASS | SKIPPED | SKIPPED | SKIPPED | SKIPPED | +-------------------------------+--------------------+-------------------+------------------+-------------------------+-------------------+----------------------+ | CentOS Stream 9 | PASS | PASS | SKIPPED | SKIPPED | SKIPPED | SKIPPED | +-------------------------------+--------------------+-------------------+------------------+-------------------------+-------------------+----------------------+ | CentOS Stream 10 | PASS | SKIPPED | SKIPPED | SKIPPED | SKIPPED | SKIPPED | +-------------------------------+--------------------+-------------------+------------------+-------------------------+-------------------+----------------------+ | openSUSE Leap 15.6 | PASS | SKIPPED | SKIPPED | SKIPPED | SKIPPED | SKIPPED | +-------------------------------+--------------------+-------------------+------------------+-------------------------+-------------------+----------------------+ | Fedora Linux 41 | PASS | PASS | PASS | SKIPPED | SKIPPED | SKIPPED | +-------------------------------+--------------------+-------------------+------------------+-------------------------+-------------------+----------------------+ | FreeBSD 14.2 | PASS | SKIPPED | SKIPPED | SKIPPED | SKIPPED | SKIPPED | +-------------------------------+--------------------+-------------------+------------------+-------------------------+-------------------+----------------------+ | Red Hat Enterprise Linux 8.10 | PASS | SKIPPED | SKIPPED | SKIPPED | SKIPPED | SKIPPED | +-------------------------------+--------------------+-------------------+------------------+-------------------------+-------------------+----------------------+ | Ubuntu 22.04 | PASS | PASS | SKIPPED | SKIPPED | SKIPPED | SKIPPED | +-------------------------------+--------------------+-------------------+------------------+-------------------------+-------------------+----------------------+ | Ubuntu 20.04 | PASS | SKIPPED | SKIPPED | SKIPPED | SKIPPED | SKIPPED | +-------------------------------+--------------------+-------------------+------------------+-------------------------+-------------------+----------------------+ | Ubuntu 24.04 | PASS | PASS | PASS | SKIPPED | SKIPPED | SKIPPED | +-------------------------------+--------------------+-------------------+------------------+-------------------------+-------------------+----------------------+ | Red Hat Enterprise Linux 9.5 | PASS | SKIPPED | SKIPPED | SKIPPED | SKIPPED | SKIPPED | +-------------------------------+--------------------+-------------------+------------------+-------------------------+-------------------+----------------------+ | Alpine Linux 3.22.0 | PASS | SKIPPED | SKIPPED | SKIPPED | SKIPPED | SKIPPED | +-------------------------------+--------------------+-------------------+------------------+-------------------------+-------------------+----------------------+ | Windows Server 2022 | SKIPPED | SKIPPED | SKIPPED | PASS | PASS | PASS | +-------------------------------+--------------------+-------------------+------------------+-------------------------+-------------------+----------------------+ Debian GNU/Linux 12 Kernel: 5.15 Compiler: gcc gcc (Debian 12.2.0-14+deb12u1) 12.2.0 Fedora Linux 40 Kernel: 5.15 Compiler: gcc gcc (GCC) 14.2.1 20240912 (Red Hat 14.2.1-3) CentOS Stream 9 Kernel: 5.15 Compiler: gcc gcc (GCC) 11.5.0 20240719 (Red Hat 11.5.0-7) CentOS Stream 10 Kernel: 5.15 Compiler: gcc gcc (GCC) 14.2.1 20250110 (Red Hat 14.2.1-8) openSUSE Leap 15.6 Kernel: 5.15 Compiler: gcc gcc (SUSE Linux) 7.5.0 Fedora Linux 41 Kernel: 5.15 Compiler: clang gcc (GCC) 14.3.1 20250523 (Red Hat 14.3.1-1) FreeBSD 14.2 Kernel: 14.2-RELEASE Compiler: clang 18.1.6 Red Hat Enterprise Linux 8.10 Kernel: 5.15 Compiler: gcc gcc (GCC) 8.5.0 20210514 (Red Hat 8.5.0-22) Ubuntu 22.04 Kernel: 5.15 Compiler: gcc gcc (Ubuntu 11.4.0-1ubuntu1~22.04) 11.4.0 Ubuntu 20.04 Kernel: 4.19 Compiler: gcc gcc (Ubuntu 9.4.0-1ubuntu1~20.04.2) 9.4.0 Ubuntu 24.04 Kernel: 5.15 Compiler: gcc gcc (Ubuntu 13.3.0-6ubuntu2~24.04) 13.3.0 Red Hat Enterprise Linux 9.5 Kernel: 5.15 Compiler: gcc gcc (GCC) 11.5.0 20240719 (Red Hat 11.5.0-2) Alpine Linux 3.22.0 Kernel: 5.15 Compiler: gcc gcc (Alpine 14.2.0) 14.2.0 Windows Server 2022 Kernel: 10.0.20348.2031 Compiler: clang 15.0.7, gcc 14.1.0 (MinGW), and MSVC VS 19.39.33521 To view detailed results, visit: https://lab.dpdk.org/results/dashboard/patchsets/33695/ UNH-IOL DPDK Community Lab To manage your email subscriptions, visit: https://lab.dpdk.org/results/dashboard/preferences/subscriptions/