From mboxrd@z Thu Jan 1 00:00:00 1970 Return-Path: Received: from mails.dpdk.org (mails.dpdk.org [217.70.189.124]) by inbox.dpdk.org (Postfix) with ESMTP id B413A46BBC for ; Sat, 19 Jul 2025 21:30:21 +0200 (CEST) Received: from mails.dpdk.org (localhost [127.0.0.1]) by mails.dpdk.org (Postfix) with ESMTP id AC554400D5; Sat, 19 Jul 2025 21:30:21 +0200 (CEST) Received: from mail-pj1-f98.google.com (mail-pj1-f98.google.com [209.85.216.98]) by mails.dpdk.org (Postfix) with ESMTP id 3096B400D5 for ; Sat, 19 Jul 2025 21:30:20 +0200 (CEST) Received: by mail-pj1-f98.google.com with SMTP id 98e67ed59e1d1-313a188174fso3135995a91.1 for ; Sat, 19 Jul 2025 12:30:20 -0700 (PDT) DKIM-Signature: v=1; a=rsa-sha256; c=relaxed/relaxed; d=iol.unh.edu; s=unh-iol; t=1752953419; x=1753558219; darn=dpdk.org; h=references:in-reply-to:cc:to:from:subject:message-id:date:from:to :cc:subject:date:message-id:reply-to; bh=lf+goS504JZVo1tP1PI+UKPIUIx8ubVXtIs8ivuE4qs=; b=S2CGBNYocTHBulz/mZiprtMisknsMz9TI1+8LWqreeVy0Pb76zPhgzqK0qArHKTtAf 1YSe2Gb3byZ6Wt14rsPNitoKXrktXP+QmtTJSDixVaJj38/w/FcmwWmZvDVqmHllKtL8 WQ87+lZPBVY8t+JMZObM9wXae+AALIQImzzfY= X-Google-DKIM-Signature: v=1; a=rsa-sha256; c=relaxed/relaxed; d=1e100.net; s=20230601; t=1752953419; x=1753558219; h=references:in-reply-to:cc:to:from:subject:message-id:date :x-gm-message-state:from:to:cc:subject:date:message-id:reply-to; bh=lf+goS504JZVo1tP1PI+UKPIUIx8ubVXtIs8ivuE4qs=; b=SZqMRl9gSiciOgT+N1bC7cBNdDwAFNdJ74bu1yeaG+5sIiX7WEKUPIGR0/gx4AZimJ ZuzM/Zc+yjE8Cq9iZw0jgVn4l/aLikK4B2QjA/iVBQpjT4rQ8vrQdjhPFeMpYrWJd/Yn +NlYPetq/v5iAL2hRzIow697XUzSt+WSPKlZad9TdMHTs4E3PWl5ypy8DScNnH4QBTPa n0MEhm1U8xxXHKhML9PSHKKub6LzSNx6m0kocp83ZRKBEcC2uK8P4QjEMNX4KNYpjUgx pMomSZHjLZ7kDPs5GXiB3/p6pt3mHx3XgiJPjUMywfdUKxCYL8q4MynIdhftEnqC4Q48 KTUw== X-Gm-Message-State: AOJu0Yw9OkzjOgbUdRbVyPKXr+QmLJBCwg8gmrB8E6q3nx2cX5ScXPAt zwYq8PbwBMT2fzS7/RkDkvz9ZyLmeu+bTUvL4GaLp+jcrn7t9uJh9rO0naFIz/VmQDKRY4vo081 IEuJh2OsqPfZnhqYvUqSNyyVkstowWSMRJvr0d4cCUDtHrc6Q1BBautLvKPlr X-Gm-Gg: ASbGncuRwy0uNNjQDkJszSSK7cPphGRTF63OiqRPhhdiWy+RtKgvtGZ5kDx6dD+pH+o Ay/3b09IlK7bSA2WmF63Lo/Gprem9lXuKdNSSUJ7JmuVbbaC/UD2o1cZ7d6yAXl2TuKWbldQQhA xW8/HP/425u3jQdmiPEzEkb2DWpGWePuJqxWjnSiy/EjNdPycUJrThyxaFYv9A8C4luJYcDXPrp 782HNS3gMNef/apwiQwt+UcE03Bfnep0fufbPDBdPpARVsXTta/ehfGyi04aFi8rsWIntRxUvsQ i6sDbnK4fE+/nUFUBk+nIsRb/4ZXWkkXEgscjKUCcNdpjylYqQ== X-Google-Smtp-Source: AGHT+IFs5atCFh9dFSPzA+042Do0IqCL+e7t1Q5aB9oZ55MO3kcxCeAX6G8cIwOTRImsj8WFnFrfotVRgfMi X-Received: by 2002:a17:90b:3f84:b0:2ff:4a8d:74f9 with SMTP id 98e67ed59e1d1-31caeb94318mr16731816a91.10.1752953419298; Sat, 19 Jul 2025 12:30:19 -0700 (PDT) Received: from postal.iol.unh.edu (postal.iol.unh.edu. [2606:4100:3880:1234::84]) by smtp-relay.gmail.com with ESMTPS id 41be03b00d2f7-b3f2ff92318sm280506a12.25.2025.07.19.12.30.19 (version=TLS1_2 cipher=ECDHE-ECDSA-AES128-GCM-SHA256 bits=128/128); Sat, 19 Jul 2025 12:30:19 -0700 (PDT) X-Relaying-Domain: iol.unh.edu Date: Sat, 19 Jul 2025 12:30:19 -0700 (PDT) Message-ID: <687bf24b.630a0220.e2f9c.cf4fSMTPIN_ADDED_MISSING@mx.google.com> Received: from [172.21.0.6] (unknown [172.18.0.240]) by postal.iol.unh.edu (Postfix) with ESMTP id 8C7416051830; Sat, 19 Jul 2025 15:30:18 -0400 (EDT) Subject: |SUCCESS| pw155365 [PATCH] [v1] mailmap: add new email to DPDK From: dpdklab@iol.unh.edu To: Test Report Cc: dpdk-test-reports@iol.unh.edu In-Reply-To: <20250719041909.39192-1-pravin.pathak.dev@gmail.com> References: <20250719041909.39192-1-pravin.pathak.dev@gmail.com> Content-Type: text/plain X-BeenThere: test-report@dpdk.org X-Mailman-Version: 2.1.29 Precedence: list List-Id: automatic DPDK test reports List-Unsubscribe: , List-Archive: List-Post: List-Help: List-Subscribe: , Errors-To: test-report-bounces@dpdk.org Test-Label: iol-compile-amd64-testing Test-Status: SUCCESS http://dpdk.org/patch/155365 _Testing PASS_ Submitter: Pravin Pathak Date: Saturday, July 19 2025 04:19:09 DPDK git baseline: Repo:dpdk Branch: master CommitID:f6e3473724e7ce31103fa0ecad62b282ec8e7090 155365 --> testing pass Upstream job id: Generic-DPDK-Compile-Meson#410108 Test environment and result as below: +-------------------------------+--------------------+-------------------+------------------+-------------------------+-------------------+----------------------+ | Environment | dpdk_meson_compile | dpdk_compile_spdk | dpdk_compile_ovs | dpdk_llvm_clang_compile | dpdk_msvc_compile | dpdk_mingw64_compile | +===============================+====================+===================+==================+=========================+===================+======================+ | Debian GNU/Linux 12 | PASS | PASS | SKIPPED | SKIPPED | SKIPPED | SKIPPED | +-------------------------------+--------------------+-------------------+------------------+-------------------------+-------------------+----------------------+ | Fedora Linux 40 | PASS | PASS | SKIPPED | SKIPPED | SKIPPED | SKIPPED | +-------------------------------+--------------------+-------------------+------------------+-------------------------+-------------------+----------------------+ | CentOS Stream 9 | PASS | PASS | SKIPPED | SKIPPED | SKIPPED | SKIPPED | +-------------------------------+--------------------+-------------------+------------------+-------------------------+-------------------+----------------------+ | CentOS Stream 10 | PASS | SKIPPED | SKIPPED | SKIPPED | SKIPPED | SKIPPED | +-------------------------------+--------------------+-------------------+------------------+-------------------------+-------------------+----------------------+ | openSUSE Leap 15.6 | PASS | SKIPPED | SKIPPED | SKIPPED | SKIPPED | SKIPPED | +-------------------------------+--------------------+-------------------+------------------+-------------------------+-------------------+----------------------+ | Fedora Linux 41 | PASS | PASS | PASS | SKIPPED | SKIPPED | SKIPPED | +-------------------------------+--------------------+-------------------+------------------+-------------------------+-------------------+----------------------+ | FreeBSD 14.2 | PASS | SKIPPED | SKIPPED | SKIPPED | SKIPPED | SKIPPED | +-------------------------------+--------------------+-------------------+------------------+-------------------------+-------------------+----------------------+ | Red Hat Enterprise Linux 8.10 | PASS | SKIPPED | SKIPPED | SKIPPED | SKIPPED | SKIPPED | +-------------------------------+--------------------+-------------------+------------------+-------------------------+-------------------+----------------------+ | Ubuntu 22.04 | PASS | PASS | SKIPPED | SKIPPED | SKIPPED | SKIPPED | +-------------------------------+--------------------+-------------------+------------------+-------------------------+-------------------+----------------------+ | Ubuntu 20.04 | PASS | SKIPPED | SKIPPED | SKIPPED | SKIPPED | SKIPPED | +-------------------------------+--------------------+-------------------+------------------+-------------------------+-------------------+----------------------+ | Ubuntu 24.04 | PASS | PASS | PASS | SKIPPED | SKIPPED | SKIPPED | +-------------------------------+--------------------+-------------------+------------------+-------------------------+-------------------+----------------------+ | Red Hat Enterprise Linux 9.5 | PASS | SKIPPED | SKIPPED | SKIPPED | SKIPPED | SKIPPED | +-------------------------------+--------------------+-------------------+------------------+-------------------------+-------------------+----------------------+ | Alpine Linux 3.22.0 | PASS | SKIPPED | SKIPPED | SKIPPED | SKIPPED | SKIPPED | +-------------------------------+--------------------+-------------------+------------------+-------------------------+-------------------+----------------------+ | Windows Server 2022 | SKIPPED | SKIPPED | SKIPPED | PASS | PASS | PASS | +-------------------------------+--------------------+-------------------+------------------+-------------------------+-------------------+----------------------+ Debian GNU/Linux 12 Kernel: 5.15 Compiler: gcc gcc (Debian 12.2.0-14+deb12u1) 12.2.0 Fedora Linux 40 Kernel: 5.15 Compiler: gcc gcc (GCC) 14.2.1 20240912 (Red Hat 14.2.1-3) CentOS Stream 9 Kernel: 5.15 Compiler: gcc gcc (GCC) 11.5.0 20240719 (Red Hat 11.5.0-7) CentOS Stream 10 Kernel: 5.15 Compiler: gcc gcc (GCC) 14.2.1 20250110 (Red Hat 14.2.1-8) openSUSE Leap 15.6 Kernel: 5.15 Compiler: gcc gcc (SUSE Linux) 7.5.0 Fedora Linux 41 Kernel: 5.15 Compiler: clang gcc (GCC) 14.3.1 20250523 (Red Hat 14.3.1-1) FreeBSD 14.2 Kernel: 14.2-RELEASE Compiler: clang 18.1.6 Red Hat Enterprise Linux 8.10 Kernel: 5.15 Compiler: gcc gcc (GCC) 8.5.0 20210514 (Red Hat 8.5.0-22) Ubuntu 22.04 Kernel: 5.15 Compiler: gcc gcc (Ubuntu 11.4.0-1ubuntu1~22.04) 11.4.0 Ubuntu 20.04 Kernel: 4.19 Compiler: gcc gcc (Ubuntu 9.4.0-1ubuntu1~20.04.2) 9.4.0 Ubuntu 24.04 Kernel: 5.15 Compiler: gcc gcc (Ubuntu 13.3.0-6ubuntu2~24.04) 13.3.0 Red Hat Enterprise Linux 9.5 Kernel: 5.15 Compiler: gcc gcc (GCC) 11.5.0 20240719 (Red Hat 11.5.0-2) Alpine Linux 3.22.0 Kernel: 5.15 Compiler: gcc gcc (Alpine 14.2.0) 14.2.0 Windows Server 2022 Kernel: 10.0.20348.2031 Compiler: clang 15.0.7, gcc 14.1.0 (MinGW), and MSVC VS 19.39.33521 To view detailed results, visit: https://lab.dpdk.org/results/dashboard/patchsets/33695/ UNH-IOL DPDK Community Lab To manage your email subscriptions, visit: https://lab.dpdk.org/results/dashboard/preferences/subscriptions/