From mboxrd@z Thu Jan 1 00:00:00 1970 Return-Path: Received: from mails.dpdk.org (mails.dpdk.org [217.70.189.124]) by inbox.dpdk.org (Postfix) with ESMTP id D90B946BBC for ; Sat, 19 Jul 2025 21:56:14 +0200 (CEST) Received: from mails.dpdk.org (localhost [127.0.0.1]) by mails.dpdk.org (Postfix) with ESMTP id B19C5400D5; Sat, 19 Jul 2025 21:56:14 +0200 (CEST) Received: from mail-oi1-f227.google.com (mail-oi1-f227.google.com [209.85.167.227]) by mails.dpdk.org (Postfix) with ESMTP id 7E96F400D5 for ; Sat, 19 Jul 2025 21:56:13 +0200 (CEST) Received: by mail-oi1-f227.google.com with SMTP id 5614622812f47-41b6561d3e6so1848869b6e.1 for ; Sat, 19 Jul 2025 12:56:13 -0700 (PDT) DKIM-Signature: v=1; a=rsa-sha256; c=relaxed/relaxed; d=iol.unh.edu; s=unh-iol; t=1752954972; x=1753559772; darn=dpdk.org; h=references:in-reply-to:cc:to:from:subject:message-id:date:from:to :cc:subject:date:message-id:reply-to; bh=PEnomPSrBPAtZNqNSMQydiPHm00BzbefEKOv0LNzTpU=; b=aoRHjjBYL0D2r04bTOAaQxVlV13Dd91qL9S1zDGb8MbhEAItzft4mEyk4rQz+91yDP M+dTxw2KUv5TW7yo7tqr+RC9OL+6m8d9RcnWphSrWqgh+0XcIxvcW2q2jM45NUzSSHbA 5XesKicbfqDp+oqRWoJGqdAgCx46CZRcOSzoI= X-Google-DKIM-Signature: v=1; a=rsa-sha256; c=relaxed/relaxed; d=1e100.net; s=20230601; t=1752954972; x=1753559772; h=references:in-reply-to:cc:to:from:subject:message-id:date :x-gm-message-state:from:to:cc:subject:date:message-id:reply-to; bh=PEnomPSrBPAtZNqNSMQydiPHm00BzbefEKOv0LNzTpU=; b=Q18U90yGlRBvWtj+DxxbW5Q4USFQhQ42pwbhHxxg00Xi7qE9f4pxaVy6jJb2KEQ4Jn rRi8kA9VnGEYxIISttA/gAO/9blmAomTprqU1WVDAG4lL8IvmGBMcwBb0NjCYbinyrxo qsEIScGEhrcdphGgT2o9MqUJsUyQ4ewfGzNo6iFKaURxAOx48wZszwzOQ2MbiuALq2wD u2Rpz8fJ33p8Z7XnT/sbhKC59KCQqYaDj0129/AKyNQ970MbxEfOeOXzZN79XNUrMfJb gpPRxp04GAfVfO3Gvh6t9StAhp10zvZfngctU0cJRNdWDNpdhICcUa2Ujr3VOKwGHArT DSSA== X-Gm-Message-State: AOJu0YzGvBjL2kvnfur8cKWFGBeKm1T60ql0rP7zBnzz663Hg+Kfi2ok ikmYnRehhjAvzhK4vTYi940awVUVCRTORTDIipKiKsYp1W6tQmK+tR81QPRbmaFRxLEzLtvTIoG +rcRW0oM18CwCkJ+DKLb/RMJgwSgafEGQk5vOM2q1ZNl/ZM67Sbmv3vxy9mW2 X-Gm-Gg: ASbGncvrkxtH40PwVlMx/E5hAoZlFE8jwCtOrE3Kn5VM4q+DfGVD+KGik1Cp9QmMs5P p1LkQDeTzUhklP+mZE0q/TQJRdWLtRd3L70QN3vML19N/KarQF3fZCIcCpIapw4FH2iIclIv2Aj qSBexLR9CXokcI88esEDkZKCiiGPe0JkpqHOPA5/gntxSoE37l3OCEtrCN9lgmEis6VTKIZZ09v TEHPpchMPrjpADcqw/rUBiU7SrK2zl3uK9E3kzghGc2rdDRiofsC/Or9P/71ewhcEdI2CaNAI5G EMGT5IwXkpaBvMYd4WDPQzWTBMBrQ7fJ5uM473at4O6u97mHSQ== X-Google-Smtp-Source: AGHT+IHODBme9E4Y2RGYa2d966rCSQrKZfqrzrTxny/0FnQjb6UYIL9vnw3SqDEfoSMr32jn0DwL6Qf5E5vp X-Received: by 2002:a05:6808:14c6:b0:406:7af5:30f2 with SMTP id 5614622812f47-41d05759551mr9869185b6e.34.1752954972677; Sat, 19 Jul 2025 12:56:12 -0700 (PDT) Received: from postal.iol.unh.edu (postal.iol.unh.edu. [2606:4100:3880:1234::84]) by smtp-relay.gmail.com with ESMTPS id 586e51a60fabf-30106543a09sm307140fac.30.2025.07.19.12.56.12 (version=TLS1_2 cipher=ECDHE-ECDSA-AES128-GCM-SHA256 bits=128/128); Sat, 19 Jul 2025 12:56:12 -0700 (PDT) X-Relaying-Domain: iol.unh.edu Date: Sat, 19 Jul 2025 12:56:12 -0700 (PDT) Message-ID: <687bf85c.050a0220.169c33.f458SMTPIN_ADDED_MISSING@mx.google.com> Received: from [172.21.0.2] (unknown [172.18.0.240]) by postal.iol.unh.edu (Postfix) with ESMTP id 3A8476051830; Sat, 19 Jul 2025 15:56:12 -0400 (EDT) Subject: |SUCCESS| pw155367-155368 [PATCH] [v3,2/2] crypto/ipsec_mb: fix QP r From: dpdklab@iol.unh.edu To: Test Report Cc: dpdk-test-reports@iol.unh.edu In-Reply-To: <20250719153227.1980-2-mosesyyoung@gmail.com> References: <20250719153227.1980-2-mosesyyoung@gmail.com> Content-Type: text/plain X-BeenThere: test-report@dpdk.org X-Mailman-Version: 2.1.29 Precedence: list List-Id: automatic DPDK test reports List-Unsubscribe: , List-Archive: List-Post: List-Help: List-Subscribe: , Errors-To: test-report-bounces@dpdk.org Test-Label: iol-abi-testing Test-Status: SUCCESS http://dpdk.org/patch/155368 _Testing PASS_ Submitter: Yang Ming Date: Saturday, July 19 2025 15:32:26 DPDK git baseline: Repo:dpdk Branch: master CommitID:f6e3473724e7ce31103fa0ecad62b282ec8e7090 155367-155368 --> testing pass Upstream job id: Generic-DPDK-Compile-ABI#134936 Test environment and result as below: +-------------------------------+----------+ | Environment | abi_test | +===============================+==========+ | CentOS Stream 10 | PASS | +-------------------------------+----------+ | Fedora Linux 40 | PASS | +-------------------------------+----------+ | Fedora Linux 41 | PASS | +-------------------------------+----------+ | Debian GNU/Linux 12 | PASS | +-------------------------------+----------+ | CentOS Stream 9 | PASS | +-------------------------------+----------+ | openSUSE Leap 15.6 | PASS | +-------------------------------+----------+ | Ubuntu 24.04 | PASS | +-------------------------------+----------+ | Ubuntu 22.04 | PASS | +-------------------------------+----------+ | Red Hat Enterprise Linux 8.10 | PASS | +-------------------------------+----------+ | Red Hat Enterprise Linux 9.5 | PASS | +-------------------------------+----------+ CentOS Stream 10 Kernel: 5.15 Compiler: gcc gcc (GCC) 14.2.1 20250110 (Red Hat 14.2.1-8) Fedora Linux 40 Kernel: 5.15 Compiler: clang gcc (GCC) 14.2.1 20240912 (Red Hat 14.2.1-3) Fedora Linux 41 Kernel: 5.15 Compiler: clang gcc (GCC) 14.3.1 20250523 (Red Hat 14.3.1-1) Debian GNU/Linux 12 Kernel: 5.15 Compiler: gcc gcc (Debian 12.2.0-14+deb12u1) 12.2.0 CentOS Stream 9 Kernel: 5.15 Compiler: gcc gcc (GCC) 11.5.0 20240719 (Red Hat 11.5.0-7) openSUSE Leap 15.6 Kernel: 5.15 Compiler: gcc gcc (SUSE Linux) 7.5.0 Ubuntu 24.04 Kernel: 5.15 Compiler: gcc gcc (Ubuntu 13.3.0-6ubuntu2~24.04) 13.3.0 Ubuntu 22.04 Kernel: 5.15 Compiler: gcc gcc (Ubuntu 11.4.0-1ubuntu1~22.04) 11.4.0 Red Hat Enterprise Linux 8.10 Kernel: 5.15 Compiler: gcc gcc (GCC) 8.5.0 20210514 (Red Hat 8.5.0-22) Red Hat Enterprise Linux 9.5 Kernel: 5.15 Compiler: gcc gcc (GCC) 11.5.0 20240719 (Red Hat 11.5.0-2) To view detailed results, visit: https://lab.dpdk.org/results/dashboard/patchsets/33697/ UNH-IOL DPDK Community Lab To manage your email subscriptions, visit: https://lab.dpdk.org/results/dashboard/preferences/subscriptions/