From mboxrd@z Thu Jan 1 00:00:00 1970 Return-Path: Received: from mails.dpdk.org (mails.dpdk.org [217.70.189.124]) by inbox.dpdk.org (Postfix) with ESMTP id D297946BBC for ; Sat, 19 Jul 2025 21:57:04 +0200 (CEST) Received: from mails.dpdk.org (localhost [127.0.0.1]) by mails.dpdk.org (Postfix) with ESMTP id CDD9C400D5; Sat, 19 Jul 2025 21:57:04 +0200 (CEST) Received: from mail-yb1-f226.google.com (mail-yb1-f226.google.com [209.85.219.226]) by mails.dpdk.org (Postfix) with ESMTP id 08750400D5 for ; Sat, 19 Jul 2025 21:57:03 +0200 (CEST) Received: by mail-yb1-f226.google.com with SMTP id 3f1490d57ef6-e8bb69cdb90so2978008276.0 for ; Sat, 19 Jul 2025 12:57:02 -0700 (PDT) DKIM-Signature: v=1; a=rsa-sha256; c=relaxed/relaxed; d=iol.unh.edu; s=unh-iol; t=1752955022; x=1753559822; darn=dpdk.org; h=references:in-reply-to:cc:to:from:subject:message-id:date:from:to :cc:subject:date:message-id:reply-to; bh=ohrAopSMryQpib+ffUq++FEw7Vfs8coAwNtOO8YTsiA=; b=CvQhsFI+bJHRl8PTx+823DN0ys2qm1H0YEFteQpuv9lJIm0zfzHMWQYAGz/m6uz8zf H2eXRUNXm2GmTOIk5uMMXdCFv+f6vkTIHRafnRxh1umN+v3ywO8Xm1Tt2vVbGPqz843D 0ITHIWg4r8EIc2AEWKeakg321PcpRLBsEgxjE= X-Google-DKIM-Signature: v=1; a=rsa-sha256; c=relaxed/relaxed; d=1e100.net; s=20230601; t=1752955022; x=1753559822; h=references:in-reply-to:cc:to:from:subject:message-id:date :x-gm-message-state:from:to:cc:subject:date:message-id:reply-to; bh=ohrAopSMryQpib+ffUq++FEw7Vfs8coAwNtOO8YTsiA=; b=T25tHf2gm5HpoacGxgwkdp6W6z+xZ1X1kfKyLhEeV6+ZwY9ctwKUqgv8SPhif2V2y1 axQ0/TR2glUTmfo4SWFXVGfz9YP3E5FE2vhmPV9FzxIs4xdUlDMpO8udd+qUzKGXA14B mZTn6CjQ7wE/xpwmI1knsW70TmOSz96xQb7seXpebErmI/FLd/VsgMzKkWjs+fS4ZkIm qi/LwtZVWdSm9pR5l/HjuWc+Yp9derl7mIZiuhRhqJ8geb5ye7dGJggzrhA7iOUz8ydz PaMNc8j0S4rYkuwNoxFEWaF9+K143BHtwZRJVF6IgZ3NW0NX/nv60DTpbtGFh1SSQAdg 9upA== X-Gm-Message-State: AOJu0YxFVSr9DTMB9zq9rdsxw9UB5Yf/WOTzMhjAbaJgNbN3EvsUxa9b X+l8zeATVrC5a5n0AwGB0gs91qcENLhIoJdrJgz5alvLHTTLMBW/5e0MProOf2JN4x8+NXsZ5aq we8Lu8lir9Bag/52A9pHuIhigIP/9oQFAzUhSa+KDAXFVpcerHYJIk4HXy116 X-Gm-Gg: ASbGncv/eC+TmShjpAF6GuiNcb4ih9GCN14ftHB9Fx3ZyzyB1SjyPxXVUBapDWo5Yj4 ojuAF2hY8qjXlDvCMF+t63ICnjn3uX9MgHfon0gMqFmQU+xNbK8SU3v9hMN/FIWfRjPgUUCmspR 7NuPqg3YhJKjyHHZToDqCBJSSDDBcROo09eLTIh5Rw7Oguw3D7aCR9hJNftISj3U8LGDnt812BS 343RI8IHNZyenunpSVmBf7lg7/7DBbsm5wqjrH80xdUardzSlgTb4wnChaxPGAHZr0V0Bvi0RTo L1Zto4N/G7BW8aQGXouzLHdkDwdPhlMfFm3yQMltMjsD0Oz/Sg== X-Google-Smtp-Source: AGHT+IEJAbq6WqwLbj3mg9vvsZ+zJ2cHG3ofGE0UbOzBioJBlgBQZl0/DhvHA0mN4ui30Mwk7g/tdpCzRFYv X-Received: by 2002:a05:690c:3704:b0:718:17b1:40d with SMTP id 00721157ae682-71836ca9069mr172807797b3.7.1752955022287; Sat, 19 Jul 2025 12:57:02 -0700 (PDT) Received: from postal.iol.unh.edu (postal.iol.unh.edu. [2606:4100:3880:1234::84]) by smtp-relay.gmail.com with ESMTPS id 00721157ae682-719533605dfsm1277467b3.54.2025.07.19.12.57.02 (version=TLS1_2 cipher=ECDHE-ECDSA-AES128-GCM-SHA256 bits=128/128); Sat, 19 Jul 2025 12:57:02 -0700 (PDT) X-Relaying-Domain: iol.unh.edu Date: Sat, 19 Jul 2025 12:57:02 -0700 (PDT) Message-ID: <687bf88e.050a0220.8384.5d26SMTPIN_ADDED_MISSING@mx.google.com> Received: from [172.21.0.2] (unknown [172.18.0.240]) by postal.iol.unh.edu (Postfix) with ESMTP id 01E206051830; Sat, 19 Jul 2025 15:57:02 -0400 (EDT) Subject: |SUCCESS| pw155366 [PATCH] [v2] mailmap: add new email to DPDK From: dpdklab@iol.unh.edu To: Test Report Cc: dpdk-test-reports@iol.unh.edu In-Reply-To: <20250719042158.39269-1-pravin.pathak.dev@gmail.com> References: <20250719042158.39269-1-pravin.pathak.dev@gmail.com> Content-Type: text/plain X-BeenThere: test-report@dpdk.org X-Mailman-Version: 2.1.29 Precedence: list List-Id: automatic DPDK test reports List-Unsubscribe: , List-Archive: List-Post: List-Help: List-Subscribe: , Errors-To: test-report-bounces@dpdk.org Test-Label: iol-compile-arm64-testing Test-Status: SUCCESS http://dpdk.org/patch/155366 _Testing PASS_ Submitter: Pravin Pathak Date: Saturday, July 19 2025 04:21:58 DPDK git baseline: Repo:dpdk Branch: master CommitID:f6e3473724e7ce31103fa0ecad62b282ec8e7090 155366 --> testing pass Upstream job id: Generic-DPDK-Compile-Meson#410093 Test environment and result as below: +------------------------------+--------------------+ | Environment | dpdk_meson_compile | +==============================+====================+ | Ubuntu 20.04 | PASS | +------------------------------+--------------------+ | Red Hat Enterprise Linux 9.5 | PASS | +------------------------------+--------------------+ | Fedora Linux 40 | PASS | +------------------------------+--------------------+ | Debian GNU/Linux 12 | PASS | +------------------------------+--------------------+ | CentOS Stream 9 | PASS | +------------------------------+--------------------+ | Fedora Linux 41 | PASS | +------------------------------+--------------------+ | Ubuntu 24.04 | PASS | +------------------------------+--------------------+ | Ubuntu 22.04 | PASS | +------------------------------+--------------------+ | CentOS Stream 10 | PASS | +------------------------------+--------------------+ Ubuntu 20.04 Kernel: 5.15 Compiler: aarch64-linux-gnu-gcc gcc (Ubuntu 9.4.0-1ubuntu1~20.04.2) 9.4.0 Red Hat Enterprise Linux 9.5 Kernel: 5.4 Compiler: gcc gcc (GCC) 11.5.0 20240719 (Red Hat 11.5.0-2) Fedora Linux 40 Kernel: 5.4 Compiler: gcc gcc (GCC) 14.2.1 20240912 (Red Hat 14.2.1-3) Debian GNU/Linux 12 Kernel: 5.4 Compiler: gcc gcc (Debian 12.2.0-14+deb12u1) 12.2.0 CentOS Stream 9 Kernel: 5.4 Compiler: gcc gcc (GCC) 11.5.0 20240719 (Red Hat 11.5.0-7) Fedora Linux 41 Kernel: 5.4 Compiler: clang gcc (GCC) 14.3.1 20250523 (Red Hat 14.3.1-1) Ubuntu 24.04 Kernel: 5.4 Compiler: gcc gcc (Ubuntu 13.3.0-6ubuntu2~24.04) 13.3.0 Ubuntu 22.04 Kernel: 5.4 Compiler: gcc gcc (Ubuntu 11.4.0-1ubuntu1~22.04) 11.4.0 CentOS Stream 10 Kernel: 5.4 Compiler: gcc gcc (GCC) 14.2.1 20250110 (Red Hat 14.2.1-8) To view detailed results, visit: https://lab.dpdk.org/results/dashboard/patchsets/33696/ UNH-IOL DPDK Community Lab To manage your email subscriptions, visit: https://lab.dpdk.org/results/dashboard/preferences/subscriptions/