From mboxrd@z Thu Jan 1 00:00:00 1970 Return-Path: Received: from mails.dpdk.org (mails.dpdk.org [217.70.189.124]) by inbox.dpdk.org (Postfix) with ESMTP id E6B7C46BBC for ; Sat, 19 Jul 2025 21:57:37 +0200 (CEST) Received: from mails.dpdk.org (localhost [127.0.0.1]) by mails.dpdk.org (Postfix) with ESMTP id DEF12400D5; Sat, 19 Jul 2025 21:57:37 +0200 (CEST) Received: from mail-yw1-f228.google.com (mail-yw1-f228.google.com [209.85.128.228]) by mails.dpdk.org (Postfix) with ESMTP id 5779C400D5 for ; Sat, 19 Jul 2025 21:57:36 +0200 (CEST) Received: by mail-yw1-f228.google.com with SMTP id 00721157ae682-70e302191a3so29377207b3.2 for ; Sat, 19 Jul 2025 12:57:36 -0700 (PDT) DKIM-Signature: v=1; a=rsa-sha256; c=relaxed/relaxed; d=iol.unh.edu; s=unh-iol; t=1752955055; x=1753559855; darn=dpdk.org; h=references:in-reply-to:cc:to:from:subject:message-id:date:from:to :cc:subject:date:message-id:reply-to; bh=yt2+7fRdaFj1wSdHMLm+EJp8MSgXJ0Z07WGeUhDCI3Y=; b=P4htiZEtKrsGfdatalD34fWcHEKawe31pTwG+otjzuHOiGOTmJF7ecwccOfTqtiN+t Nd5w115eQrJYNKQhtU1haAUO7M62r+vCofH4f9YE1jZs5WPuew2w3V0fXuWLe9enRJYe k14viEAbvP9yrxCzvy0DiCMyLlASpl+EPpGKE= X-Google-DKIM-Signature: v=1; a=rsa-sha256; c=relaxed/relaxed; d=1e100.net; s=20230601; t=1752955055; x=1753559855; h=references:in-reply-to:cc:to:from:subject:message-id:date :x-gm-message-state:from:to:cc:subject:date:message-id:reply-to; bh=yt2+7fRdaFj1wSdHMLm+EJp8MSgXJ0Z07WGeUhDCI3Y=; b=Yn36i5J1rzEkmh8FLsN6FLpP8sY+nuXHcLsfgBwMVmHIPLo3ydzJ9Gpotb63/H0+Ya /DX9tu/I5rgBXXhQMOVxbV7VzfUJZQwjib1EklXH5WG4kZh2Eas0+XmcCRHE64PWVYIX AnU6ZT5NhMJZ39ImCJxLEiWajS0Vxjxz+aCK4RCnDvQy8tsU4hMvA2ftJdDR66tWQEro tLiPV9R+/FmYE3KxngsmaatXJYl5Oq7MwJ+vEHs8mVtLYJR8ZgNWAYhpfpxefq+W9fiy pgITYbs2kTcOhsb2T+WuFEzlLBxrAg+XUPhFUexmP4jZ0/2To8/2FTL4UNhhZCd3rdjD 3ysA== X-Gm-Message-State: AOJu0Yw2V8EOpAPSf7w8uBOOJ8yV6/Y4vlXKH7Mg1ValEIIMI21gOIor juPU76SS2TakEveMsGLKOuQE5Z8nDFLS47n5oniNZIJEhEPDH7jim6VbIN94eYRtBy9zfChflZJ 87LlFBSwGrJDww4QJG5uBtLKcZOgCFmZBQWBKvHE2n4dHXrm6JJwUa2NTlTnj X-Gm-Gg: ASbGncuuCSMilouNAE3Qpe1Jm0OhNrHk8SIhRC8N66rWcicQH5C0KB3LgirQkNXOtSh NlH/RKiFjjgP3OXBKlXI8f0iCFuCsMD0ptyD/fgen+mp+VBXkKwm7onI0RCPuSmsAX6GRHpPVPf gA1U9k1Z4s5DkhH0u0IAh7amaITsKUkpGQAYVqWc5SXKm+Tm8GdPUmqMDNMFrJ9iKwcGH7T3hG9 9kXt/EUbBlAEe0q4MUIsuSdAeC2MxWDPzF/UdUSNFATHJtSnpaSgNOC/SQvXLfNHqaHv6jcMNYW /I7pAWt5fVOkyLb8aqlqerd+6hYCIsHJme6flXH0sKQr1VOFjQ== X-Google-Smtp-Source: AGHT+IGE5K1QDKev7hmoSRmwqOXVpXJrKGRvgEfUncpTJt680UkA7+N0l4iDk3xNjLFXL+zhnaPdSr9zwn5Z X-Received: by 2002:a05:6902:1aca:b0:e8b:c761:eb2e with SMTP id 3f1490d57ef6-e8bc761ef42mr15679679276.34.1752955055627; Sat, 19 Jul 2025 12:57:35 -0700 (PDT) Received: from postal.iol.unh.edu (postal.iol.unh.edu. [2606:4100:3880:1234::84]) by smtp-relay.gmail.com with ESMTPS id 3f1490d57ef6-e8d7cc3a40dsm253423276.7.2025.07.19.12.57.35 (version=TLS1_2 cipher=ECDHE-ECDSA-AES128-GCM-SHA256 bits=128/128); Sat, 19 Jul 2025 12:57:35 -0700 (PDT) X-Relaying-Domain: iol.unh.edu Date: Sat, 19 Jul 2025 12:57:35 -0700 (PDT) Message-ID: <687bf8af.250a0220.823f4.e049SMTPIN_ADDED_MISSING@mx.google.com> Received: from [172.21.0.2] (unknown [172.18.0.240]) by postal.iol.unh.edu (Postfix) with ESMTP id 4D1B66051830; Sat, 19 Jul 2025 15:57:35 -0400 (EDT) Subject: |SUCCESS| pw155367-155368 [PATCH] [v3,2/2] crypto/ipsec_mb: fix QP r From: dpdklab@iol.unh.edu To: Test Report Cc: dpdk-test-reports@iol.unh.edu In-Reply-To: <20250719153227.1980-2-mosesyyoung@gmail.com> References: <20250719153227.1980-2-mosesyyoung@gmail.com> Content-Type: text/plain X-BeenThere: test-report@dpdk.org X-Mailman-Version: 2.1.29 Precedence: list List-Id: automatic DPDK test reports List-Unsubscribe: , List-Archive: List-Post: List-Help: List-Subscribe: , Errors-To: test-report-bounces@dpdk.org Test-Label: iol-unit-arm64-testing Test-Status: SUCCESS http://dpdk.org/patch/155368 _Testing PASS_ Submitter: Yang Ming Date: Saturday, July 19 2025 15:32:26 DPDK git baseline: Repo:dpdk Branch: master CommitID:f6e3473724e7ce31103fa0ecad62b282ec8e7090 155367-155368 --> testing pass Upstream job id: Generic-Unit-Test-DPDK#356572 Test environment and result as below: +------------------------------+----------------+---------------------------+--------------+------------------------------+ | Environment | dpdk_unit_test | cryptodev_sw_zuc_autotest | lpm_autotest | cryptodev_sw_snow3g_autotest | +==============================+================+===========================+==============+==============================+ | CentOS Stream 9 | PASS | SKIPPED | SKIPPED | SKIPPED | +------------------------------+----------------+---------------------------+--------------+------------------------------+ | CentOS Stream 10 | PASS | SKIPPED | SKIPPED | SKIPPED | +------------------------------+----------------+---------------------------+--------------+------------------------------+ | Debian GNU/Linux 12 | PASS | SKIPPED | SKIPPED | SKIPPED | +------------------------------+----------------+---------------------------+--------------+------------------------------+ | Fedora Linux 40 | PASS | SKIPPED | SKIPPED | SKIPPED | +------------------------------+----------------+---------------------------+--------------+------------------------------+ | Fedora Linux 41 | PASS | SKIPPED | SKIPPED | SKIPPED | +------------------------------+----------------+---------------------------+--------------+------------------------------+ | Red Hat Enterprise Linux 9.5 | PASS | SKIPPED | SKIPPED | SKIPPED | +------------------------------+----------------+---------------------------+--------------+------------------------------+ | Ubuntu 20.04 | PASS | SKIPPED | PASS | SKIPPED | +------------------------------+----------------+---------------------------+--------------+------------------------------+ | Ubuntu 24.04 | PASS | SKIPPED | SKIPPED | SKIPPED | +------------------------------+----------------+---------------------------+--------------+------------------------------+ | Ubuntu 22.04 | PASS | SKIPPED | SKIPPED | SKIPPED | +------------------------------+----------------+---------------------------+--------------+------------------------------+ | Debian 12 (arm) | SKIPPED | PASS | SKIPPED | PASS | +------------------------------+----------------+---------------------------+--------------+------------------------------+ CentOS Stream 9 Kernel: 5.4 Compiler: gcc gcc (GCC) 11.5.0 20240719 (Red Hat 11.5.0-7) CentOS Stream 10 Kernel: 5.4 Compiler: gcc gcc (GCC) 14.2.1 20250110 (Red Hat 14.2.1-8) Debian GNU/Linux 12 Kernel: 5.4 Compiler: gcc gcc (Debian 12.2.0-14+deb12u1) 12.2.0 Fedora Linux 40 Kernel: 5.4 Compiler: gcc gcc (GCC) 14.2.1 20240912 (Red Hat 14.2.1-3) Fedora Linux 41 Kernel: 5.4 Compiler: gcc gcc (GCC) 14.3.1 20250523 (Red Hat 14.3.1-1) Red Hat Enterprise Linux 9.5 Kernel: 5.4 Compiler: gcc gcc (GCC) 11.5.0 20240719 (Red Hat 11.5.0-2) Ubuntu 20.04 Kernel: 5.4 Compiler: gcc gcc (Ubuntu 9.4.0-1ubuntu1~20.04.2) 9.4.0 Ubuntu 24.04 Kernel: 5.4 Compiler: gcc gcc (Ubuntu 13.3.0-6ubuntu2~24.04) 13.3.0 Ubuntu 22.04 Kernel: 5.4 Compiler: gcc gcc (Ubuntu 11.4.0-1ubuntu1~22.04) 11.4.0 Debian 12 (arm) Kernel: Depends on container host Compiler: gcc (Debian 12.2.0-14) 12.2.0 To view detailed results, visit: https://lab.dpdk.org/results/dashboard/patchsets/33697/ UNH-IOL DPDK Community Lab To manage your email subscriptions, visit: https://lab.dpdk.org/results/dashboard/preferences/subscriptions/