From mboxrd@z Thu Jan 1 00:00:00 1970 Return-Path: Received: from mails.dpdk.org (mails.dpdk.org [217.70.189.124]) by inbox.dpdk.org (Postfix) with ESMTP id 8BACE46BBD for ; Sat, 19 Jul 2025 22:04:23 +0200 (CEST) Received: from mails.dpdk.org (localhost [127.0.0.1]) by mails.dpdk.org (Postfix) with ESMTP id 6F447400D5; Sat, 19 Jul 2025 22:04:23 +0200 (CEST) Received: from mail-qv1-f98.google.com (mail-qv1-f98.google.com [209.85.219.98]) by mails.dpdk.org (Postfix) with ESMTP id 57F76400D5 for ; Sat, 19 Jul 2025 22:04:21 +0200 (CEST) Received: by mail-qv1-f98.google.com with SMTP id 6a1803df08f44-6fd0a3cd326so35276266d6.1 for ; Sat, 19 Jul 2025 13:04:21 -0700 (PDT) DKIM-Signature: v=1; a=rsa-sha256; c=relaxed/relaxed; d=iol.unh.edu; s=unh-iol; t=1752955460; x=1753560260; darn=dpdk.org; h=references:in-reply-to:cc:to:from:subject:message-id:date:from:to :cc:subject:date:message-id:reply-to; bh=TIw0bO9561eEBB7I/xiw2RfqTqiGKpfY7GymBqXsfQ0=; b=N9TdZvsEvrQlpNu2qlQheo462PzR33KF3SZEOdTXV4dHtAXaSEzhSftOAEEkZHRN3W jXqo1sVrYHXybc+B5P8pRVrnNxE5T42ZSR+m0/1miVzEdJpq4mteyERIR7OSwihs9i9T Px1hlWyKBzuIPP8VtnLhGhsYUsVr6/VYbegkM= X-Google-DKIM-Signature: v=1; a=rsa-sha256; c=relaxed/relaxed; d=1e100.net; s=20230601; t=1752955460; x=1753560260; h=references:in-reply-to:cc:to:from:subject:message-id:date :x-gm-message-state:from:to:cc:subject:date:message-id:reply-to; bh=TIw0bO9561eEBB7I/xiw2RfqTqiGKpfY7GymBqXsfQ0=; b=jWj51EFfFRzcSuSfhk6dHe/LhiETveXtyON7YD0VJxHJy2aoF51eraA0+RQ9QNQzPA jJ6NXfSix2N+fGiaRshd11e/HM76SxwHji8lOd7SozRYIrxgK5aYEPFYRYU+aCNR1Zhw j2qrDnSB75ZhSa2lPaj7x6D9lELq56A8bWB45g8vvtSqrZN9DUk+rcCkYH177ksRwKqk xI/tZHr+T1gANpWXdBt96cBHQkHdS5yKIW3cwMg74sMGiwkeBPleJUoclFF6bBPoANaa ALWKc+55ureXH88E3NUiaxk+Ehgj5jHvIdh+eRDofzwDIFAZAqMozHMsPuXuBHuUNCcQ IVYg== X-Gm-Message-State: AOJu0YwKa8ttZmFutH2KC5doYdQjGcQ3MXxNlgpcqRremjgctlbhQ5KO jlCk5qgaqvydezj/xwqB2gej8qV3yfGdtGngBvbQOgV+E98O57CRepfuVKplJv9K7qv5eaV9uAM VeQ39UI/5PLammn/fKukNceFEDRB7StWDARZxc1QJPVF4LcwVB12zCeD1Z/iM X-Gm-Gg: ASbGncujI0zpoLPOKzBqxxYmETiMz5nRLPtZhvsThCjzchyQdnEQvUppztsaw0DQWfH xL0wsDjMDupJBerD3wspSwF/EYt4OTH2avVt66vU4uq1kAdhSpZKGahsjhWfGo3sCD47Iro+yS1 nif88I7Tl/CGfYA9vaWCkGWjZsLOYKtOVVj1LmusHxmLD/CFXcA+K08fzPbiTtNO9wg5nvcgrBv 3RTjBHhTmHkVs7ZfwauWPlQp32WEpmR3hrnV+NR30YTojT6fARnWPLhVzsr7iGbfl4xLXr8ML20 V38zRGioOMK8oKeD4Sw/xHyA+N2bffO/cUU29E12JaqKPCf8lQ== X-Google-Smtp-Source: AGHT+IHADfXFek6vix2pgg3jYPBr0Iv8vhRwM9th34V7JyEwLYgbpc3c3U0Gew/qPmKnIHTM9fSD2Sypl1yE X-Received: by 2002:ad4:5965:0:b0:6fa:ce27:5975 with SMTP id 6a1803df08f44-704f6b9e37fmr209122756d6.22.1752955460586; Sat, 19 Jul 2025 13:04:20 -0700 (PDT) Received: from postal.iol.unh.edu (postal.iol.unh.edu. [2606:4100:3880:1234::84]) by smtp-relay.gmail.com with ESMTPS id 6a1803df08f44-7051bd8745bsm2468166d6.59.2025.07.19.13.04.20 (version=TLS1_2 cipher=ECDHE-ECDSA-AES128-GCM-SHA256 bits=128/128); Sat, 19 Jul 2025 13:04:20 -0700 (PDT) X-Relaying-Domain: iol.unh.edu Date: Sat, 19 Jul 2025 13:04:20 -0700 (PDT) Message-ID: <687bfa44.050a0220.29d3f9.bcffSMTPIN_ADDED_MISSING@mx.google.com> Received: from [172.21.0.2] (unknown [172.18.0.240]) by postal.iol.unh.edu (Postfix) with ESMTP id 509B76051830; Sat, 19 Jul 2025 16:04:20 -0400 (EDT) Subject: |SUCCESS| pw155367-155368 [PATCH] [v3,2/2] crypto/ipsec_mb: fix QP r From: dpdklab@iol.unh.edu To: Test Report Cc: dpdk-test-reports@iol.unh.edu In-Reply-To: <20250719153227.1980-2-mosesyyoung@gmail.com> References: <20250719153227.1980-2-mosesyyoung@gmail.com> Content-Type: text/plain X-BeenThere: test-report@dpdk.org X-Mailman-Version: 2.1.29 Precedence: list List-Id: automatic DPDK test reports List-Unsubscribe: , List-Archive: List-Post: List-Help: List-Subscribe: , Errors-To: test-report-bounces@dpdk.org Test-Label: iol-compile-amd64-testing Test-Status: SUCCESS http://dpdk.org/patch/155368 _Testing PASS_ Submitter: Yang Ming Date: Saturday, July 19 2025 15:32:26 DPDK git baseline: Repo:dpdk Branch: master CommitID:f6e3473724e7ce31103fa0ecad62b282ec8e7090 155367-155368 --> testing pass Upstream job id: Generic-DPDK-Compile-Meson#410134 Test environment and result as below: +-------------------------------+-------------------+--------------------+-------------------------+----------------------+-------------------+------------------+ | Environment | dpdk_msvc_compile | dpdk_meson_compile | dpdk_llvm_clang_compile | dpdk_mingw64_compile | dpdk_compile_spdk | dpdk_compile_ovs | +===============================+===================+====================+=========================+======================+===================+==================+ | Windows Server 2022 | PASS | SKIPPED | PASS | PASS | SKIPPED | SKIPPED | +-------------------------------+-------------------+--------------------+-------------------------+----------------------+-------------------+------------------+ | Ubuntu 20.04 | SKIPPED | PASS | SKIPPED | SKIPPED | SKIPPED | SKIPPED | +-------------------------------+-------------------+--------------------+-------------------------+----------------------+-------------------+------------------+ | FreeBSD 14.2 | SKIPPED | PASS | SKIPPED | SKIPPED | SKIPPED | SKIPPED | +-------------------------------+-------------------+--------------------+-------------------------+----------------------+-------------------+------------------+ | CentOS Stream 9 | SKIPPED | PASS | SKIPPED | SKIPPED | PASS | SKIPPED | +-------------------------------+-------------------+--------------------+-------------------------+----------------------+-------------------+------------------+ | CentOS Stream 10 | SKIPPED | PASS | SKIPPED | SKIPPED | SKIPPED | SKIPPED | +-------------------------------+-------------------+--------------------+-------------------------+----------------------+-------------------+------------------+ | Debian GNU/Linux 12 | SKIPPED | PASS | SKIPPED | SKIPPED | PASS | SKIPPED | +-------------------------------+-------------------+--------------------+-------------------------+----------------------+-------------------+------------------+ | Fedora Linux 40 | SKIPPED | PASS | SKIPPED | SKIPPED | PASS | SKIPPED | +-------------------------------+-------------------+--------------------+-------------------------+----------------------+-------------------+------------------+ | Fedora Linux 41 | SKIPPED | PASS | SKIPPED | SKIPPED | PASS | PASS | +-------------------------------+-------------------+--------------------+-------------------------+----------------------+-------------------+------------------+ | openSUSE Leap 15.6 | SKIPPED | PASS | SKIPPED | SKIPPED | SKIPPED | SKIPPED | +-------------------------------+-------------------+--------------------+-------------------------+----------------------+-------------------+------------------+ | Red Hat Enterprise Linux 8.10 | SKIPPED | PASS | SKIPPED | SKIPPED | SKIPPED | SKIPPED | +-------------------------------+-------------------+--------------------+-------------------------+----------------------+-------------------+------------------+ | Red Hat Enterprise Linux 9.5 | SKIPPED | PASS | SKIPPED | SKIPPED | SKIPPED | SKIPPED | +-------------------------------+-------------------+--------------------+-------------------------+----------------------+-------------------+------------------+ | Ubuntu 22.04 | SKIPPED | PASS | SKIPPED | SKIPPED | PASS | SKIPPED | +-------------------------------+-------------------+--------------------+-------------------------+----------------------+-------------------+------------------+ | Ubuntu 24.04 | SKIPPED | PASS | SKIPPED | SKIPPED | PASS | PASS | +-------------------------------+-------------------+--------------------+-------------------------+----------------------+-------------------+------------------+ | Alpine Linux 3.22.0 | SKIPPED | PASS | SKIPPED | SKIPPED | SKIPPED | SKIPPED | +-------------------------------+-------------------+--------------------+-------------------------+----------------------+-------------------+------------------+ Windows Server 2022 Kernel: 10.0.20348.2031 Compiler: clang 15.0.7, gcc 14.1.0 (MinGW), and MSVC VS 19.39.33521 Ubuntu 20.04 Kernel: 4.19 Compiler: gcc gcc (Ubuntu 9.4.0-1ubuntu1~20.04.2) 9.4.0 FreeBSD 14.2 Kernel: 14.2-RELEASE Compiler: clang 18.1.6 CentOS Stream 9 Kernel: 5.15 Compiler: gcc gcc (GCC) 11.5.0 20240719 (Red Hat 11.5.0-7) CentOS Stream 10 Kernel: 5.15 Compiler: gcc gcc (GCC) 14.2.1 20250110 (Red Hat 14.2.1-8) Debian GNU/Linux 12 Kernel: 5.15 Compiler: gcc gcc (Debian 12.2.0-14+deb12u1) 12.2.0 Fedora Linux 40 Kernel: 5.15 Compiler: clang gcc (GCC) 14.2.1 20240912 (Red Hat 14.2.1-3) Fedora Linux 41 Kernel: 5.15 Compiler: clang gcc (GCC) 14.3.1 20250523 (Red Hat 14.3.1-1) openSUSE Leap 15.6 Kernel: 5.15 Compiler: gcc gcc (SUSE Linux) 7.5.0 Red Hat Enterprise Linux 8.10 Kernel: 5.15 Compiler: gcc gcc (GCC) 8.5.0 20210514 (Red Hat 8.5.0-22) Red Hat Enterprise Linux 9.5 Kernel: 5.15 Compiler: gcc gcc (GCC) 11.5.0 20240719 (Red Hat 11.5.0-2) Ubuntu 22.04 Kernel: 5.15 Compiler: gcc gcc (Ubuntu 11.4.0-1ubuntu1~22.04) 11.4.0 Ubuntu 24.04 Kernel: 5.15 Compiler: gcc gcc (Ubuntu 13.3.0-6ubuntu2~24.04) 13.3.0 Alpine Linux 3.22.0 Kernel: 5.15 Compiler: gcc gcc (Alpine 14.2.0) 14.2.0 To view detailed results, visit: https://lab.dpdk.org/results/dashboard/patchsets/33697/ UNH-IOL DPDK Community Lab To manage your email subscriptions, visit: https://lab.dpdk.org/results/dashboard/preferences/subscriptions/