From mboxrd@z Thu Jan 1 00:00:00 1970 Return-Path: Received: from mails.dpdk.org (mails.dpdk.org [217.70.189.124]) by inbox.dpdk.org (Postfix) with ESMTP id 5656246BBD for ; Sat, 19 Jul 2025 22:59:06 +0200 (CEST) Received: from mails.dpdk.org (localhost [127.0.0.1]) by mails.dpdk.org (Postfix) with ESMTP id 35592400D5; Sat, 19 Jul 2025 22:59:06 +0200 (CEST) Received: from mail-yb1-f228.google.com (mail-yb1-f228.google.com [209.85.219.228]) by mails.dpdk.org (Postfix) with ESMTP id 3364E400D5 for ; Sat, 19 Jul 2025 22:59:05 +0200 (CEST) Received: by mail-yb1-f228.google.com with SMTP id 3f1490d57ef6-e8bc1258b2eso2490486276.2 for ; Sat, 19 Jul 2025 13:59:05 -0700 (PDT) DKIM-Signature: v=1; a=rsa-sha256; c=relaxed/relaxed; d=iol.unh.edu; s=unh-iol; t=1752958744; x=1753563544; darn=dpdk.org; h=references:in-reply-to:cc:to:from:subject:message-id:date:from:to :cc:subject:date:message-id:reply-to; bh=1H2+8ngkd9NfXTfwVdZkiZGS/cIYW0z3XuCaWvKPh90=; b=d0J8/DIvDgFYSROzclNLZxIYUTtlQqARbUSnmNhaV8Mn3jlySCmDGSX6Vn20VX2dWO zJHM03SUI/+y/7uYan+ODBPtmCVZU6sJFgsq5d363jpMTNm2S7RmxfRJrFprnW5OW+GM NH3JbjQbO5mgTFWAbcv1gVERtdEyrsKnqNLRo= X-Google-DKIM-Signature: v=1; a=rsa-sha256; c=relaxed/relaxed; d=1e100.net; s=20230601; t=1752958744; x=1753563544; h=references:in-reply-to:cc:to:from:subject:message-id:date :x-gm-message-state:from:to:cc:subject:date:message-id:reply-to; bh=1H2+8ngkd9NfXTfwVdZkiZGS/cIYW0z3XuCaWvKPh90=; b=KCBgz7NYvOYrwkkaQc8KZRK4Q5tnSE1u5evd3nmkNrNSv827oslRiAJf1Z4Y/G0jcZ n/Z1r5XARlnlI6hkXFqmf8GfkrY2yk8DORBpeBoulvwoGF/gPkOiunJ2sD8cO22I6TiK KIOdberB26IBfeb9M+9+FUEPxZNPhH6IjFHwjm1Oug92PIuEHsTEie3ptOG0JzxeTwHW ACEcHMqpubjiweEkNPa2aKjvyJyW4ZA8C4m9vv0vaggC8q4HMkkhCczSvU8futTM219z tIAlm+YOIWyOhkqDTurZQYS9zG3kd5BZLo50usOlbExYteoyYVYIp1ffxjNV3kxdmPNO 1P9A== X-Gm-Message-State: AOJu0YwH8EkrugYzX/sW6FFCgwWp9d/v8Zxo7nrfqgV03dlssH9QlCnn 70uVI6ditlvsK/y7BI6G8whOOWxQQrJa7T5tqsCPL3eGWDtcBS2LXTeam8lFrfcPIGCFgqj+4n7 ayKjolOpgdxZvH27WKIH7+KLbZiiLqDStf0LAmR3w3CG1d2K9jfUvT9Ztfagy X-Gm-Gg: ASbGnctZJVCKL7ZoESw4RmGPQlNEczYhy4wynrZaJqUyd6KFZQvfckT464O5g5yB3Be z0FqnXf0Q+xCX4Gt36oZZULfllRB/l/1n+PSDSMIxgKaN2uxZ7qkuBOQpVQUqaszqzKrsm/AusI 8v/la+yT7rXW5cODt+vK/VTopSHcTPu3N9jByUS1J6jWnjoBO6sW1IqKLAe0a0GK2UJFJqAzfCd 83+A9+e/4qgl/4vUxPHIVm646WTnx9tyzva2IAvZ+OKlmI3kTl0UxojluDNzIz8Cky1ugMzlN1S dXi0IfFB0qvNiojXATLAphMlYqPJfbngjfNH0rDkllcI/yRJPg== X-Google-Smtp-Source: AGHT+IEkoWQJQSAuABHh3NXBQinMEXUE9Yuu6yRGgi8y0tIqm31hWkoBZCAE9C2eCRYQtj6JaJwOFlFRdQ5y X-Received: by 2002:a05:6902:4802:b0:e8b:9ef1:fab6 with SMTP id 3f1490d57ef6-e8bc253b191mr19462979276.48.1752958744334; Sat, 19 Jul 2025 13:59:04 -0700 (PDT) Received: from postal.iol.unh.edu (postal.iol.unh.edu. [2606:4100:3880:1234::84]) by smtp-relay.gmail.com with ESMTPS id 3f1490d57ef6-e8d7cc3d677sm248781276.8.2025.07.19.13.59.04 (version=TLS1_2 cipher=ECDHE-ECDSA-AES128-GCM-SHA256 bits=128/128); Sat, 19 Jul 2025 13:59:04 -0700 (PDT) X-Relaying-Domain: iol.unh.edu Date: Sat, 19 Jul 2025 13:59:04 -0700 (PDT) Message-ID: <687c0718.050a0220.19de7f.c02bSMTPIN_ADDED_MISSING@mx.google.com> Received: from [172.21.0.2] (unknown [172.18.0.240]) by postal.iol.unh.edu (Postfix) with ESMTP id 06AC46051830; Sat, 19 Jul 2025 16:59:04 -0400 (EDT) Subject: |SUCCESS| pw155365 [PATCH] [v1] mailmap: add new email to DPDK From: dpdklab@iol.unh.edu To: Test Report Cc: dpdk-test-reports@iol.unh.edu In-Reply-To: <20250719041909.39192-1-pravin.pathak.dev@gmail.com> References: <20250719041909.39192-1-pravin.pathak.dev@gmail.com> Content-Type: text/plain X-BeenThere: test-report@dpdk.org X-Mailman-Version: 2.1.29 Precedence: list List-Id: automatic DPDK test reports List-Unsubscribe: , List-Archive: List-Post: List-Help: List-Subscribe: , Errors-To: test-report-bounces@dpdk.org Test-Label: iol-compile-arm64-testing Test-Status: SUCCESS http://dpdk.org/patch/155365 _Testing PASS_ Submitter: Pravin Pathak Date: Saturday, July 19 2025 04:19:09 DPDK git baseline: Repo:dpdk Branch: master CommitID:f6e3473724e7ce31103fa0ecad62b282ec8e7090 155365 --> testing pass Upstream job id: Generic-DPDK-Compile-Meson#410124 Test environment and result as below: +------------------------------+--------------------+ | Environment | dpdk_meson_compile | +==============================+====================+ | Red Hat Enterprise Linux 9.5 | PASS | +------------------------------+--------------------+ | Fedora Linux 40 | PASS | +------------------------------+--------------------+ | Ubuntu 20.04 | PASS | +------------------------------+--------------------+ | Debian GNU/Linux 12 | PASS | +------------------------------+--------------------+ | Fedora Linux 41 | PASS | +------------------------------+--------------------+ | Ubuntu 24.04 | PASS | +------------------------------+--------------------+ | Ubuntu 22.04 | PASS | +------------------------------+--------------------+ | CentOS Stream 9 | PASS | +------------------------------+--------------------+ | CentOS Stream 10 | PASS | +------------------------------+--------------------+ Red Hat Enterprise Linux 9.5 Kernel: 5.4 Compiler: gcc gcc (GCC) 11.5.0 20240719 (Red Hat 11.5.0-2) Fedora Linux 40 Kernel: 5.4 Compiler: gcc gcc (GCC) 14.2.1 20240912 (Red Hat 14.2.1-3) Ubuntu 20.04 Kernel: 5.15 Compiler: aarch64-linux-gnu-gcc gcc (Ubuntu 9.4.0-1ubuntu1~20.04.2) 9.4.0 Debian GNU/Linux 12 Kernel: 5.4 Compiler: gcc gcc (Debian 12.2.0-14+deb12u1) 12.2.0 Fedora Linux 41 Kernel: 5.4 Compiler: gcc gcc (GCC) 14.3.1 20250523 (Red Hat 14.3.1-1) Ubuntu 24.04 Kernel: 5.4 Compiler: gcc gcc (Ubuntu 13.3.0-6ubuntu2~24.04) 13.3.0 Ubuntu 22.04 Kernel: 5.4 Compiler: gcc gcc (Ubuntu 11.4.0-1ubuntu1~22.04) 11.4.0 CentOS Stream 9 Kernel: 5.4 Compiler: gcc gcc (GCC) 11.5.0 20240719 (Red Hat 11.5.0-7) CentOS Stream 10 Kernel: 5.4 Compiler: gcc gcc (GCC) 14.2.1 20250110 (Red Hat 14.2.1-8) To view detailed results, visit: https://lab.dpdk.org/results/dashboard/patchsets/33695/ UNH-IOL DPDK Community Lab To manage your email subscriptions, visit: https://lab.dpdk.org/results/dashboard/preferences/subscriptions/