From mboxrd@z Thu Jan 1 00:00:00 1970 Return-Path: Received: from mails.dpdk.org (mails.dpdk.org [217.70.189.124]) by inbox.dpdk.org (Postfix) with ESMTP id 5FD2D46BBD for ; Sat, 19 Jul 2025 23:46:21 +0200 (CEST) Received: from mails.dpdk.org (localhost [127.0.0.1]) by mails.dpdk.org (Postfix) with ESMTP id 59C85400D5; Sat, 19 Jul 2025 23:46:21 +0200 (CEST) Received: from mail-io1-f97.google.com (mail-io1-f97.google.com [209.85.166.97]) by mails.dpdk.org (Postfix) with ESMTP id 2542C400D5 for ; Sat, 19 Jul 2025 23:46:20 +0200 (CEST) Received: by mail-io1-f97.google.com with SMTP id ca18e2360f4ac-87999c368e9so312457039f.0 for ; Sat, 19 Jul 2025 14:46:20 -0700 (PDT) DKIM-Signature: v=1; a=rsa-sha256; c=relaxed/relaxed; d=iol.unh.edu; s=unh-iol; t=1752961579; x=1753566379; darn=dpdk.org; h=references:in-reply-to:cc:to:from:subject:message-id:date:from:to :cc:subject:date:message-id:reply-to; bh=NRtHX17TBl8iTXRlL2AfCMMoK0oA0OGTd44wUDg8uOQ=; b=W5twTc4uRmk2iHeMMYSclIhVdr7yftsSTSbK3ZFW52le/6t5Wv/FkWOiS1DNX9Qtwc loOfSeWZoFlNkZCMLOzJfoh9b3iT9S9eMsAx2T20gEwKcT/ovGKSD/kL90MX58wXqPw2 cX5dfhJift+qUODNIOnWwOlEojmcXm8sTy5BQ= X-Google-DKIM-Signature: v=1; a=rsa-sha256; c=relaxed/relaxed; d=1e100.net; s=20230601; t=1752961579; x=1753566379; h=references:in-reply-to:cc:to:from:subject:message-id:date :x-gm-message-state:from:to:cc:subject:date:message-id:reply-to; bh=NRtHX17TBl8iTXRlL2AfCMMoK0oA0OGTd44wUDg8uOQ=; b=isPqJKAYQteE6yP+vm2tFfFtaaOteMfF0skFzRtcpliUfx99XOQXpr2zC8Yx1oBd90 iA1ocnQ0f5n1n36ohr1u96h20C1uSKEEPht3tCjKPA5DyLOf49mPx6rnYaNxmDBDEYtj dLqdivsumkXaAuqo2E/vExbURIgLyT4uDrOQMKqDaxrQE0TqUxb/hb7ORv6QjfIgYjGU 4v4Fl+Hy6uC48GSeF8s45LYsMSACaaDcvjWn7SM46XstjtmqtIz9DDByxVJCOQQ8f11X +FYanO25LZ34Io3E+EhFObOPXtHckqIZZ9vrgxvLJ6xyohFxmc29V/QAKZM2dxiaj9F4 XPTA== X-Gm-Message-State: AOJu0YzCp1xlkNZuMu5LFAu/FTCUm0cTimRJdp4RzTaDYRVj3xiE5Xi+ OZjdn3lWzC/nVV9+J+k0bo3fmdAvVOB0FiZf1eBqI//eEDecAViN8lRw4BAsDeiX458FkioPZ2u T7882drGYWtgNz0VXYyl9md4z9J9pF+3ASgKObDR+Yclh X-Gm-Gg: ASbGncuboVk3helnTWgEN1kvFukXRQOtqMJXAfPqDJAbJ+rIQc8mi1FosMnUcRv7PEC T9gMDqAsXV3MoQGpDTDa/sFINu76lC7qNncjomNtsz9eoGb8EvXvpIcwiOrL+oOHSmsvOUXYaDk NMCqWpVj221u1QCFLDG977KwAeIqXkqUt0Z7YqyXMhqbyluqHxgRHawm2atbi5QPyT/1oHGoI7P hkq/Pg1bvC+okRJLLLkk3DLpK/Thh12Fkperxq1yBn/rr+qU/q6CJVmddBPQlT5nPqj0vBFcva1 VS32+iWfqod2MItnIT68T6FVDC0g2zmyWjzrxkZBVFJVAAzp5D0ediNMQCP5VCgt+cs7l5Bm X-Google-Smtp-Source: AGHT+IF1icEJjG3RynOdbRyO3J2fIrAPqjI1mQzmTNCJb1CgeF5NV7fOfbTnfeYGoJQk4Qm0RkHMkVsgOqmL X-Received: by 2002:a05:6602:6a35:b0:86c:ef0b:3a52 with SMTP id ca18e2360f4ac-879c2925195mr1476869539f.11.1752961579431; Sat, 19 Jul 2025 14:46:19 -0700 (PDT) Received: from postal.iol.unh.edu (postal.iol.unh.edu. [132.177.123.84]) by smtp-relay.gmail.com with ESMTPS id ca18e2360f4ac-87c0e1a593bsm22922539f.0.2025.07.19.14.46.19 (version=TLS1_2 cipher=ECDHE-ECDSA-AES128-GCM-SHA256 bits=128/128); Sat, 19 Jul 2025 14:46:19 -0700 (PDT) X-Relaying-Domain: iol.unh.edu Date: Sat, 19 Jul 2025 14:46:19 -0700 (PDT) Message-ID: <687c122b.050a0220.2e9d30.d1d3SMTPIN_ADDED_MISSING@mx.google.com> Received: from [172.21.0.2] (unknown [172.18.0.240]) by postal.iol.unh.edu (Postfix) with ESMTP id D5CF46051830; Sat, 19 Jul 2025 17:46:18 -0400 (EDT) Subject: |SUCCESS| pw155367-155368 [PATCH] [v3,2/2] crypto/ipsec_mb: fix QP r From: dpdklab@iol.unh.edu To: Test Report Cc: dpdk-test-reports@iol.unh.edu In-Reply-To: <20250719153227.1980-2-mosesyyoung@gmail.com> References: <20250719153227.1980-2-mosesyyoung@gmail.com> Content-Type: text/plain X-BeenThere: test-report@dpdk.org X-Mailman-Version: 2.1.29 Precedence: list List-Id: automatic DPDK test reports List-Unsubscribe: , List-Archive: List-Post: List-Help: List-Subscribe: , Errors-To: test-report-bounces@dpdk.org Test-Label: iol-compile-arm64-testing Test-Status: SUCCESS http://dpdk.org/patch/155368 _Testing PASS_ Submitter: Yang Ming Date: Saturday, July 19 2025 15:32:26 DPDK git baseline: Repo:dpdk Branch: master CommitID:f6e3473724e7ce31103fa0ecad62b282ec8e7090 155367-155368 --> testing pass Upstream job id: Generic-DPDK-Compile-Meson#410155 Test environment and result as below: +------------------------------+--------------------+ | Environment | dpdk_meson_compile | +==============================+====================+ | Red Hat Enterprise Linux 9.5 | PASS | +------------------------------+--------------------+ | Ubuntu 20.04 | PASS | +------------------------------+--------------------+ | Debian GNU/Linux 12 | PASS | +------------------------------+--------------------+ | Fedora Linux 40 | PASS | +------------------------------+--------------------+ | Fedora Linux 41 | PASS | +------------------------------+--------------------+ | Ubuntu 22.04 | PASS | +------------------------------+--------------------+ | Ubuntu 24.04 | PASS | +------------------------------+--------------------+ | CentOS Stream 9 | PASS | +------------------------------+--------------------+ | CentOS Stream 10 | PASS | +------------------------------+--------------------+ Red Hat Enterprise Linux 9.5 Kernel: 5.4 Compiler: gcc gcc (GCC) 11.5.0 20240719 (Red Hat 11.5.0-2) Ubuntu 20.04 Kernel: 5.15 Compiler: aarch64-linux-gnu-gcc gcc (Ubuntu 9.4.0-1ubuntu1~20.04.2) 9.4.0 Debian GNU/Linux 12 Kernel: 5.4 Compiler: gcc gcc (Debian 12.2.0-14+deb12u1) 12.2.0 Fedora Linux 40 Kernel: 5.4 Compiler: gcc gcc (GCC) 14.2.1 20240912 (Red Hat 14.2.1-3) Fedora Linux 41 Kernel: 5.4 Compiler: gcc gcc (GCC) 14.3.1 20250523 (Red Hat 14.3.1-1) Ubuntu 22.04 Kernel: 5.4 Compiler: gcc gcc (Ubuntu 11.4.0-1ubuntu1~22.04) 11.4.0 Ubuntu 24.04 Kernel: 5.4 Compiler: gcc gcc (Ubuntu 13.3.0-6ubuntu2~24.04) 13.3.0 CentOS Stream 9 Kernel: 5.4 Compiler: gcc gcc (GCC) 11.5.0 20240719 (Red Hat 11.5.0-7) CentOS Stream 10 Kernel: 5.4 Compiler: gcc gcc (GCC) 14.2.1 20250110 (Red Hat 14.2.1-8) To view detailed results, visit: https://lab.dpdk.org/results/dashboard/patchsets/33697/ UNH-IOL DPDK Community Lab To manage your email subscriptions, visit: https://lab.dpdk.org/results/dashboard/preferences/subscriptions/