From mboxrd@z Thu Jan 1 00:00:00 1970 Return-Path: Received: from mails.dpdk.org (mails.dpdk.org [217.70.189.124]) by inbox.dpdk.org (Postfix) with ESMTP id 6CF6646BBD for ; Sun, 20 Jul 2025 03:19:42 +0200 (CEST) Received: from mails.dpdk.org (localhost [127.0.0.1]) by mails.dpdk.org (Postfix) with ESMTP id 3F788400D5; Sun, 20 Jul 2025 03:19:42 +0200 (CEST) Received: from mail-qv1-f100.google.com (mail-qv1-f100.google.com [209.85.219.100]) by mails.dpdk.org (Postfix) with ESMTP id 5ACCC400D5 for ; Sun, 20 Jul 2025 03:19:41 +0200 (CEST) Received: by mail-qv1-f100.google.com with SMTP id 6a1803df08f44-6fb1be9ba89so28844116d6.2 for ; Sat, 19 Jul 2025 18:19:41 -0700 (PDT) DKIM-Signature: v=1; a=rsa-sha256; c=relaxed/relaxed; d=iol.unh.edu; s=unh-iol; t=1752974380; x=1753579180; darn=dpdk.org; h=cc:to:from:subject:message-id:date:from:to:cc:subject:date :message-id:reply-to; bh=lybArRcm8nYPgaklwYjbHI8eYeb3XvLLSqD1g7KiRh0=; b=Hbdu4Z1MIaqVmz7gylUj+ISUYlX+MpMiY3h2oXL0SEhMui5/qhXOTWdgxGV2XNYjZZ 3cbjR5mlySQzV8dFDJ86KEQhxfROpIh/lg2tmLWc7j5402oN/ZnU0yJRSJ3GXCWulJT3 pyynvZ8Isu5a89R0QoNbjsYGtfdCa7/rDVOjs= X-Google-DKIM-Signature: v=1; a=rsa-sha256; c=relaxed/relaxed; d=1e100.net; s=20230601; t=1752974380; x=1753579180; h=cc:to:from:subject:message-id:date:x-gm-message-state:from:to:cc :subject:date:message-id:reply-to; bh=lybArRcm8nYPgaklwYjbHI8eYeb3XvLLSqD1g7KiRh0=; b=CIPVNN4rV4rcKyMb3U7cRlbYLBMUUVdRa34gwD+ZDFv8BwFpHt1CLh/WEIImLdnL9k oll9Mzk+R+hy2Uz64egv2MUDzCfEqQeL6lOnxl3IdYldLADHXJZHoSe7LHQ71RlzLjVI 5iocSveI7y6lQDbI9SXrATyRjhK69PXtyVqzHAJgZv7Q2Je+hZVpGgLFiQ0E8D3CoXu7 3FkfAZEZbZLyC42stkGzUFYAJ4Nb6e599arx1oJeXEfAT40IfhlRKDKnNhEyeLc50Z0u 2UsHo7KXdUIYnepOmt0sDaKfwScve3MfFLeEb7HQK8N8i9H6oWuxBCyB8vXg7dUg/viT usww== X-Gm-Message-State: AOJu0YwIqja9I8euzrktcV/SjHxsiCImKFKtlyxBpO0tbqKzMYSmf8Ql RTGsarbSabb01gdhbeSQPV4V/JEJFLODyFnzSQs36mgeKkHP2Kmc8Ch2uTcHj75LE/r0EefaU4Z rabuHALeSzaFv0tJs9/yKzftDw0jAL7iSjaq93Pj6nbur X-Gm-Gg: ASbGnct1lZtlE6mMDoJFqWSbqEplYa2LvFR+remdTeKvkkMDc0kVzketRTp+AidRKTC 9MnuJqS6MTvvdehVCULc7P+abDHAkMIkaC15+kRc1tleN0NE97n2f9HiYUqyALivVKA3U50BFvN yicmVXSHRdNL5LC10OHR3Kzk7XwrKivw8NLMPMxxUM0tvUtzEUKUb4dPfQzkUX8lmtDaAyTQk22 TLDubOYfqwfeQ1RwMFn5qVvvUxhhm7f2dOSkmHFFzamMCT4Uywj1VL3T6o+3euLmqf4djk21QwE TgP/6FBX/xs0rCTNlaQvbL0+wd6TxwGreQNoZBbkTPxKtBW4bK+S6CPldRF80cw4ZJDChggn X-Google-Smtp-Source: AGHT+IHRtUSVWrT6bx4hMSLZMvXo+LHxM4AlzEQ/MSscdWTwtJjH4i7Hw7sVMPpmIRadDJIx0zDjUYdSM7b8 X-Received: by 2002:a05:6214:3bc2:b0:6ff:16da:af20 with SMTP id 6a1803df08f44-704f6a57203mr211176736d6.14.1752974380641; Sat, 19 Jul 2025 18:19:40 -0700 (PDT) Received: from postal.iol.unh.edu (postal.iol.unh.edu. [132.177.123.84]) by smtp-relay.gmail.com with ESMTPS id 6a1803df08f44-7051ba2c298sm2448286d6.3.2025.07.19.18.19.40 (version=TLS1_2 cipher=ECDHE-ECDSA-AES128-GCM-SHA256 bits=128/128); Sat, 19 Jul 2025 18:19:40 -0700 (PDT) X-Relaying-Domain: iol.unh.edu Date: Sat, 19 Jul 2025 18:19:40 -0700 (PDT) Message-ID: <687c442c.050a0220.4714f.d635SMTPIN_ADDED_MISSING@mx.google.com> Received: from [172.21.0.2] (unknown [172.18.0.240]) by postal.iol.unh.edu (Postfix) with ESMTP id 61F356051830; Sat, 19 Jul 2025 21:19:40 -0400 (EDT) Subject: |SUCCESS| [GIT MASTER] f6e3473724e7ce31103fa0ecad62b282ec8e7090 From: dpdklab@iol.unh.edu To: Test Report Cc: dpdk-test-reports@iol.unh.edu Content-Type: text/plain X-BeenThere: test-report@dpdk.org X-Mailman-Version: 2.1.29 Precedence: list List-Id: automatic DPDK test reports List-Unsubscribe: , List-Archive: List-Post: List-Help: List-Subscribe: , Errors-To: test-report-bounces@dpdk.org _Testing PASS_ Branch: dpdk f6e3473724e7ce31103fa0ecad62b282ec8e7090 --> testing pass Upstream job id: Generic-Unit-Test-DPDK#356603 Test environment and result as below: +-------------------------------+----------------+ | Environment | dpdk_unit_test | +===============================+================+ | Fedora Linux 40 | PASS | +-------------------------------+----------------+ | Debian GNU/Linux 12 | PASS | +-------------------------------+----------------+ | CentOS Stream 10 | PASS | +-------------------------------+----------------+ | Arch Linux 20250613.0.365270 | PASS | +-------------------------------+----------------+ | CentOS Stream 9 | PASS | +-------------------------------+----------------+ | Ubuntu 20.04 | PASS | +-------------------------------+----------------+ | Ubuntu 24.04 | PASS | +-------------------------------+----------------+ | Ubuntu 22.04 | PASS | +-------------------------------+----------------+ | Fedora Linux 41 | PASS | +-------------------------------+----------------+ | Red Hat Enterprise Linux 9.5 | PASS | +-------------------------------+----------------+ | Red Hat Enterprise Linux 8.10 | PASS | +-------------------------------+----------------+ | Windows Server 2022 | PASS | +-------------------------------+----------------+ Fedora Linux 40 Kernel: 5.15 Compiler: clang gcc (GCC) 14.2.1 20240912 (Red Hat 14.2.1-3) Debian GNU/Linux 12 Kernel: 5.15 Compiler: gcc gcc (Debian 12.2.0-14+deb12u1) 12.2.0 CentOS Stream 10 Kernel: 5.15 Compiler: gcc gcc (GCC) 14.2.1 20250110 (Red Hat 14.2.1-8) Arch Linux 20250613.0.365270 Kernel: 5.15 Compiler: gcc gcc (GCC) 15.1.1 20250425 CentOS Stream 9 Kernel: 5.15 Compiler: gcc gcc (GCC) 11.5.0 20240719 (Red Hat 11.5.0-7) Ubuntu 20.04 Kernel: 5.15 Compiler: gcc gcc (Ubuntu 9.4.0-1ubuntu1~20.04.2) 9.4.0 Ubuntu 24.04 Kernel: 5.15 Compiler: gcc gcc (Ubuntu 13.3.0-6ubuntu2~24.04) 13.3.0 Ubuntu 22.04 Kernel: 5.15 Compiler: gcc gcc (Ubuntu 11.4.0-1ubuntu1~22.04) 11.4.0 Fedora Linux 41 Kernel: 5.15 Compiler: clang gcc (GCC) 14.3.1 20250523 (Red Hat 14.3.1-1) Red Hat Enterprise Linux 9.5 Kernel: 5.15 Compiler: gcc gcc (GCC) 11.5.0 20240719 (Red Hat 11.5.0-2) Red Hat Enterprise Linux 8.10 Kernel: 5.15 Compiler: gcc gcc (GCC) 8.5.0 20210514 (Red Hat 8.5.0-22) Windows Server 2022 Kernel: 10.0.20348.2031 Compiler: clang 15.0.7, gcc 14.1.0 (MinGW), and MSVC VS 19.39.33521 To view detailed results, visit: https://lab.dpdk.org/results/dashboard/tarballs/34328/ UNH-IOL DPDK Community Lab To manage your email subscriptions, visit: https://lab.dpdk.org/results/dashboard/preferences/subscriptions/