From mboxrd@z Thu Jan 1 00:00:00 1970 Return-Path: Received: from mails.dpdk.org (mails.dpdk.org [217.70.189.124]) by inbox.dpdk.org (Postfix) with ESMTP id 0804F46BBD for ; Sun, 20 Jul 2025 03:26:00 +0200 (CEST) Received: from mails.dpdk.org (localhost [127.0.0.1]) by mails.dpdk.org (Postfix) with ESMTP id D6A80400D5; Sun, 20 Jul 2025 03:25:59 +0200 (CEST) Received: from mail-il1-f225.google.com (mail-il1-f225.google.com [209.85.166.225]) by mails.dpdk.org (Postfix) with ESMTP id 152A6400D5 for ; Sun, 20 Jul 2025 03:25:58 +0200 (CEST) Received: by mail-il1-f225.google.com with SMTP id e9e14a558f8ab-3da73df6c4eso27741915ab.0 for ; Sat, 19 Jul 2025 18:25:57 -0700 (PDT) DKIM-Signature: v=1; a=rsa-sha256; c=relaxed/relaxed; d=iol.unh.edu; s=unh-iol; t=1752974757; x=1753579557; darn=dpdk.org; h=cc:to:from:subject:message-id:date:from:to:cc:subject:date :message-id:reply-to; bh=EAGOmcfYlPp6I5uJlmsyYRKDBoHVbHR5/D3BXQ0/EIk=; b=RyrZNVvKy3FwEO71y5x8YH+k+pfwqnHwVcJcrmGAZr0NgcmMG5/RrP7Yr/bFUFt0Dn ySSk/3i3p5NJhZt+8r+cQnfIhw05r+YkXIhuoeacA8YyYYHSq+sO373gS0kC5uW7BbqW USgWxm0kTMDcFT3I8XMgUacKniRzKPXCDqxwE= X-Google-DKIM-Signature: v=1; a=rsa-sha256; c=relaxed/relaxed; d=1e100.net; s=20230601; t=1752974757; x=1753579557; h=cc:to:from:subject:message-id:date:x-gm-message-state:from:to:cc :subject:date:message-id:reply-to; bh=EAGOmcfYlPp6I5uJlmsyYRKDBoHVbHR5/D3BXQ0/EIk=; b=IoDfvJTXGrAbO+9iVVn9PSDrznMtPPIH7jH9D9XsZkumnZryv1IWLdt3Hn4kG8K7tk fB8LNGVCzBSq62Ysp5XISEkhpztnBpBZK+ebJ6HOnnlLko55kiCotGk7K5vb3izfRnuS BoTmvJJngeZ3ZCKLYpExVzqe4ezHW2jSci6ows9DKACMSH4MVWKDT0Al4IQqqty73yHg IZTX0JldJxWsJOegMBmx5pQ+hD7S06GK8hCOrUy+iVBy56Uqfx3fgRpLR3vKq5uWYm9d +RIg7vwpDwdeUABuil1/keA4wu/U/btptvnPi/DbFEDAr+ufZsdbJFYq374jdp8V7S7A joVw== X-Gm-Message-State: AOJu0YzaURtVWZR6Oshik92HoRSVC1lhzTWlv4PwTRRh7qmZuDElSCUj BngUUJ2Iz/P6NeuPGKY5BCpI99KWno94Ju9wuStwIhTrt8TG/ms0CTPLhdLlHT/Jpj06COcJR/V G4GjvIzWMiRAHLyhImnczXkOdFgFjX80fENKN1kHM3Kqg X-Gm-Gg: ASbGncvrFGSH+WEUjICwk3NB6trQkhw/k9Zspe+esGY6SQp3aXJ2pQWz5W91dszrnGn PQJgaANjYX7B2U9FrGSKnMqC56XzrfTCDtSJHVD0HHqVEoZdBFXIg+axm0dqb/Tv2MiTgDyppfx Igpmwl2KFQbn06iOE2eXZh1Hd5WWxayPdR5m+RxIez3Albg4s2yvZBNmI9IRAKCYp0LaY+ETuf7 Hz4oQg62d3tq/t70x4yQjIe6jv6N44IDroe4DqaNanz32rjT/FTZ+rX8OP409R9z8pDhTMRiYuY FhYkMJfK/jfrMC8NzDoq2wdSQ+LY0aIpod4GKmIjuaNJ6ibcJ6UlpyQC60DM5RHmrVuDDs0D X-Google-Smtp-Source: AGHT+IHtvu/LssiFNdhXC4dasHJS0BvmL+FljYfiQj6vu5kz0HaNHa6cAGPryMcT2ocuZ1KkttPC1SAHR3kM X-Received: by 2002:a05:6e02:16c5:b0:3df:3d1a:2e76 with SMTP id e9e14a558f8ab-3e2822fa81cmr153231935ab.1.1752974757283; Sat, 19 Jul 2025 18:25:57 -0700 (PDT) Received: from postal.iol.unh.edu (postal.iol.unh.edu. [132.177.123.84]) by smtp-relay.gmail.com with ESMTPS id 8926c6da1cb9f-5084c8f541asm233209173.35.2025.07.19.18.25.57 (version=TLS1_2 cipher=ECDHE-ECDSA-AES128-GCM-SHA256 bits=128/128); Sat, 19 Jul 2025 18:25:57 -0700 (PDT) X-Relaying-Domain: iol.unh.edu Date: Sat, 19 Jul 2025 18:25:57 -0700 (PDT) Message-ID: <687c45a5.050a0220.53da1.ba0bSMTPIN_ADDED_MISSING@mx.google.com> Received: from [172.21.0.2] (unknown [172.18.0.240]) by postal.iol.unh.edu (Postfix) with ESMTP id CB5A76051830; Sat, 19 Jul 2025 21:25:56 -0400 (EDT) Subject: |SUCCESS| [GIT MASTER] f6e3473724e7ce31103fa0ecad62b282ec8e7090 From: dpdklab@iol.unh.edu To: Test Report Cc: dpdk-test-reports@iol.unh.edu Content-Type: text/plain X-BeenThere: test-report@dpdk.org X-Mailman-Version: 2.1.29 Precedence: list List-Id: automatic DPDK test reports List-Unsubscribe: , List-Archive: List-Post: List-Help: List-Subscribe: , Errors-To: test-report-bounces@dpdk.org _Testing PASS_ Branch: dpdk f6e3473724e7ce31103fa0ecad62b282ec8e7090 --> testing pass Upstream job id: Generic-DPDK-Compile-ABI#134944 Test environment and result as below: +-------------------------------+----------+ | Environment | abi_test | +===============================+==========+ | Arch Linux 20250613.0.365270 | PASS | +-------------------------------+----------+ | Fedora Linux 40 | PASS | +-------------------------------+----------+ | Fedora Linux 41 | PASS | +-------------------------------+----------+ | CentOS Stream 10 | PASS | +-------------------------------+----------+ | CentOS Stream 9 | PASS | +-------------------------------+----------+ | Debian GNU/Linux 12 | PASS | +-------------------------------+----------+ | Ubuntu 24.04 | PASS | +-------------------------------+----------+ | Ubuntu 22.04 | PASS | +-------------------------------+----------+ | Red Hat Enterprise Linux 9.5 | PASS | +-------------------------------+----------+ | openSUSE Leap 15.6 | PASS | +-------------------------------+----------+ | Red Hat Enterprise Linux 8.10 | PASS | +-------------------------------+----------+ Arch Linux 20250613.0.365270 Kernel: 5.15 Compiler: gcc gcc (GCC) 15.1.1 20250425 Fedora Linux 40 Kernel: 5.15 Compiler: clang gcc (GCC) 14.2.1 20240912 (Red Hat 14.2.1-3) Fedora Linux 41 Kernel: 5.15 Compiler: clang gcc (GCC) 14.3.1 20250523 (Red Hat 14.3.1-1) CentOS Stream 10 Kernel: 5.15 Compiler: gcc gcc (GCC) 14.2.1 20250110 (Red Hat 14.2.1-8) CentOS Stream 9 Kernel: 5.15 Compiler: gcc gcc (GCC) 11.5.0 20240719 (Red Hat 11.5.0-7) Debian GNU/Linux 12 Kernel: 5.15 Compiler: gcc gcc (Debian 12.2.0-14+deb12u1) 12.2.0 Ubuntu 24.04 Kernel: 5.15 Compiler: gcc gcc (Ubuntu 13.3.0-6ubuntu2~24.04) 13.3.0 Ubuntu 22.04 Kernel: 5.15 Compiler: gcc gcc (Ubuntu 11.4.0-1ubuntu1~22.04) 11.4.0 Red Hat Enterprise Linux 9.5 Kernel: 5.15 Compiler: gcc gcc (GCC) 11.5.0 20240719 (Red Hat 11.5.0-2) openSUSE Leap 15.6 Kernel: 5.15 Compiler: gcc gcc (SUSE Linux) 7.5.0 Red Hat Enterprise Linux 8.10 Kernel: 5.15 Compiler: gcc gcc (GCC) 8.5.0 20210514 (Red Hat 8.5.0-22) To view detailed results, visit: https://lab.dpdk.org/results/dashboard/tarballs/34328/ UNH-IOL DPDK Community Lab To manage your email subscriptions, visit: https://lab.dpdk.org/results/dashboard/preferences/subscriptions/