From mboxrd@z Thu Jan 1 00:00:00 1970 Return-Path: Received: from mails.dpdk.org (mails.dpdk.org [217.70.189.124]) by inbox.dpdk.org (Postfix) with ESMTP id A35C046BBD for ; Sun, 20 Jul 2025 03:45:29 +0200 (CEST) Received: from mails.dpdk.org (localhost [127.0.0.1]) by mails.dpdk.org (Postfix) with ESMTP id 82B19400D5; Sun, 20 Jul 2025 03:45:29 +0200 (CEST) Received: from mail-oo1-f97.google.com (mail-oo1-f97.google.com [209.85.161.97]) by mails.dpdk.org (Postfix) with ESMTP id CEF54400D5 for ; Sun, 20 Jul 2025 03:45:27 +0200 (CEST) Received: by mail-oo1-f97.google.com with SMTP id 006d021491bc7-615a80bb75cso967136eaf.2 for ; Sat, 19 Jul 2025 18:45:27 -0700 (PDT) DKIM-Signature: v=1; a=rsa-sha256; c=relaxed/relaxed; d=iol.unh.edu; s=unh-iol; t=1752975927; x=1753580727; darn=dpdk.org; h=cc:to:from:subject:message-id:date:from:to:cc:subject:date :message-id:reply-to; bh=jZY/fhBlEKaad5ljg9wVoAAVfeaOEY1m2XkWjuFZGfE=; b=bwwRdkiUFfaViTOdanuapIaxt2OJZ+8OgJKDl5YYK8cQjio/6ec/eahPjQuBhZQ5y4 KirmCHXuI66/SoOTY0WZ+SbMuW3UENTe+1Hvw5pzWYHmCpur7Q7g3T7N9gtdykre4jjq zD84CG9J+gsrU/PO3W2y8PDZvLqNVUkrJ8bto= X-Google-DKIM-Signature: v=1; a=rsa-sha256; c=relaxed/relaxed; d=1e100.net; s=20230601; t=1752975927; x=1753580727; h=cc:to:from:subject:message-id:date:x-gm-message-state:from:to:cc :subject:date:message-id:reply-to; bh=jZY/fhBlEKaad5ljg9wVoAAVfeaOEY1m2XkWjuFZGfE=; b=Rm4xSeE/ugBity92MQojhz0WJIhvyvTqlRdOQQ0Pbqt0S1HWauojVdPUde3YftJFvF CQ0iUk3tc97Y9Jty1lP9hls1mU4xhRU0sMvtB+NWACjU7auAKtzskWvHai2Ffewq6s22 lHrk/wa0gUsv35dJL8EhJAtU0lYP9DdDwTKhzzryWSYjes0OX4hliSrt929dWMBBG0wY vgVZfBJzjV5BrnXxZj/SJrUMFWerg/s6bLCi5b7aDs4qoLQiXBkjxv9JifcfVDhObb9p j/ras1mIEny+NrAt4bx2WeG7iXvQhxmwgLdFdJMwRaNNLJdAPoHjJgXmxw39LCAltIly IIuA== X-Gm-Message-State: AOJu0YzUNo/8NCVzSS3z7q1MD8ojz9r8nvtutFyDnGR1SHBNXeeSikfc SB5Ybq7m8gXW/XazWym+Mjymw9afjMGivp6odmZMzrumD70kXKB3M09IqipcXEYKrOqBr5qtC8Z vL8kAPcrMGaxgCZaiduGOnXjVNkV300wdlqjI90kHCgBS X-Gm-Gg: ASbGncuqqEEOTF4TeWZtdbdLhI7kU+H8zKCu6klAJmerIMnX+bBi2Ht+69yLAWzWp7k WiH18eTuxfrdHfY9APBGdMmOMCSIhexiAnR9Ng4sihGAweBFVxBDL0ehDSMLSJja1oGK+j+WU+8 4coLkzunhpNuTrfu1bE5WV5m3qeE25+DEcyxgXS0AovnwCg3ALDKM5vxxEaG5sdMIH/Ne6wqchO jRlGtB/Bw76IMC11YbuVxGTkbN1uf/z8qmzvDk6fDeZ6XI3R9N0RqOtqqF6ZcThCeA9IQC+8RyZ xpVRv+NVYwlq66cXrmSajOzuVU6m5pELWATOkrjVGZ47dja1kIwIcnk2pEu9R8+SbiI5f0aU X-Google-Smtp-Source: AGHT+IHlxUbeIjh6d5gplPw1Ny0JvRUAC6S6XwcN487yQAaqzn7t6Ghs9pbpnlEF24X5FPbAOtNrjeOB1Yh5 X-Received: by 2002:a05:6871:3685:b0:2ff:a814:dfdf with SMTP id 586e51a60fabf-300e9dcc04dmr6247773fac.20.1752975926784; Sat, 19 Jul 2025 18:45:26 -0700 (PDT) Received: from postal.iol.unh.edu (postal.iol.unh.edu. [132.177.123.84]) by smtp-relay.gmail.com with ESMTPS id 586e51a60fabf-301065537b0sm377129fac.31.2025.07.19.18.45.26 (version=TLS1_2 cipher=ECDHE-ECDSA-AES128-GCM-SHA256 bits=128/128); Sat, 19 Jul 2025 18:45:26 -0700 (PDT) X-Relaying-Domain: iol.unh.edu Date: Sat, 19 Jul 2025 18:45:26 -0700 (PDT) Message-ID: <687c4a36.050a0220.9ab7f.4263SMTPIN_ADDED_MISSING@mx.google.com> Received: from [172.21.0.2] (unknown [172.18.0.240]) by postal.iol.unh.edu (Postfix) with ESMTP id 4A1586051830; Sat, 19 Jul 2025 21:45:26 -0400 (EDT) Subject: |SUCCESS| [GIT MASTER] f6e3473724e7ce31103fa0ecad62b282ec8e7090 From: dpdklab@iol.unh.edu To: Test Report Cc: dpdk-test-reports@iol.unh.edu Content-Type: text/plain X-BeenThere: test-report@dpdk.org X-Mailman-Version: 2.1.29 Precedence: list List-Id: automatic DPDK test reports List-Unsubscribe: , List-Archive: List-Post: List-Help: List-Subscribe: , Errors-To: test-report-bounces@dpdk.org _Testing PASS_ Branch: dpdk f6e3473724e7ce31103fa0ecad62b282ec8e7090 --> testing pass Upstream job id: Generic-Unit-Test-DPDK#356598 Test environment and result as below: +------------------------------+--------------+------------------------------+---------------------------+----------------+ | Environment | lpm_autotest | cryptodev_sw_snow3g_autotest | cryptodev_sw_zuc_autotest | dpdk_unit_test | +==============================+==============+==============================+===========================+================+ | Ubuntu 20.04 | PASS | SKIPPED | SKIPPED | PASS | +------------------------------+--------------+------------------------------+---------------------------+----------------+ | Debian 12 (arm) | SKIPPED | PASS | PASS | SKIPPED | +------------------------------+--------------+------------------------------+---------------------------+----------------+ | Ubuntu 22.04 | SKIPPED | SKIPPED | SKIPPED | PASS | +------------------------------+--------------+------------------------------+---------------------------+----------------+ | CentOS Stream 10 | SKIPPED | SKIPPED | SKIPPED | PASS | +------------------------------+--------------+------------------------------+---------------------------+----------------+ | CentOS Stream 9 | SKIPPED | SKIPPED | SKIPPED | PASS | +------------------------------+--------------+------------------------------+---------------------------+----------------+ | Fedora Linux 40 | SKIPPED | SKIPPED | SKIPPED | PASS | +------------------------------+--------------+------------------------------+---------------------------+----------------+ | Fedora Linux 41 | SKIPPED | SKIPPED | SKIPPED | PASS | +------------------------------+--------------+------------------------------+---------------------------+----------------+ | Debian GNU/Linux 12 | SKIPPED | SKIPPED | SKIPPED | PASS | +------------------------------+--------------+------------------------------+---------------------------+----------------+ | Ubuntu 24.04 | SKIPPED | SKIPPED | SKIPPED | PASS | +------------------------------+--------------+------------------------------+---------------------------+----------------+ | Red Hat Enterprise Linux 9.5 | SKIPPED | SKIPPED | SKIPPED | PASS | +------------------------------+--------------+------------------------------+---------------------------+----------------+ Ubuntu 20.04 Kernel: 5.4 Compiler: gcc gcc (Ubuntu 9.4.0-1ubuntu1~20.04.2) 9.4.0 Debian 12 (arm) Kernel: Depends on container host Compiler: gcc (Debian 12.2.0-14) 12.2.0 Ubuntu 22.04 Kernel: 5.4 Compiler: gcc gcc (Ubuntu 11.4.0-1ubuntu1~22.04) 11.4.0 CentOS Stream 10 Kernel: 5.4 Compiler: gcc gcc (GCC) 14.2.1 20250110 (Red Hat 14.2.1-8) CentOS Stream 9 Kernel: 5.4 Compiler: gcc gcc (GCC) 11.5.0 20240719 (Red Hat 11.5.0-7) Fedora Linux 40 Kernel: 5.4 Compiler: gcc gcc (GCC) 14.2.1 20240912 (Red Hat 14.2.1-3) Fedora Linux 41 Kernel: 5.4 Compiler: gcc gcc (GCC) 14.3.1 20250523 (Red Hat 14.3.1-1) Debian GNU/Linux 12 Kernel: 5.4 Compiler: gcc gcc (Debian 12.2.0-14+deb12u1) 12.2.0 Ubuntu 24.04 Kernel: 5.4 Compiler: gcc gcc (Ubuntu 13.3.0-6ubuntu2~24.04) 13.3.0 Red Hat Enterprise Linux 9.5 Kernel: 5.4 Compiler: gcc gcc (GCC) 11.5.0 20240719 (Red Hat 11.5.0-2) To view detailed results, visit: https://lab.dpdk.org/results/dashboard/tarballs/34328/ UNH-IOL DPDK Community Lab To manage your email subscriptions, visit: https://lab.dpdk.org/results/dashboard/preferences/subscriptions/