From mboxrd@z Thu Jan 1 00:00:00 1970 Return-Path: Received: from mails.dpdk.org (mails.dpdk.org [217.70.189.124]) by inbox.dpdk.org (Postfix) with ESMTP id B134F46BBD for ; Sun, 20 Jul 2025 03:46:43 +0200 (CEST) Received: from mails.dpdk.org (localhost [127.0.0.1]) by mails.dpdk.org (Postfix) with ESMTP id AA81C400D7; Sun, 20 Jul 2025 03:46:43 +0200 (CEST) Received: from mail-pj1-f99.google.com (mail-pj1-f99.google.com [209.85.216.99]) by mails.dpdk.org (Postfix) with ESMTP id 22A3A400D5 for ; Sun, 20 Jul 2025 03:46:42 +0200 (CEST) Received: by mail-pj1-f99.google.com with SMTP id 98e67ed59e1d1-31ca042d3b8so2676987a91.0 for ; Sat, 19 Jul 2025 18:46:42 -0700 (PDT) DKIM-Signature: v=1; a=rsa-sha256; c=relaxed/relaxed; d=iol.unh.edu; s=unh-iol; t=1752976001; x=1753580801; darn=dpdk.org; h=cc:to:from:subject:message-id:date:from:to:cc:subject:date :message-id:reply-to; bh=TcuapkaVD/ELoQCoKnbY27oqgB62/mjKywxc0kSvjFQ=; b=jS7IV+HF5J8f+WT33mrmPLZq93EIrpJNqRh+TOU/J87BbEOd6zup/Ht9QbqL5UOzMR S1j/QEPXMt/Lhqcaey7/TZF334we59RPC4ZfGO/6d9yRamnes4c5Npnl44aG1tFGZc1J Dj/n02eWhee1WR/8+/7KML4mgvcT6UK6Nuk5g= X-Google-DKIM-Signature: v=1; a=rsa-sha256; c=relaxed/relaxed; d=1e100.net; s=20230601; t=1752976001; x=1753580801; h=cc:to:from:subject:message-id:date:x-gm-message-state:from:to:cc :subject:date:message-id:reply-to; bh=TcuapkaVD/ELoQCoKnbY27oqgB62/mjKywxc0kSvjFQ=; b=cKspW5229fo613CMSpfTMJDhbO2jYbC0v9H3TqHa8mbIdayDPF6IM7sdx+xCl+VcWe 4CeJEfqjt88dLGq5ADDmR4Z8wEHbX6McPXFRFIsIxoSWNWjoYT/iSW6u3u/o1VLqWnxc kDZN6J9klmcrVO1G0B1oxAta8dIq/XWCYeG5jxADb24XooIK+6hg+51/A+N/BFOFQWRD lrsXogPWZy4cJA5utLFH0fEcxcfKIwWotIIK7kT6nWsOSLKFG2i0qGqoPDkiHMvL6YPy ZhTKlN7V1+06oTicNBp9IjRyIcL5Jlnx+n3ocoG/aBzUhQjCrH7xN2H5ES7n9cPqIUVx mJQA== X-Gm-Message-State: AOJu0YxMGxYKZZ99R698gk5SqkzCtogq1RC8p66fq0VmwO5BCHjAJDZ7 TgrpbZNJpntSXHOJoZgYm1Pc6JPvoanc6jWf3m5KRJFZDKyQmA0TG2wvoDrCTZ52t3rJeGKorvY U+AaR2PQFcswqN3ejH5JgwPEhIe/w6YgjxHf6yPlhlfVWXm3/8qnHWnAJCAMs X-Gm-Gg: ASbGnct7kyTCcNhSwTGS5q1/VzvjYanT069uJjOAWaWAZ05WLoz9RUgPyNqsG1BABbJ JIrNM6kC6tUF8w9jLwBRMntGnd8xJU1Sqb4539ecyxWJWVxYO5szBjCbiUBcsmc4ONbMHvUgt+j lInk+ZsZPQA1Mvaw9OxMLCFvr5MJ7GMAWxJiiiekNjMFKe1+aaLkp8iqCmI2hBkex5NKEt/m3TH afzIZXBs8BPUygcuLn4tkMDrkbhGVD+bHVQc2WycRpYLbhX6xXTb29aYB5lYpPTcdq+CckDIPXx mbEIMFYlmrPJsKMSt0B3ptuEFqHNpSWeoJN3NRgM4EvzRz9ygw== X-Google-Smtp-Source: AGHT+IH7GYrMbKpDLRt3iicTmCTlpD+23rh782mXR66uy77KlleG3i+VRTlgjM4izxnraCzhUSXIxf0zEAyA X-Received: by 2002:a17:90a:d00b:b0:312:639:a06a with SMTP id 98e67ed59e1d1-31c9e79383bmr22736237a91.31.1752976001172; Sat, 19 Jul 2025 18:46:41 -0700 (PDT) Received: from postal.iol.unh.edu (postal.iol.unh.edu. [2606:4100:3880:1234::84]) by smtp-relay.gmail.com with ESMTPS id 98e67ed59e1d1-31c9f1fbc0csm521522a91.7.2025.07.19.18.46.41 (version=TLS1_2 cipher=ECDHE-ECDSA-AES128-GCM-SHA256 bits=128/128); Sat, 19 Jul 2025 18:46:41 -0700 (PDT) X-Relaying-Domain: iol.unh.edu Date: Sat, 19 Jul 2025 18:46:41 -0700 (PDT) Message-ID: <687c4a81.170a0220.3bb5e1.974cSMTPIN_ADDED_MISSING@mx.google.com> Received: from [172.21.0.2] (unknown [172.18.0.240]) by postal.iol.unh.edu (Postfix) with ESMTP id 5C3776051830; Sat, 19 Jul 2025 21:46:40 -0400 (EDT) Subject: |SUCCESS| [GIT MASTER] f6e3473724e7ce31103fa0ecad62b282ec8e7090 From: dpdklab@iol.unh.edu To: Test Report Cc: dpdk-test-reports@iol.unh.edu Content-Type: text/plain X-BeenThere: test-report@dpdk.org X-Mailman-Version: 2.1.29 Precedence: list List-Id: automatic DPDK test reports List-Unsubscribe: , List-Archive: List-Post: List-Help: List-Subscribe: , Errors-To: test-report-bounces@dpdk.org _Testing PASS_ Branch: dpdk f6e3473724e7ce31103fa0ecad62b282ec8e7090 --> testing pass Upstream job id: Generic-DPDK-Compile-Meson#410178 Test environment and result as below: +-------------------------------+--------------------+-------------------+------------------+-------------------------+-------------------+----------------------+ | Environment | dpdk_meson_compile | dpdk_compile_spdk | dpdk_compile_ovs | dpdk_llvm_clang_compile | dpdk_msvc_compile | dpdk_mingw64_compile | +===============================+====================+===================+==================+=========================+===================+======================+ | CentOS Stream 10 | PASS | SKIPPED | SKIPPED | SKIPPED | SKIPPED | SKIPPED | +-------------------------------+--------------------+-------------------+------------------+-------------------------+-------------------+----------------------+ | CentOS Stream 9 | PASS | PASS | SKIPPED | SKIPPED | SKIPPED | SKIPPED | +-------------------------------+--------------------+-------------------+------------------+-------------------------+-------------------+----------------------+ | Debian GNU/Linux 12 | PASS | PASS | SKIPPED | SKIPPED | SKIPPED | SKIPPED | +-------------------------------+--------------------+-------------------+------------------+-------------------------+-------------------+----------------------+ | Fedora Linux 40 | PASS | PASS | SKIPPED | SKIPPED | SKIPPED | SKIPPED | +-------------------------------+--------------------+-------------------+------------------+-------------------------+-------------------+----------------------+ | Fedora Linux 41 | PASS | PASS | PASS | SKIPPED | SKIPPED | SKIPPED | +-------------------------------+--------------------+-------------------+------------------+-------------------------+-------------------+----------------------+ | Ubuntu 20.04 | PASS | SKIPPED | SKIPPED | SKIPPED | SKIPPED | SKIPPED | +-------------------------------+--------------------+-------------------+------------------+-------------------------+-------------------+----------------------+ | Red Hat Enterprise Linux 9.5 | PASS | SKIPPED | SKIPPED | SKIPPED | SKIPPED | SKIPPED | +-------------------------------+--------------------+-------------------+------------------+-------------------------+-------------------+----------------------+ | openSUSE Leap 15.6 | PASS | SKIPPED | SKIPPED | SKIPPED | SKIPPED | SKIPPED | +-------------------------------+--------------------+-------------------+------------------+-------------------------+-------------------+----------------------+ | Red Hat Enterprise Linux 8.10 | PASS | SKIPPED | SKIPPED | SKIPPED | SKIPPED | SKIPPED | +-------------------------------+--------------------+-------------------+------------------+-------------------------+-------------------+----------------------+ | Ubuntu 22.04 | PASS | PASS | SKIPPED | SKIPPED | SKIPPED | SKIPPED | +-------------------------------+--------------------+-------------------+------------------+-------------------------+-------------------+----------------------+ | Ubuntu 24.04 | PASS | PASS | PASS | SKIPPED | SKIPPED | SKIPPED | +-------------------------------+--------------------+-------------------+------------------+-------------------------+-------------------+----------------------+ | Alpine Linux 3.22.0 | PASS | SKIPPED | SKIPPED | SKIPPED | SKIPPED | SKIPPED | +-------------------------------+--------------------+-------------------+------------------+-------------------------+-------------------+----------------------+ | Arch Linux 20250613.0.365270 | PASS | SKIPPED | SKIPPED | SKIPPED | SKIPPED | SKIPPED | +-------------------------------+--------------------+-------------------+------------------+-------------------------+-------------------+----------------------+ | FreeBSD 14.2 | PASS | SKIPPED | SKIPPED | SKIPPED | SKIPPED | SKIPPED | +-------------------------------+--------------------+-------------------+------------------+-------------------------+-------------------+----------------------+ | Windows Server 2022 | SKIPPED | SKIPPED | SKIPPED | PASS | PASS | PASS | +-------------------------------+--------------------+-------------------+------------------+-------------------------+-------------------+----------------------+ CentOS Stream 10 Kernel: 5.15 Compiler: gcc gcc (GCC) 14.2.1 20250110 (Red Hat 14.2.1-8) CentOS Stream 9 Kernel: 5.15 Compiler: gcc gcc (GCC) 11.5.0 20240719 (Red Hat 11.5.0-7) Debian GNU/Linux 12 Kernel: 5.15 Compiler: gcc gcc (Debian 12.2.0-14+deb12u1) 12.2.0 Fedora Linux 40 Kernel: 5.15 Compiler: gcc gcc (GCC) 14.2.1 20240912 (Red Hat 14.2.1-3) Fedora Linux 41 Kernel: 5.15 Compiler: clang gcc (GCC) 14.3.1 20250523 (Red Hat 14.3.1-1) Ubuntu 20.04 Kernel: 5.15 Compiler: gcc gcc (Ubuntu 9.4.0-1ubuntu1~20.04.2) 9.4.0 Red Hat Enterprise Linux 9.5 Kernel: 5.15 Compiler: gcc gcc (GCC) 11.5.0 20240719 (Red Hat 11.5.0-2) openSUSE Leap 15.6 Kernel: 5.15 Compiler: gcc gcc (SUSE Linux) 7.5.0 Red Hat Enterprise Linux 8.10 Kernel: 5.15 Compiler: gcc gcc (GCC) 8.5.0 20210514 (Red Hat 8.5.0-22) Ubuntu 22.04 Kernel: 5.15 Compiler: gcc gcc (Ubuntu 11.4.0-1ubuntu1~22.04) 11.4.0 Ubuntu 24.04 Kernel: 5.15 Compiler: gcc gcc (Ubuntu 13.3.0-6ubuntu2~24.04) 13.3.0 Alpine Linux 3.22.0 Kernel: 5.15 Compiler: gcc gcc (Alpine 14.2.0) 14.2.0 Arch Linux 20250613.0.365270 Kernel: 5.15 Compiler: gcc gcc (GCC) 15.1.1 20250425 FreeBSD 14.2 Kernel: 14.2-RELEASE Compiler: clang 18.1.6 Windows Server 2022 Kernel: 10.0.20348.2031 Compiler: clang 15.0.7, gcc 14.1.0 (MinGW), and MSVC VS 19.39.33521 To view detailed results, visit: https://lab.dpdk.org/results/dashboard/tarballs/34328/ UNH-IOL DPDK Community Lab To manage your email subscriptions, visit: https://lab.dpdk.org/results/dashboard/preferences/subscriptions/