From mboxrd@z Thu Jan 1 00:00:00 1970 Return-Path: Received: from mails.dpdk.org (mails.dpdk.org [217.70.189.124]) by inbox.dpdk.org (Postfix) with ESMTP id 897F146BBE for ; Sun, 20 Jul 2025 05:40:08 +0200 (CEST) Received: from mails.dpdk.org (localhost [127.0.0.1]) by mails.dpdk.org (Postfix) with ESMTP id 51AA4400D5; Sun, 20 Jul 2025 05:40:08 +0200 (CEST) Received: from mail-yb1-f228.google.com (mail-yb1-f228.google.com [209.85.219.228]) by mails.dpdk.org (Postfix) with ESMTP id D3552400D5 for ; Sun, 20 Jul 2025 05:40:06 +0200 (CEST) Received: by mail-yb1-f228.google.com with SMTP id 3f1490d57ef6-e7db5c13088so2795908276.1 for ; Sat, 19 Jul 2025 20:40:06 -0700 (PDT) DKIM-Signature: v=1; a=rsa-sha256; c=relaxed/relaxed; d=iol.unh.edu; s=unh-iol; t=1752982806; x=1753587606; darn=dpdk.org; h=cc:to:from:subject:message-id:date:from:to:cc:subject:date :message-id:reply-to; bh=Ur0hiT2FRxIdMKGPkBYU8r7yNs3Wb2D+/tFgV+nL/b0=; b=U5G4B1taz+VraWAeMlY9mgUl3+FORFc4olU50hlg6K5wvYx1wftuPZKus5Suua6nSC yiI7khPLEx28P4mh49ifa0Oo1gjQWGeX3XalRHBDfNMtIL+B0gzaiigMxOJRZoMVz+RK GWOIzwCdHrNk8Ao0GnLoMHhjHdYh022h2T5T4= X-Google-DKIM-Signature: v=1; a=rsa-sha256; c=relaxed/relaxed; d=1e100.net; s=20230601; t=1752982806; x=1753587606; h=cc:to:from:subject:message-id:date:x-gm-message-state:from:to:cc :subject:date:message-id:reply-to; bh=Ur0hiT2FRxIdMKGPkBYU8r7yNs3Wb2D+/tFgV+nL/b0=; b=Gnm/V85c1duBZLJijpEqmXJ5jTMa+eGoCd7sXIXDWSPap8A+clBEPHzME0RofGHR/f XI4dornaO2QqdO4sNTDHluWlfuleNCfc4wwIlDepCJC33iVA07UaxYKROnqxRcmnUu2/ 7gZdpx08uOqbJFa81xuRF80B4DcSOu1YnHMNIbhhhzYY6tx/uHt3oRjjvaTc0myZk1jY bKmhlrigx9Bks14UrkhPheioXT9DPU0+j+TYCbaGIMXjicJZHR2qxj0I4GTLP6vUdQT0 9zvJHD+WlNb9LyggA8/IOzFNn/PHwIaoEmEq/Pk/Mo32bUiutljWBgl6LM9eFiau50TN mqTw== X-Gm-Message-State: AOJu0YwAESFPowrQdVxPQgC5SWyTjew7zjV6bKkWXUuS2jetabQbttqP au81fEzQIh6KvVPZI9x7qEZyJPhBUTHQZ6itw47/58oThcGSjXFcaPYI2jUmy5yOVTH4yUuG/wQ iaTMQDNiULEsJeaBpxCRnk6rFLzNcW9u4vYhBfOsFivCW X-Gm-Gg: ASbGncsG+8YrtvS8OErvUDDDoiCgXgGDOntpP0xHV33M5V17WK0oJ3LegTbAf/zPQul d216+hPTduoviGkowiUl02MOBDYeDDf5Xuf2/TePKz21YZMrzVBD7Kw5c1+PT/DIwk01uFCxLkx mRDKZ0UZkdzoschKsRk7TkmCW9jqmaHiBfeFOIx65E7fgfgZ+88bz/MgstLDQ3nnzJv2OKIkqxp OEiILQXO3XdK9/VIB8cqGg3/FlZdhOEk95rEVEGJym22on9JFQkb5AmndayxDFMUfHrud0mzCSN YWyTKWRCep5WOVwTXFhzn8xF7ni07W2T2XNWa+rwZBqHqjBnNT/nVeu29Yen7PM75w4RZ8yl X-Google-Smtp-Source: AGHT+IF1l/bp9VPAKp5AKXgwR1wkfQq/K6axDWRggYkKE6Hwufr4h1QH/xkfV7GoVDwRnmZCgVtZzBFHiDE+ X-Received: by 2002:a05:6902:c0d:b0:e8d:9552:31c8 with SMTP id 3f1490d57ef6-e8d95523a2amr3649801276.4.1752982805968; Sat, 19 Jul 2025 20:40:05 -0700 (PDT) Received: from postal.iol.unh.edu (postal.iol.unh.edu. [132.177.123.84]) by smtp-relay.gmail.com with ESMTPS id 3f1490d57ef6-e8d7cc3d677sm277548276.8.2025.07.19.20.40.05 (version=TLS1_2 cipher=ECDHE-ECDSA-AES128-GCM-SHA256 bits=128/128); Sat, 19 Jul 2025 20:40:05 -0700 (PDT) X-Relaying-Domain: iol.unh.edu Date: Sat, 19 Jul 2025 20:40:05 -0700 (PDT) Message-ID: <687c6515.050a0220.19de7f.d79eSMTPIN_ADDED_MISSING@mx.google.com> Received: from [172.21.0.2] (unknown [172.18.0.240]) by postal.iol.unh.edu (Postfix) with ESMTP id A2AD76051830; Sat, 19 Jul 2025 23:40:05 -0400 (EDT) Subject: |SUCCESS| [GIT MASTER] f6e3473724e7ce31103fa0ecad62b282ec8e7090 From: dpdklab@iol.unh.edu To: Test Report Cc: dpdk-test-reports@iol.unh.edu Content-Type: text/plain X-BeenThere: test-report@dpdk.org X-Mailman-Version: 2.1.29 Precedence: list List-Id: automatic DPDK test reports List-Unsubscribe: , List-Archive: List-Post: List-Help: List-Subscribe: , Errors-To: test-report-bounces@dpdk.org _Testing PASS_ Branch: dpdk f6e3473724e7ce31103fa0ecad62b282ec8e7090 --> testing pass Upstream job id: Generic-DPDK-Compile-Meson#410187 Test environment and result as below: +------------------------------+--------------------+ | Environment | dpdk_meson_compile | +==============================+====================+ | Ubuntu 20.04 | PASS | +------------------------------+--------------------+ | Red Hat Enterprise Linux 9.5 | PASS | +------------------------------+--------------------+ | Debian GNU/Linux 12 | PASS | +------------------------------+--------------------+ | Fedora Linux 40 | PASS | +------------------------------+--------------------+ | Fedora Linux 41 | PASS | +------------------------------+--------------------+ | CentOS Stream 9 | PASS | +------------------------------+--------------------+ | Ubuntu 22.04 | PASS | +------------------------------+--------------------+ | Ubuntu 24.04 | PASS | +------------------------------+--------------------+ | CentOS Stream 10 | PASS | +------------------------------+--------------------+ Ubuntu 20.04 Kernel: 5.15 Compiler: aarch64-linux-gnu-gcc gcc (Ubuntu 9.4.0-1ubuntu1~20.04.2) 9.4.0 Red Hat Enterprise Linux 9.5 Kernel: 5.4 Compiler: gcc gcc (GCC) 11.5.0 20240719 (Red Hat 11.5.0-2) Debian GNU/Linux 12 Kernel: 5.4 Compiler: gcc gcc (Debian 12.2.0-14+deb12u1) 12.2.0 Fedora Linux 40 Kernel: 5.4 Compiler: gcc gcc (GCC) 14.2.1 20240912 (Red Hat 14.2.1-3) Fedora Linux 41 Kernel: 5.4 Compiler: gcc gcc (GCC) 14.3.1 20250523 (Red Hat 14.3.1-1) CentOS Stream 9 Kernel: 5.4 Compiler: gcc gcc (GCC) 11.5.0 20240719 (Red Hat 11.5.0-7) Ubuntu 22.04 Kernel: 5.4 Compiler: gcc gcc (Ubuntu 11.4.0-1ubuntu1~22.04) 11.4.0 Ubuntu 24.04 Kernel: 5.4 Compiler: gcc gcc (Ubuntu 13.3.0-6ubuntu2~24.04) 13.3.0 CentOS Stream 10 Kernel: 5.4 Compiler: gcc gcc (GCC) 14.2.1 20250110 (Red Hat 14.2.1-8) To view detailed results, visit: https://lab.dpdk.org/results/dashboard/tarballs/34328/ UNH-IOL DPDK Community Lab To manage your email subscriptions, visit: https://lab.dpdk.org/results/dashboard/preferences/subscriptions/