From mboxrd@z Thu Jan 1 00:00:00 1970 Return-Path: Received: from mails.dpdk.org (mails.dpdk.org [217.70.189.124]) by inbox.dpdk.org (Postfix) with ESMTP id A7C1246BCB for ; Mon, 21 Jul 2025 00:39:08 +0200 (CEST) Received: from mails.dpdk.org (localhost [127.0.0.1]) by mails.dpdk.org (Postfix) with ESMTP id A2C664026D; Mon, 21 Jul 2025 00:39:08 +0200 (CEST) Received: from mail-oo1-f97.google.com (mail-oo1-f97.google.com [209.85.161.97]) by mails.dpdk.org (Postfix) with ESMTP id C297E4026D for ; Mon, 21 Jul 2025 00:39:06 +0200 (CEST) Received: by mail-oo1-f97.google.com with SMTP id 006d021491bc7-60bd30dd387so1873632eaf.3 for ; Sun, 20 Jul 2025 15:39:06 -0700 (PDT) DKIM-Signature: v=1; a=rsa-sha256; c=relaxed/relaxed; d=iol.unh.edu; s=unh-iol; t=1753051146; x=1753655946; darn=dpdk.org; h=references:in-reply-to:cc:to:from:subject:message-id:date:from:to :cc:subject:date:message-id:reply-to; bh=hb00hLTjigzJE0H4O++L7NWDHxghuNUTKS5GDLUnas8=; b=h017EbNBozekuCmBSCNRx5bOE2IPXoLFfSzmWvtlnoI4DvEI5DLg4o01DEP5kch0fB gutOqWuzoLBNZAEKApyw4JSGwRTSe/zfZFHPM2lts0q2XuyDGMPppSg25/SBjxBIMdJY EtVtDR2PhJheFZSqGRjnUWgJVjLbiOaD/XjQk= X-Google-DKIM-Signature: v=1; a=rsa-sha256; c=relaxed/relaxed; d=1e100.net; s=20230601; t=1753051146; x=1753655946; h=references:in-reply-to:cc:to:from:subject:message-id:date :x-gm-message-state:from:to:cc:subject:date:message-id:reply-to; bh=hb00hLTjigzJE0H4O++L7NWDHxghuNUTKS5GDLUnas8=; b=AwyaxXzzHgv98Q1gdOBOdAtaxdIA4xCcsPOCtpyD7LvWu8/dO9flEDWaIecjEBjasM SlhH6ByUkJmgt7p2UgyLeLRPN0icpmhvnwBRBIFjh0T30E5VBcO3luSHHLH/G5AAAmH/ 9qDwyCDTRP4V4qH7ZFdTvFM3PBvcXTHsWoJbwAn5BpwAw6DdjUmW94oo1u9nixn5xTrI 7tvrwd04J16rHNqzgXDzH6DIcALZmOSJIRqGBfa50UvBtAX24IXkBm2+bQOy0KHhwWG4 qqCaLqTebMJn7GfY8V2UyIE7ZMR61DWE4ez3KLBLw3COmaQKH6KDtAXdMPAhozFFdAYq lcaw== X-Gm-Message-State: AOJu0YzJKDHO8ckzP3rMgDiR0MFzR8B6Tb6beVwaEYZtJsB0eOnuzLBp WltbWvY6JekTecPDqy5eLQzXJJFqiDs2F+TYL8luxtmPFZecJZF4Hr0ijZR7NneQxPACLShaE7v GZa6BBTFxSzMYNEoejFioxeHo4Q4iylW4kJ7+bfb0vNXqfFblkRnDS8AXaYkp X-Gm-Gg: ASbGnctxPmQZZ6pRi7t+CdYcPncF7mgYMmI2QUXnFJ7zWfooZ6RYtf+ZLS31jFWcjdf X9O9zMEPbpwB3Ho1ih6DLVd0GKC0A/qa8+9TgQiCQ4HVky/XeDERwsBRy1K53kFLGp+qftbE+ST Gnct60+LAwD8HMNT7jOHvlfMtDBrcDdyxHL7IsbiaoqjRqg9paU7KFhsvju5befsGPKEUeujXty bWkjGzVafOFhdVu6FlXi0pbqhwfGFSHSMYxb0q7Pj8PK+VrTL2dXO8DopEFVm+R0e4+gTKWAdOf iRKt+Tz6q30QC4dL99VEYFYd5qvi67eb8j9mst520zHeqniiIw== X-Google-Smtp-Source: AGHT+IFY9CPfRt2WMsLE+ZIcWo25HQcyMcVnZ1k/I+iWx1YDTujh020sspcHkWQrMvC2e1jRIkoRBJr1VrkW X-Received: by 2002:a05:6870:c6a7:b0:2c1:51f7:e648 with SMTP id 586e51a60fabf-2ffb25338f5mr14526103fac.35.1753051145919; Sun, 20 Jul 2025 15:39:05 -0700 (PDT) Received: from postal.iol.unh.edu (postal.iol.unh.edu. [2606:4100:3880:1234::84]) by smtp-relay.gmail.com with ESMTPS id 586e51a60fabf-3010456e8cesm505994fac.3.2025.07.20.15.39.05 (version=TLS1_2 cipher=ECDHE-ECDSA-AES128-GCM-SHA256 bits=128/128); Sun, 20 Jul 2025 15:39:05 -0700 (PDT) X-Relaying-Domain: iol.unh.edu Date: Sun, 20 Jul 2025 15:39:05 -0700 (PDT) Message-ID: <687d7009.050a0220.1b1af.9cb2SMTPIN_ADDED_MISSING@mx.google.com> Received: from [172.21.0.3] (unknown [172.18.0.240]) by postal.iol.unh.edu (Postfix) with ESMTP id 74D996051830; Sun, 20 Jul 2025 18:39:05 -0400 (EDT) Subject: |SUCCESS| pw155369 [PATCH] [v2] mbuf: de-inline sanity checking a re From: dpdklab@iol.unh.edu To: Test Report Cc: dpdk-test-reports@iol.unh.edu In-Reply-To: <20250720204932.529441-1-mb@smartsharesystems.com> References: <20250720204932.529441-1-mb@smartsharesystems.com> Content-Type: text/plain X-BeenThere: test-report@dpdk.org X-Mailman-Version: 2.1.29 Precedence: list List-Id: automatic DPDK test reports List-Unsubscribe: , List-Archive: List-Post: List-Help: List-Subscribe: , Errors-To: test-report-bounces@dpdk.org Test-Label: iol-abi-testing Test-Status: SUCCESS http://dpdk.org/patch/155369 _Testing PASS_ Submitter: Morten Brorup Date: Sunday, July 20 2025 20:49:32 DPDK git baseline: Repo:dpdk Branch: master CommitID:492ddc5f47b28cc900915ec0e15b402af0a7c5cb 155369 --> testing pass Upstream job id: Generic-DPDK-Compile-ABI#134999 Test environment and result as below: +-------------------------------+----------+ | Environment | abi_test | +===============================+==========+ | Debian GNU/Linux 12 | PASS | +-------------------------------+----------+ | Fedora Linux 40 | PASS | +-------------------------------+----------+ | CentOS Stream 10 | PASS | +-------------------------------+----------+ | CentOS Stream 9 | PASS | +-------------------------------+----------+ | Fedora Linux 41 | PASS | +-------------------------------+----------+ | Red Hat Enterprise Linux 9.5 | PASS | +-------------------------------+----------+ | Ubuntu 22.04 | PASS | +-------------------------------+----------+ | Ubuntu 24.04 | PASS | +-------------------------------+----------+ | Red Hat Enterprise Linux 8.10 | PASS | +-------------------------------+----------+ | openSUSE Leap 15.6 | PASS | +-------------------------------+----------+ Debian GNU/Linux 12 Kernel: 5.15 Compiler: gcc gcc (Debian 12.2.0-14+deb12u1) 12.2.0 Fedora Linux 40 Kernel: 5.15 Compiler: gcc gcc (GCC) 14.2.1 20240912 (Red Hat 14.2.1-3) CentOS Stream 10 Kernel: 5.15 Compiler: gcc gcc (GCC) 14.2.1 20250110 (Red Hat 14.2.1-8) CentOS Stream 9 Kernel: 5.15 Compiler: gcc gcc (GCC) 11.5.0 20240719 (Red Hat 11.5.0-7) Fedora Linux 41 Kernel: 5.15 Compiler: clang gcc (GCC) 14.3.1 20250523 (Red Hat 14.3.1-1) Red Hat Enterprise Linux 9.5 Kernel: 5.15 Compiler: gcc gcc (GCC) 11.5.0 20240719 (Red Hat 11.5.0-2) Ubuntu 22.04 Kernel: 5.15 Compiler: gcc gcc (Ubuntu 11.4.0-1ubuntu1~22.04) 11.4.0 Ubuntu 24.04 Kernel: 5.15 Compiler: gcc gcc (Ubuntu 13.3.0-6ubuntu2~24.04) 13.3.0 Red Hat Enterprise Linux 8.10 Kernel: 5.15 Compiler: gcc gcc (GCC) 8.5.0 20210514 (Red Hat 8.5.0-22) openSUSE Leap 15.6 Kernel: 5.15 Compiler: gcc gcc (SUSE Linux) 7.5.0 To view detailed results, visit: https://lab.dpdk.org/results/dashboard/patchsets/33698/ UNH-IOL DPDK Community Lab To manage your email subscriptions, visit: https://lab.dpdk.org/results/dashboard/preferences/subscriptions/