From mboxrd@z Thu Jan 1 00:00:00 1970 Return-Path: Received: from mails.dpdk.org (mails.dpdk.org [217.70.189.124]) by inbox.dpdk.org (Postfix) with ESMTP id 6A02E46BCD for ; Mon, 21 Jul 2025 01:09:30 +0200 (CEST) Received: from mails.dpdk.org (localhost [127.0.0.1]) by mails.dpdk.org (Postfix) with ESMTP id 499794026D; Mon, 21 Jul 2025 01:09:30 +0200 (CEST) Received: from mail-yb1-f226.google.com (mail-yb1-f226.google.com [209.85.219.226]) by mails.dpdk.org (Postfix) with ESMTP id 372E44026D for ; Mon, 21 Jul 2025 01:09:29 +0200 (CEST) Received: by mail-yb1-f226.google.com with SMTP id 3f1490d57ef6-e8d70c65a0aso2381118276.0 for ; Sun, 20 Jul 2025 16:09:29 -0700 (PDT) DKIM-Signature: v=1; a=rsa-sha256; c=relaxed/relaxed; d=iol.unh.edu; s=unh-iol; t=1753052968; x=1753657768; darn=dpdk.org; h=references:in-reply-to:cc:to:from:subject:message-id:date:from:to :cc:subject:date:message-id:reply-to; bh=9rWy2f/4470byYUNdT4Vec16hPzdL1nVM/sq8MPOOf4=; b=QnqrHtl/V4d6duvV+/JgR2gLoOWReIz9svhhdOQv8W34X9WXp/r20WYxPbduobNUFS qoKnnV4HeXjzzmtlavaRy41GeUG17lac7SZ6hqOkhyLcOQ4pzOzPaAgFntsWsnLO89c4 E9Fabcdytsx+yO59ZGYUoHAIk5kPIggky4T7M= X-Google-DKIM-Signature: v=1; a=rsa-sha256; c=relaxed/relaxed; d=1e100.net; s=20230601; t=1753052968; x=1753657768; h=references:in-reply-to:cc:to:from:subject:message-id:date :x-gm-message-state:from:to:cc:subject:date:message-id:reply-to; bh=9rWy2f/4470byYUNdT4Vec16hPzdL1nVM/sq8MPOOf4=; b=txsogudV0onJ3n5HeiJ6MH/xYNYtH3a1JoLYNM1LPrWMKwAQ3KhjVj8BZXuBBvlcdh O/FsANsdh8FC5/XsXnekDDmfwLdATtxmvfyZqilmQIILu2fIcf7ci+HiuVW5+j3n1Vs8 HglZcDtTgq6UBAluGJXodru2GvimyalsQSTJe680j8IlsL2G2XRQWZn5fo2yuBf3eNEc 52Qqff8TO9lqBIgukyhqRAYKn2KOj0gKh05zwL6GvWDKRExMbP+aU47JaFzyIXhia+aW 3U86/3nZ+3CWhUZSg09Mir2ijsq5liLNYynQWwH/FAq7rsNeOVupGroOVtLtquQQTtfy G4gQ== X-Gm-Message-State: AOJu0YyLASwmEV5M0+YSqVrdTdysou3hSkSlpgMX7uBCVzE9OU7grnvO MYPofLCgJQ4EgGZ4yKTm/raRKOM5/fXjT3HaGWqS1E4wqTSSoN8i+lotWbtBr0Pdi1sLo78vdc1 VLMSK81+x4LiSZwaFhDQx+ZEhc1sgcfSuLJk0BLy6HYSJ X-Gm-Gg: ASbGncvD7MHlQvhCEGZf1WUj7/tfX12DNqdt5zQykX0ACAoPNQXvb4tVyMYWI7aUV9u gEQ4pz1PRLytm8YGmGJ6g4Y83cjREUNjrYiO3l1BJb1+Wi/BfSkljtIjvvBswGZBPwhCQfdgj1o hkmxxdgPnFMYZ/hOEYr1rHmJON/NAt/nD7OTml3jwUGDuzJEdb7qB+h0kiLD5ytbqIFJL6rO3q2 m+E4s9KxkQPzLZlp3m2AEHhpK8tqzB17LzGvUmq3ExwXWv/KeWg/dz6spHKh9ATvaPAotBZeBme 6P4+mPp9K6KSNb2ArAwuHfOdwbQbFxmTiKySV7foDn2Mz4ZiMBR6jtD7kZwFl8IG+Rrq6YDh X-Google-Smtp-Source: AGHT+IETdGrAgfoy01Z+2WrS4OxrSLRALlHRQjCLqMl1CxfFdD/Gp035TirbspsWScY6jjPiEaP1zG9nBy7g X-Received: by 2002:a05:6902:70e:b0:e8b:c3bf:ff92 with SMTP id 3f1490d57ef6-e8bc3c005f5mr20591511276.30.1753052968338; Sun, 20 Jul 2025 16:09:28 -0700 (PDT) Received: from postal.iol.unh.edu (postal.iol.unh.edu. [132.177.123.84]) by smtp-relay.gmail.com with ESMTPS id 3f1490d57ef6-e8d7ce3e19bsm394078276.26.2025.07.20.16.09.28 (version=TLS1_2 cipher=ECDHE-ECDSA-AES128-GCM-SHA256 bits=128/128); Sun, 20 Jul 2025 16:09:28 -0700 (PDT) X-Relaying-Domain: iol.unh.edu Date: Sun, 20 Jul 2025 16:09:28 -0700 (PDT) Message-ID: <687d7728.250a0220.3cc548.3be4SMTPIN_ADDED_MISSING@mx.google.com> Received: from [172.21.0.2] (unknown [172.18.0.240]) by postal.iol.unh.edu (Postfix) with ESMTP id EFD996051830; Sun, 20 Jul 2025 19:09:27 -0400 (EDT) Subject: |SUCCESS| pw155369 [PATCH] [v2] mbuf: de-inline sanity checking a re From: dpdklab@iol.unh.edu To: Test Report Cc: dpdk-test-reports@iol.unh.edu In-Reply-To: <20250720204932.529441-1-mb@smartsharesystems.com> References: <20250720204932.529441-1-mb@smartsharesystems.com> Content-Type: text/plain X-BeenThere: test-report@dpdk.org X-Mailman-Version: 2.1.29 Precedence: list List-Id: automatic DPDK test reports List-Unsubscribe: , List-Archive: List-Post: List-Help: List-Subscribe: , Errors-To: test-report-bounces@dpdk.org Test-Label: iol-unit-amd64-testing Test-Status: SUCCESS http://dpdk.org/patch/155369 _Testing PASS_ Submitter: Morten Brorup Date: Sunday, July 20 2025 20:49:32 DPDK git baseline: Repo:dpdk Branch: master CommitID:492ddc5f47b28cc900915ec0e15b402af0a7c5cb 155369 --> testing pass Upstream job id: Generic-Unit-Test-DPDK#356703 Test environment and result as below: +-------------------------------+----------------+ | Environment | dpdk_unit_test | +===============================+================+ | CentOS Stream 10 | PASS | +-------------------------------+----------------+ | CentOS Stream 9 | PASS | +-------------------------------+----------------+ | Fedora Linux 40 | PASS | +-------------------------------+----------------+ | Debian GNU/Linux 12 | PASS | +-------------------------------+----------------+ | Fedora Linux 41 | PASS | +-------------------------------+----------------+ | Red Hat Enterprise Linux 8.10 | PASS | +-------------------------------+----------------+ | Ubuntu 20.04 | PASS | +-------------------------------+----------------+ | Ubuntu 22.04 | PASS | +-------------------------------+----------------+ | Red Hat Enterprise Linux 9.5 | PASS | +-------------------------------+----------------+ | Ubuntu 24.04 | PASS | +-------------------------------+----------------+ | Windows Server 2022 | PASS | +-------------------------------+----------------+ CentOS Stream 10 Kernel: 5.15 Compiler: gcc gcc (GCC) 14.2.1 20250110 (Red Hat 14.2.1-8) CentOS Stream 9 Kernel: 5.15 Compiler: gcc gcc (GCC) 11.5.0 20240719 (Red Hat 11.5.0-7) Fedora Linux 40 Kernel: 5.15 Compiler: clang gcc (GCC) 14.2.1 20240912 (Red Hat 14.2.1-3) Debian GNU/Linux 12 Kernel: 5.15 Compiler: gcc gcc (Debian 12.2.0-14+deb12u1) 12.2.0 Fedora Linux 41 Kernel: 5.15 Compiler: gcc gcc (GCC) 14.3.1 20250523 (Red Hat 14.3.1-1) Red Hat Enterprise Linux 8.10 Kernel: 5.15 Compiler: gcc gcc (GCC) 8.5.0 20210514 (Red Hat 8.5.0-22) Ubuntu 20.04 Kernel: 5.15 Compiler: gcc gcc (Ubuntu 9.4.0-1ubuntu1~20.04.2) 9.4.0 Ubuntu 22.04 Kernel: 5.15 Compiler: gcc gcc (Ubuntu 11.4.0-1ubuntu1~22.04) 11.4.0 Red Hat Enterprise Linux 9.5 Kernel: 5.15 Compiler: gcc gcc (GCC) 11.5.0 20240719 (Red Hat 11.5.0-2) Ubuntu 24.04 Kernel: 5.15 Compiler: gcc gcc (Ubuntu 13.3.0-6ubuntu2~24.04) 13.3.0 Windows Server 2022 Kernel: 10.0.20348.2031 Compiler: clang 15.0.7, gcc 14.1.0 (MinGW), and MSVC VS 19.39.33521 To view detailed results, visit: https://lab.dpdk.org/results/dashboard/patchsets/33698/ UNH-IOL DPDK Community Lab To manage your email subscriptions, visit: https://lab.dpdk.org/results/dashboard/preferences/subscriptions/