From mboxrd@z Thu Jan 1 00:00:00 1970 Return-Path: Received: from mails.dpdk.org (mails.dpdk.org [217.70.189.124]) by inbox.dpdk.org (Postfix) with ESMTP id 63EEF46BCD for ; Mon, 21 Jul 2025 01:19:03 +0200 (CEST) Received: from mails.dpdk.org (localhost [127.0.0.1]) by mails.dpdk.org (Postfix) with ESMTP id 3FA6A4026D; Mon, 21 Jul 2025 01:19:03 +0200 (CEST) Received: from mail-il1-f226.google.com (mail-il1-f226.google.com [209.85.166.226]) by mails.dpdk.org (Postfix) with ESMTP id D49FB4026D for ; Mon, 21 Jul 2025 01:19:01 +0200 (CEST) Received: by mail-il1-f226.google.com with SMTP id e9e14a558f8ab-3e290cbe6d0so13243415ab.1 for ; Sun, 20 Jul 2025 16:19:01 -0700 (PDT) DKIM-Signature: v=1; a=rsa-sha256; c=relaxed/relaxed; d=iol.unh.edu; s=unh-iol; t=1753053541; x=1753658341; darn=dpdk.org; h=references:in-reply-to:cc:to:from:subject:message-id:date:from:to :cc:subject:date:message-id:reply-to; bh=hMnDzv5r8+aWnnpxQt0nKqHquHW1jDOeWofaJevda6Y=; b=UwVPQPLTlQnCkkmSwRUVtk71nXo6Gtmuy5Km7typoMnxDjVkk1SP/g1+WtwotYnlIO TcNQAqWk1gvYH6mC3GbD2O3dY7eXoDyHrUidhLGdXSWikMkZJ/Pw/PY6gSZPyFB6Si/t q2fowAC4D0d8BMHjn5tFM+9YQ2+ouzjFCwN9E= X-Google-DKIM-Signature: v=1; a=rsa-sha256; c=relaxed/relaxed; d=1e100.net; s=20230601; t=1753053541; x=1753658341; h=references:in-reply-to:cc:to:from:subject:message-id:date :x-gm-message-state:from:to:cc:subject:date:message-id:reply-to; bh=hMnDzv5r8+aWnnpxQt0nKqHquHW1jDOeWofaJevda6Y=; b=kq/H4En+0e82Jlr/Bkr5TZE9g9AzTt0Rqu1G2eMgOOKjXEe7hjd1kxIdy1J9IlxNLP DFw3gft4IEMoB50R+x+VveyQncai/d/Xa5cKAg18MM1MwcFIBS2Wuxr4Ftdn831PFeLr 7XK5DOmwGtb66jMKkqFgS6hhcGQLjVC6KOr2UU2g4QzasjqKzUUSI3rCt+XiFdNtu8lX o5WIiXvFbzM1L9ASWKT0vlZBVya3U7c2PRKGzJri4CH71FpazjniYPcFzxJveJzJhyL1 QlxjpgcBiRZ7bHsjdQPR8Las3ydL5OjW5Gg5rHVR97Prait/uej81CmK4utxX/GpzAaG /tcQ== X-Gm-Message-State: AOJu0Yxk6Mpn//dPN0maFxkw5jv38QdrfaR2DddviAXjIZ88rfPDcrNf rYrl2LtbU4tduxVMc3wPo2eK1bAes7W8gZZLW22ktikACMuQ/l4FuUAC2V4wdh2W5aLzVBvLlc9 YdJIFHkCKGHJogxnsv7ubu7XojDDVu6NcXh2cjcyUcykg X-Gm-Gg: ASbGnctTtnf6ZaN3kfA1C4A2x6p0YXChos/ZozoBXSTWYh3BmgnD9YnAg1lx8++jU/z uQDxB7YZvjH2lDK+E3/jK0OyDlLRcIlHniLC6710mIJyi/y7ewSnjmtEf08M7DjAdNQ7kcqP9HO EPvOUctdWROhMfNz6WmpF69wa/WhByXYHbwLTlzBZAl5+nDswbLBKZPuDcZHkSSVyumSH4Tn3En BRAhR05BVhuyJsAiZFa9ur1Tcr0g8XX25n2vl1rNhfn8ubAh6kei7GV4GHxhwbOc9/GPVrZIHnB 57/wuf4P0SJlJeVFoASj+dSJFXoDgOUpmDyhy74RwICdSEtAj22IK26pTkfLWARwBkpue2vA X-Google-Smtp-Source: AGHT+IG+wJXa7fe4URfbnRxqn/N5bUQoLBYnJLtHZsCisb2O0opaphNVerbUOtmvRMhoi91BVI4lkppf6/uR X-Received: by 2002:a05:6e02:3b84:b0:3e2:9873:6e39 with SMTP id e9e14a558f8ab-3e298736ff8mr106653365ab.16.1753053540989; Sun, 20 Jul 2025 16:19:00 -0700 (PDT) Received: from postal.iol.unh.edu (postal.iol.unh.edu. [132.177.123.84]) by smtp-relay.gmail.com with ESMTPS id e9e14a558f8ab-3e29821cab4sm4100435ab.15.2025.07.20.16.19.00 (version=TLS1_2 cipher=ECDHE-ECDSA-AES128-GCM-SHA256 bits=128/128); Sun, 20 Jul 2025 16:19:00 -0700 (PDT) X-Relaying-Domain: iol.unh.edu Date: Sun, 20 Jul 2025 16:19:00 -0700 (PDT) Message-ID: <687d7964.050a0220.342698.4941SMTPIN_ADDED_MISSING@mx.google.com> Received: from [172.21.0.2] (unknown [172.18.0.240]) by postal.iol.unh.edu (Postfix) with ESMTP id 885D06051830; Sun, 20 Jul 2025 19:19:00 -0400 (EDT) Subject: |SUCCESS| pw155369 [PATCH] [v2] mbuf: de-inline sanity checking a re From: dpdklab@iol.unh.edu To: Test Report Cc: dpdk-test-reports@iol.unh.edu In-Reply-To: <20250720204932.529441-1-mb@smartsharesystems.com> References: <20250720204932.529441-1-mb@smartsharesystems.com> Content-Type: text/plain X-BeenThere: test-report@dpdk.org X-Mailman-Version: 2.1.29 Precedence: list List-Id: automatic DPDK test reports List-Unsubscribe: , List-Archive: List-Post: List-Help: List-Subscribe: , Errors-To: test-report-bounces@dpdk.org Test-Label: iol-compile-amd64-testing Test-Status: SUCCESS http://dpdk.org/patch/155369 _Testing PASS_ Submitter: Morten Brorup Date: Sunday, July 20 2025 20:49:32 DPDK git baseline: Repo:dpdk Branch: master CommitID:492ddc5f47b28cc900915ec0e15b402af0a7c5cb 155369 --> testing pass Upstream job id: Generic-DPDK-Compile-Meson#410285 Test environment and result as below: +-------------------------------+--------------------+-------------------+------------------+-------------------------+-------------------+----------------------+ | Environment | dpdk_meson_compile | dpdk_compile_spdk | dpdk_compile_ovs | dpdk_llvm_clang_compile | dpdk_msvc_compile | dpdk_mingw64_compile | +===============================+====================+===================+==================+=========================+===================+======================+ | CentOS Stream 10 | PASS | SKIPPED | SKIPPED | SKIPPED | SKIPPED | SKIPPED | +-------------------------------+--------------------+-------------------+------------------+-------------------------+-------------------+----------------------+ | Debian GNU/Linux 12 | PASS | PASS | SKIPPED | SKIPPED | SKIPPED | SKIPPED | +-------------------------------+--------------------+-------------------+------------------+-------------------------+-------------------+----------------------+ | Fedora Linux 41 | PASS | PASS | PASS | SKIPPED | SKIPPED | SKIPPED | +-------------------------------+--------------------+-------------------+------------------+-------------------------+-------------------+----------------------+ | Fedora Linux 40 | PASS | PASS | SKIPPED | SKIPPED | SKIPPED | SKIPPED | +-------------------------------+--------------------+-------------------+------------------+-------------------------+-------------------+----------------------+ | openSUSE Leap 15.6 | PASS | SKIPPED | SKIPPED | SKIPPED | SKIPPED | SKIPPED | +-------------------------------+--------------------+-------------------+------------------+-------------------------+-------------------+----------------------+ | Red Hat Enterprise Linux 8.10 | PASS | SKIPPED | SKIPPED | SKIPPED | SKIPPED | SKIPPED | +-------------------------------+--------------------+-------------------+------------------+-------------------------+-------------------+----------------------+ | Ubuntu 22.04 | PASS | PASS | SKIPPED | SKIPPED | SKIPPED | SKIPPED | +-------------------------------+--------------------+-------------------+------------------+-------------------------+-------------------+----------------------+ | Ubuntu 20.04 | PASS | SKIPPED | SKIPPED | SKIPPED | SKIPPED | SKIPPED | +-------------------------------+--------------------+-------------------+------------------+-------------------------+-------------------+----------------------+ | Red Hat Enterprise Linux 9.5 | PASS | SKIPPED | SKIPPED | SKIPPED | SKIPPED | SKIPPED | +-------------------------------+--------------------+-------------------+------------------+-------------------------+-------------------+----------------------+ | Ubuntu 24.04 | PASS | PASS | PASS | SKIPPED | SKIPPED | SKIPPED | +-------------------------------+--------------------+-------------------+------------------+-------------------------+-------------------+----------------------+ | Alpine Linux 3.22.0 | PASS | SKIPPED | SKIPPED | SKIPPED | SKIPPED | SKIPPED | +-------------------------------+--------------------+-------------------+------------------+-------------------------+-------------------+----------------------+ | FreeBSD 14.2 | PASS | SKIPPED | SKIPPED | SKIPPED | SKIPPED | SKIPPED | +-------------------------------+--------------------+-------------------+------------------+-------------------------+-------------------+----------------------+ | CentOS Stream 9 | PASS | PASS | SKIPPED | SKIPPED | SKIPPED | SKIPPED | +-------------------------------+--------------------+-------------------+------------------+-------------------------+-------------------+----------------------+ | Windows Server 2022 | SKIPPED | SKIPPED | SKIPPED | PASS | PASS | PASS | +-------------------------------+--------------------+-------------------+------------------+-------------------------+-------------------+----------------------+ CentOS Stream 10 Kernel: 5.15 Compiler: gcc gcc (GCC) 14.2.1 20250110 (Red Hat 14.2.1-8) Debian GNU/Linux 12 Kernel: 5.15 Compiler: gcc gcc (Debian 12.2.0-14+deb12u1) 12.2.0 Fedora Linux 41 Kernel: 5.15 Compiler: gcc gcc (GCC) 14.3.1 20250523 (Red Hat 14.3.1-1) Fedora Linux 40 Kernel: 5.15 Compiler: clang gcc (GCC) 14.2.1 20240912 (Red Hat 14.2.1-3) openSUSE Leap 15.6 Kernel: 5.15 Compiler: gcc gcc (SUSE Linux) 7.5.0 Red Hat Enterprise Linux 8.10 Kernel: 5.15 Compiler: gcc gcc (GCC) 8.5.0 20210514 (Red Hat 8.5.0-22) Ubuntu 22.04 Kernel: 5.15 Compiler: gcc gcc (Ubuntu 11.4.0-1ubuntu1~22.04) 11.4.0 Ubuntu 20.04 Kernel: 5.15 Compiler: gcc gcc (Ubuntu 9.4.0-1ubuntu1~20.04.2) 9.4.0 Red Hat Enterprise Linux 9.5 Kernel: 5.15 Compiler: gcc gcc (GCC) 11.5.0 20240719 (Red Hat 11.5.0-2) Ubuntu 24.04 Kernel: 5.15 Compiler: gcc gcc (Ubuntu 13.3.0-6ubuntu2~24.04) 13.3.0 Alpine Linux 3.22.0 Kernel: 5.15 Compiler: gcc gcc (Alpine 14.2.0) 14.2.0 FreeBSD 14.2 Kernel: 14.2-RELEASE Compiler: clang 18.1.6 CentOS Stream 9 Kernel: 5.15 Compiler: gcc gcc (GCC) 11.5.0 20240719 (Red Hat 11.5.0-7) Windows Server 2022 Kernel: 10.0.20348.2031 Compiler: clang 15.0.7, gcc 14.1.0 (MinGW), and MSVC VS 19.39.33521 To view detailed results, visit: https://lab.dpdk.org/results/dashboard/patchsets/33698/ UNH-IOL DPDK Community Lab To manage your email subscriptions, visit: https://lab.dpdk.org/results/dashboard/preferences/subscriptions/