From mboxrd@z Thu Jan 1 00:00:00 1970 Return-Path: Received: from mails.dpdk.org (mails.dpdk.org [217.70.189.124]) by inbox.dpdk.org (Postfix) with ESMTP id 4A06946BD7 for ; Mon, 21 Jul 2025 11:49:16 +0200 (CEST) Received: from mails.dpdk.org (localhost [127.0.0.1]) by mails.dpdk.org (Postfix) with ESMTP id 445EA4014F; Mon, 21 Jul 2025 11:49:16 +0200 (CEST) Received: from mail-qv1-f97.google.com (mail-qv1-f97.google.com [209.85.219.97]) by mails.dpdk.org (Postfix) with ESMTP id E37CD4014F for ; Mon, 21 Jul 2025 11:49:14 +0200 (CEST) Received: by mail-qv1-f97.google.com with SMTP id 6a1803df08f44-6f8aa9e6ffdso42684276d6.3 for ; Mon, 21 Jul 2025 02:49:14 -0700 (PDT) DKIM-Signature: v=1; a=rsa-sha256; c=relaxed/relaxed; d=iol.unh.edu; s=unh-iol; t=1753091354; x=1753696154; darn=dpdk.org; h=references:in-reply-to:cc:to:from:subject:message-id:date:from:to :cc:subject:date:message-id:reply-to; bh=5nMO8+74d0HDzSWuKpqGuR7Mrbwe2EZD40078y4v+P0=; b=AqnOkSOT5CGAJfxiXddUIzvqPVRIzsnbKe4+Xp61QpFYFDZwKy+y9hudZa5wrSoz/1 M4ZAIb0Naha3W0zWQ2H1TbjnPWn9w19qafYLR8lRDuJRtHX9wzx6BcX+bS7cA+t9K4SQ uucwUwec+SAE4AJjUVapfwuKNsnRdkogtaKlY= X-Google-DKIM-Signature: v=1; a=rsa-sha256; c=relaxed/relaxed; d=1e100.net; s=20230601; t=1753091354; x=1753696154; h=references:in-reply-to:cc:to:from:subject:message-id:date :x-gm-message-state:from:to:cc:subject:date:message-id:reply-to; bh=5nMO8+74d0HDzSWuKpqGuR7Mrbwe2EZD40078y4v+P0=; b=JuKaOjXJnICw3L8hm2Ey2oNjNjMp0Nnl3VHwMQBwjZHy3P7Qc3zNF35BGGkFyV9H2J 2gx2GkT9HNiFxE9sIVfJiy3Z66tjHwmQV4OEm2rk/dtQUFrwtZbepsI6oMJlKFyTf1Vr jtlrBVRUCTY16bED4rRwQ2dCcjzFvY+GLFvH6GhwrzPbhmztJCyEE3rO1mCn0a1DyETj TGYluX9AIHi1hNm8k7kA0669XaphK9JAqOZk5VI3TxAddQDTZ/HN0ruvocKmTmK+LqwM iskENSIrRIUqWp9amAwXKm56P8jVErCWAoHZsxrG7DE0BaTxgjqqCrNozmEqVZJ60cIG K2WQ== X-Gm-Message-State: AOJu0YwWhEdhFQZzw0jtUnGJbnjkUewZYgA19hYQFJ1YpQX/7mtuNsf0 gKVRw5sO34kzTGbRIqxWSzKG/BrJQcqTFNpvjcBTPkM47ZaMDKFNQ7B1ByFFL2s9cBTWnlVi3Ia BEooof97dDP4dvt+X9dPCX+y2o3nwLfM9zzII3JH0SIcU15G8Lb0e03+6hTvT X-Gm-Gg: ASbGncs5OqTvLz/WYb727Fx88Mdczr6lBt2UjKjlQEyri6X6RXrNppX/9BiK0HWTvFk Ai/Xz2W3zIkB6gbQDwzy/s+CwIe43sdWlGsdFS27vYyT5CNWKO9lhbjIryxYDcoDJD6ceGgmB0D na5BaShyCu+Jl5PWu1vIpAIvxRqU5PfUhKaODKiYEq8puxcx2DVBiSHtZXdUaeTQgqTK+VZ+ncy 2cSYzyeUV7elhEi5a1CErP5lv+iUrZVIhqbFOvbtBqrIcSA9rYNfY3p2Y1jUJ/y5IBzJx4eJWga LjqgpYb1RF0OEFC7hV2Rp7B/Sb/Di5SzUBxypRla9UbSgbIEuA== X-Google-Smtp-Source: AGHT+IEB/c9/itrP3+PTlhreOgP9dfyXg+U5IS+1MD0iq2YywtHoqPsAQr6ON4PvtglNraDvZlfBs7DlDt3F X-Received: by 2002:a0c:f092:0:20b0:704:f7d8:edfb with SMTP id 6a1803df08f44-704f7d960d0mr183217446d6.48.1753091354148; Mon, 21 Jul 2025 02:49:14 -0700 (PDT) Received: from postal.iol.unh.edu (postal.iol.unh.edu. [2606:4100:3880:1234::84]) by smtp-relay.gmail.com with ESMTPS id 6a1803df08f44-7051bd8745bsm4066006d6.59.2025.07.21.02.49.14 (version=TLS1_2 cipher=ECDHE-ECDSA-AES128-GCM-SHA256 bits=128/128); Mon, 21 Jul 2025 02:49:14 -0700 (PDT) X-Relaying-Domain: iol.unh.edu Date: Mon, 21 Jul 2025 02:49:14 -0700 (PDT) Message-ID: <687e0d1a.050a0220.29d3f9.3fe8SMTPIN_ADDED_MISSING@mx.google.com> Received: from [172.21.0.2] (unknown [172.18.0.240]) by postal.iol.unh.edu (Postfix) with ESMTP id CA4326051830; Mon, 21 Jul 2025 05:49:13 -0400 (EDT) Subject: |SUCCESS| pw155370 [PATCH] net/mlx5: fix crash when secondary querie From: dpdklab@iol.unh.edu To: Test Report Cc: dpdk-test-reports@iol.unh.edu In-Reply-To: <20250721073851.963141-1-14pwcse1224@uetpeshawar.edu.pk> References: <20250721073851.963141-1-14pwcse1224@uetpeshawar.edu.pk> Content-Type: text/plain X-BeenThere: test-report@dpdk.org X-Mailman-Version: 2.1.29 Precedence: list List-Id: automatic DPDK test reports List-Unsubscribe: , List-Archive: List-Post: List-Help: List-Subscribe: , Errors-To: test-report-bounces@dpdk.org Test-Label: iol-abi-testing Test-Status: SUCCESS http://dpdk.org/patch/155370 _Testing PASS_ Submitter: Khadem Ullah <14pwcse1224@uetpeshawar.edu.pk> Date: Monday, July 21 2025 07:38:51 DPDK git baseline: Repo:dpdk Branch: master CommitID:9fe9c0b231c8da5435bfccb1963121b4277f961c 155370 --> testing pass Upstream job id: Generic-DPDK-Compile-ABI#135051 Test environment and result as below: +-------------------------------+----------+ | Environment | abi_test | +===============================+==========+ | CentOS Stream 9 | PASS | +-------------------------------+----------+ | CentOS Stream 10 | PASS | +-------------------------------+----------+ | Debian GNU/Linux 12 | PASS | +-------------------------------+----------+ | Fedora Linux 40 | PASS | +-------------------------------+----------+ | Fedora Linux 41 | PASS | +-------------------------------+----------+ | Red Hat Enterprise Linux 8.10 | PASS | +-------------------------------+----------+ | Red Hat Enterprise Linux 9.5 | PASS | +-------------------------------+----------+ | Ubuntu 22.04 | PASS | +-------------------------------+----------+ | Ubuntu 24.04 | PASS | +-------------------------------+----------+ | openSUSE Leap 15.6 | PASS | +-------------------------------+----------+ CentOS Stream 9 Kernel: 5.15 Compiler: gcc gcc (GCC) 11.5.0 20240719 (Red Hat 11.5.0-7) CentOS Stream 10 Kernel: 5.15 Compiler: gcc gcc (GCC) 14.2.1 20250110 (Red Hat 14.2.1-8) Debian GNU/Linux 12 Kernel: 5.15 Compiler: gcc gcc (Debian 12.2.0-14+deb12u1) 12.2.0 Fedora Linux 40 Kernel: 5.15 Compiler: gcc gcc (GCC) 14.2.1 20240912 (Red Hat 14.2.1-3) Fedora Linux 41 Kernel: 5.15 Compiler: clang gcc (GCC) 14.3.1 20250523 (Red Hat 14.3.1-1) Red Hat Enterprise Linux 8.10 Kernel: 5.15 Compiler: gcc gcc (GCC) 8.5.0 20210514 (Red Hat 8.5.0-22) Red Hat Enterprise Linux 9.5 Kernel: 5.15 Compiler: gcc gcc (GCC) 11.5.0 20240719 (Red Hat 11.5.0-2) Ubuntu 22.04 Kernel: 5.15 Compiler: gcc gcc (Ubuntu 11.4.0-1ubuntu1~22.04) 11.4.0 Ubuntu 24.04 Kernel: 5.15 Compiler: gcc gcc (Ubuntu 13.3.0-6ubuntu2~24.04) 13.3.0 openSUSE Leap 15.6 Kernel: 5.15 Compiler: gcc gcc (SUSE Linux) 7.5.0 To view detailed results, visit: https://lab.dpdk.org/results/dashboard/patchsets/33699/ UNH-IOL DPDK Community Lab To manage your email subscriptions, visit: https://lab.dpdk.org/results/dashboard/preferences/subscriptions/