From mboxrd@z Thu Jan 1 00:00:00 1970 Return-Path: Received: from mails.dpdk.org (mails.dpdk.org [217.70.189.124]) by inbox.dpdk.org (Postfix) with ESMTP id 5D9B646BD7 for ; Mon, 21 Jul 2025 11:49:36 +0200 (CEST) Received: from mails.dpdk.org (localhost [127.0.0.1]) by mails.dpdk.org (Postfix) with ESMTP id 57C2C4014F; Mon, 21 Jul 2025 11:49:36 +0200 (CEST) Received: from mail-oo1-f98.google.com (mail-oo1-f98.google.com [209.85.161.98]) by mails.dpdk.org (Postfix) with ESMTP id 033F94014F for ; Mon, 21 Jul 2025 11:49:35 +0200 (CEST) Received: by mail-oo1-f98.google.com with SMTP id 006d021491bc7-613a6e39f52so1624191eaf.3 for ; Mon, 21 Jul 2025 02:49:34 -0700 (PDT) DKIM-Signature: v=1; a=rsa-sha256; c=relaxed/relaxed; d=iol.unh.edu; s=unh-iol; t=1753091374; x=1753696174; darn=dpdk.org; h=references:in-reply-to:cc:to:from:subject:message-id:date:from:to :cc:subject:date:message-id:reply-to; bh=HTxrU5eQotUp80SbFQnaoGD365D2zAtwCiJ9u8isqIw=; b=c1iyhXFMrZE/pONwmMbT/mVaaMkXqcmkoG1H0zOPoj4ZUQQ91PIN+VaaqXd8fpC3H3 /Sb8dTEak8vFxAt3xM+mxm3Ey+DelCxHUe+yHWKc1VODxWhxo0/YP8Vv+wLJ72ayiZ8q zsFyH3Ryv3vkDWZ/ZIMrZ8gw0xG5XkysqiaOQ= X-Google-DKIM-Signature: v=1; a=rsa-sha256; c=relaxed/relaxed; d=1e100.net; s=20230601; t=1753091374; x=1753696174; h=references:in-reply-to:cc:to:from:subject:message-id:date :x-gm-message-state:from:to:cc:subject:date:message-id:reply-to; bh=HTxrU5eQotUp80SbFQnaoGD365D2zAtwCiJ9u8isqIw=; b=TcAMD+pjfA/vClAQPYkGMYb8Jnx2FX/QQLRnKKJzAtbL6izCTl55Bsh018TSPzYXEf 2SF8UVH1xMI5uf1ZQFopeKjqAeHuS5oMv0wOnZY1gPeQHDJfOcuHxnX3m5KdopjYdh2k VkExcAc4Phm2Ylxi3T0SsESBdhVD93r08Wg5eQ5NH35jfEZNvVVytfVXa9EN5M9UgEBR 1+ZLF0c/JjuKXNeAqar1Qy7QJ+ndK4j2h1CIvYeZ7oXbskNQg07Tq33ukgX276MEvvRf MGINkIPfVn2q6RGXwym/3jCMzkPkWbJSbFrt2teJ/wmLENtQEE564ujgF1tsHk0+fKoG UGFg== X-Gm-Message-State: AOJu0YyMKng5apWUGZZqymyszG9EcQhvnkJr8N0yqdKiHpWEzO9Ps9EV ssvEeNfuLxpXtlUhEREhavCPmc2ukBmgV57FRfgWCuxiL2O0TcUmTp7rAE4EOdJmp3ojCnxba51 VCVWKoAj572SUjW1vi3KPVmKowdjJDAS6Jtwb5QviW4YP4AUS4bOe2pjJS/9l X-Gm-Gg: ASbGnctwnHywb9rgyQAOt9/JBFHS6SoU2ccGDEj1ULA4XCghjaY3UuyF34Uo6Y7QPPM ZJvH443RiYtVweRYeMVC+P5hTvGlpZisM9KFwdaM3V6bnkB3K9Vuc9ByvGwBnvkzW92pjBvlLk1 L/R9ZY4e7ci5XI98CAAHL2THFDApAQ26nrVIMItrxC1ggtMHygld46Jnk0XYqFpl51lWunCBCdb PMnzlIiqI0kesVmGn7iNxe5qkVcduysfvWdLXG9FRrlf07763tiAk61ib2cCnrwZ8cX9vo6QYYA 1fI7uIX6grq6ibqI9OEQQDxNGdmEM+VfJz7SVUHHCmsffk9dbg== X-Google-Smtp-Source: AGHT+IFRCi9kueMIVLZfgXKxBexSENCtdNldQDG/vOMHiFuyrOOBMcto65WeBEc2IKHgSVN3rf9SAseMf6mR X-Received: by 2002:a05:6820:998:b0:615:e4f8:f4f7 with SMTP id 006d021491bc7-615e4f8f6femr1094169eaf.6.1753091374271; Mon, 21 Jul 2025 02:49:34 -0700 (PDT) Received: from postal.iol.unh.edu (postal.iol.unh.edu. [2606:4100:3880:1234::84]) by smtp-relay.gmail.com with ESMTPS id 006d021491bc7-615bc84bef3sm84568eaf.0.2025.07.21.02.49.34 (version=TLS1_2 cipher=ECDHE-ECDSA-AES128-GCM-SHA256 bits=128/128); Mon, 21 Jul 2025 02:49:34 -0700 (PDT) X-Relaying-Domain: iol.unh.edu Date: Mon, 21 Jul 2025 02:49:34 -0700 (PDT) Message-ID: <687e0d2e.050a0220.222479.4224SMTPIN_ADDED_MISSING@mx.google.com> Received: from [172.21.0.2] (unknown [172.18.0.240]) by postal.iol.unh.edu (Postfix) with ESMTP id BCB776051830; Mon, 21 Jul 2025 05:49:33 -0400 (EDT) Subject: |SUCCESS| pw155370 [PATCH] net/mlx5: fix crash when secondary querie From: dpdklab@iol.unh.edu To: Test Report Cc: dpdk-test-reports@iol.unh.edu In-Reply-To: <20250721073851.963141-1-14pwcse1224@uetpeshawar.edu.pk> References: <20250721073851.963141-1-14pwcse1224@uetpeshawar.edu.pk> Content-Type: text/plain X-BeenThere: test-report@dpdk.org X-Mailman-Version: 2.1.29 Precedence: list List-Id: automatic DPDK test reports List-Unsubscribe: , List-Archive: List-Post: List-Help: List-Subscribe: , Errors-To: test-report-bounces@dpdk.org Test-Label: iol-abi-testing Test-Status: SUCCESS http://dpdk.org/patch/155370 _Testing PASS_ Submitter: Khadem Ullah <14pwcse1224@uetpeshawar.edu.pk> Date: Monday, July 21 2025 07:38:51 DPDK git baseline: Repo:dpdk Branch: master CommitID:9fe9c0b231c8da5435bfccb1963121b4277f961c 155370 --> testing pass Upstream job id: Generic-DPDK-Compile-ABI#135050 Test environment and result as below: +-------------------------------+----------+ | Environment | abi_test | +===============================+==========+ | CentOS Stream 9 | PASS | +-------------------------------+----------+ | CentOS Stream 10 | PASS | +-------------------------------+----------+ | Debian GNU/Linux 12 | PASS | +-------------------------------+----------+ | Fedora Linux 40 | PASS | +-------------------------------+----------+ | Fedora Linux 41 | PASS | +-------------------------------+----------+ | Red Hat Enterprise Linux 8.10 | PASS | +-------------------------------+----------+ | Red Hat Enterprise Linux 9.5 | PASS | +-------------------------------+----------+ | Ubuntu 22.04 | PASS | +-------------------------------+----------+ | Ubuntu 24.04 | PASS | +-------------------------------+----------+ | openSUSE Leap 15.6 | PASS | +-------------------------------+----------+ CentOS Stream 9 Kernel: 5.15 Compiler: gcc gcc (GCC) 11.5.0 20240719 (Red Hat 11.5.0-7) CentOS Stream 10 Kernel: 5.15 Compiler: gcc gcc (GCC) 14.2.1 20250110 (Red Hat 14.2.1-8) Debian GNU/Linux 12 Kernel: 5.15 Compiler: gcc gcc (Debian 12.2.0-14+deb12u1) 12.2.0 Fedora Linux 40 Kernel: 5.15 Compiler: gcc gcc (GCC) 14.2.1 20240912 (Red Hat 14.2.1-3) Fedora Linux 41 Kernel: 5.15 Compiler: clang gcc (GCC) 14.3.1 20250523 (Red Hat 14.3.1-1) Red Hat Enterprise Linux 8.10 Kernel: 5.15 Compiler: gcc gcc (GCC) 8.5.0 20210514 (Red Hat 8.5.0-22) Red Hat Enterprise Linux 9.5 Kernel: 5.15 Compiler: gcc gcc (GCC) 11.5.0 20240719 (Red Hat 11.5.0-2) Ubuntu 22.04 Kernel: 5.15 Compiler: gcc gcc (Ubuntu 11.4.0-1ubuntu1~22.04) 11.4.0 Ubuntu 24.04 Kernel: 5.15 Compiler: gcc gcc (Ubuntu 13.3.0-6ubuntu2~24.04) 13.3.0 openSUSE Leap 15.6 Kernel: 5.15 Compiler: gcc gcc (SUSE Linux) 7.5.0 To view detailed results, visit: https://lab.dpdk.org/results/dashboard/patchsets/33699/ UNH-IOL DPDK Community Lab To manage your email subscriptions, visit: https://lab.dpdk.org/results/dashboard/preferences/subscriptions/