From mboxrd@z Thu Jan 1 00:00:00 1970 Return-Path: Received: from mails.dpdk.org (mails.dpdk.org [217.70.189.124]) by inbox.dpdk.org (Postfix) with ESMTP id 6B0E246BD7 for ; Mon, 21 Jul 2025 11:49:47 +0200 (CEST) Received: from mails.dpdk.org (localhost [127.0.0.1]) by mails.dpdk.org (Postfix) with ESMTP id 65F6F4014F; Mon, 21 Jul 2025 11:49:47 +0200 (CEST) Received: from mail-pl1-f227.google.com (mail-pl1-f227.google.com [209.85.214.227]) by mails.dpdk.org (Postfix) with ESMTP id 12D274014F for ; Mon, 21 Jul 2025 11:49:46 +0200 (CEST) Received: by mail-pl1-f227.google.com with SMTP id d9443c01a7336-236192f8770so26264855ad.0 for ; Mon, 21 Jul 2025 02:49:45 -0700 (PDT) DKIM-Signature: v=1; a=rsa-sha256; c=relaxed/relaxed; d=iol.unh.edu; s=unh-iol; t=1753091385; x=1753696185; darn=dpdk.org; h=references:in-reply-to:cc:to:from:subject:message-id:date:from:to :cc:subject:date:message-id:reply-to; bh=pNT00pxNBKp+v8uHbuvU+nFEVE23aCKSZOiz8CGKGQA=; b=UPOHPrqG7SEkd7vVXPHtYvOdTbA0IErqmS6sRfgaJPuJoWLafMLtvhZ4Vd5WtNlBtD p4pp8gNxoUrlljsEV0DqOGitvD8CowPbXeT3ZeD/T4whS6WuOY0y0yotGJC8hBxKIqay iDINIbqms2naZXM/tqNE492CK20H1lZunL8cA= X-Google-DKIM-Signature: v=1; a=rsa-sha256; c=relaxed/relaxed; d=1e100.net; s=20230601; t=1753091385; x=1753696185; h=references:in-reply-to:cc:to:from:subject:message-id:date :x-gm-message-state:from:to:cc:subject:date:message-id:reply-to; bh=pNT00pxNBKp+v8uHbuvU+nFEVE23aCKSZOiz8CGKGQA=; b=Yo+AuJ/WevHvQHo5Y3l8EeOS1le7+/YVM/PBw731e4u/rk9Q53/RI8XvHgd89Ku5vf /ZQTkcpeZNjC+b1V4ZS0ONKB6Um0hp6ZFz9A/AbpxQfMLb9Ccp2MkS+Dx+jraoFj36VT Yi/TmXFQ3gG4gmt6dO25kid3tChzTdW3DBNdvSOfBcfIdimp/Rv3uzzutxCGhbuCzV+S rVbKJ0fm8wWPcDZyv0tf1C1iClekSl/B31Dxn2+ODguaLBDqhyttcfEs23WbGUNTubQB CsFALJzFPBHf6+nOTvzbXD/J67SBeS6RQikVdgXPIpDpWslZCwLGMRxM0HRLIEVF101x o99g== X-Gm-Message-State: AOJu0Yy+IYdY86pxTmCJlJjvwAFs+im6t5V8Z2wqIhBtXWcdyMtZjMdb 7vgZ8I10lG2LpkIFDib0ofHlU8liEq47RQtwm8evN+A2dydbD9+Cnb+r+XcXWelz3L2CONZIfFJ z7iIetav7vAphQ3uzlYYaP7sizhUxekQ1jbGVl9wFbYjU4PO5ElcXUFOvCkQ/ X-Gm-Gg: ASbGncu2YH9G9UKd3Mv3Fstiw6vXlhZP23pQS67GupgYYk1n30b+Kj9N4JB3o5cQwBj 9VFAyMF5LRZ2KR3QRlCkmoW3pu3KUJ2CoFRlQw02+gcDLXCP0kGV8fheeUkAPh6h4adrBD32+VA 1Oyb8+RjuwSIw4sB6FHPAE4/vzVUAe2cX3+U6p4FsIRTqVeS3Eo8/WQe4avy40WlisXneZGy/hu idki0a+18M3mQRREmYXTniOibXQ6N28gLutG0x1DU6AuXDxiW/0geM6U0k9neJzSWRWDHyHC8ax WrJmgq8XXEDyQqBcFPBNZl22f68ORnV1INgE1rNRFr3oodWr1w== X-Google-Smtp-Source: AGHT+IGI2nzkn7VKITykj6lYclYqabns1JzyexDgQ4hyTQvX30pB4FzdVH9APTMsJ7/Ae8vA9F1cXPo8J8o8 X-Received: by 2002:a17:903:278c:b0:215:b1e3:c051 with SMTP id d9443c01a7336-23e2f6da4c2mr171559415ad.11.1753091384801; Mon, 21 Jul 2025 02:49:44 -0700 (PDT) Received: from postal.iol.unh.edu (postal.iol.unh.edu. [2606:4100:3880:1234::84]) by smtp-relay.gmail.com with ESMTPS id d9443c01a7336-23e3b61f396sm3998975ad.40.2025.07.21.02.49.44 (version=TLS1_2 cipher=ECDHE-ECDSA-AES128-GCM-SHA256 bits=128/128); Mon, 21 Jul 2025 02:49:44 -0700 (PDT) X-Relaying-Domain: iol.unh.edu Date: Mon, 21 Jul 2025 02:49:44 -0700 (PDT) Message-ID: <687e0d38.170a0220.3589c9.36d8SMTPIN_ADDED_MISSING@mx.google.com> Received: from [172.21.0.3] (unknown [172.18.0.240]) by postal.iol.unh.edu (Postfix) with ESMTP id 3D76B6051830; Mon, 21 Jul 2025 05:49:44 -0400 (EDT) Subject: |SUCCESS| pw155370 [PATCH] net/mlx5: fix crash when secondary querie From: dpdklab@iol.unh.edu To: Test Report Cc: dpdk-test-reports@iol.unh.edu In-Reply-To: <20250721073851.963141-1-14pwcse1224@uetpeshawar.edu.pk> References: <20250721073851.963141-1-14pwcse1224@uetpeshawar.edu.pk> Content-Type: text/plain X-BeenThere: test-report@dpdk.org X-Mailman-Version: 2.1.29 Precedence: list List-Id: automatic DPDK test reports List-Unsubscribe: , List-Archive: List-Post: List-Help: List-Subscribe: , Errors-To: test-report-bounces@dpdk.org Test-Label: iol-abi-testing Test-Status: SUCCESS http://dpdk.org/patch/155370 _Testing PASS_ Submitter: Khadem Ullah <14pwcse1224@uetpeshawar.edu.pk> Date: Monday, July 21 2025 07:38:51 DPDK git baseline: Repo:dpdk Branch: master CommitID:9fe9c0b231c8da5435bfccb1963121b4277f961c 155370 --> testing pass Upstream job id: Generic-DPDK-Compile-ABI#135049 Test environment and result as below: +-------------------------------+----------+ | Environment | abi_test | +===============================+==========+ | CentOS Stream 9 | PASS | +-------------------------------+----------+ | CentOS Stream 10 | PASS | +-------------------------------+----------+ | Debian GNU/Linux 12 | PASS | +-------------------------------+----------+ | Fedora Linux 40 | PASS | +-------------------------------+----------+ | Fedora Linux 41 | PASS | +-------------------------------+----------+ | Red Hat Enterprise Linux 8.10 | PASS | +-------------------------------+----------+ | Red Hat Enterprise Linux 9.5 | PASS | +-------------------------------+----------+ | Ubuntu 22.04 | PASS | +-------------------------------+----------+ | Ubuntu 24.04 | PASS | +-------------------------------+----------+ | openSUSE Leap 15.6 | PASS | +-------------------------------+----------+ CentOS Stream 9 Kernel: 5.15 Compiler: gcc gcc (GCC) 11.5.0 20240719 (Red Hat 11.5.0-7) CentOS Stream 10 Kernel: 5.15 Compiler: gcc gcc (GCC) 14.2.1 20250110 (Red Hat 14.2.1-8) Debian GNU/Linux 12 Kernel: 5.15 Compiler: gcc gcc (Debian 12.2.0-14+deb12u1) 12.2.0 Fedora Linux 40 Kernel: 5.15 Compiler: gcc gcc (GCC) 14.2.1 20240912 (Red Hat 14.2.1-3) Fedora Linux 41 Kernel: 5.15 Compiler: clang gcc (GCC) 14.3.1 20250523 (Red Hat 14.3.1-1) Red Hat Enterprise Linux 8.10 Kernel: 5.15 Compiler: gcc gcc (GCC) 8.5.0 20210514 (Red Hat 8.5.0-22) Red Hat Enterprise Linux 9.5 Kernel: 5.15 Compiler: gcc gcc (GCC) 11.5.0 20240719 (Red Hat 11.5.0-2) Ubuntu 22.04 Kernel: 5.15 Compiler: gcc gcc (Ubuntu 11.4.0-1ubuntu1~22.04) 11.4.0 Ubuntu 24.04 Kernel: 5.15 Compiler: gcc gcc (Ubuntu 13.3.0-6ubuntu2~24.04) 13.3.0 openSUSE Leap 15.6 Kernel: 5.15 Compiler: gcc gcc (SUSE Linux) 7.5.0 To view detailed results, visit: https://lab.dpdk.org/results/dashboard/patchsets/33699/ UNH-IOL DPDK Community Lab To manage your email subscriptions, visit: https://lab.dpdk.org/results/dashboard/preferences/subscriptions/