From mboxrd@z Thu Jan 1 00:00:00 1970 Return-Path: Received: from mails.dpdk.org (mails.dpdk.org [217.70.189.124]) by inbox.dpdk.org (Postfix) with ESMTP id 76FF546BD7 for ; Mon, 21 Jul 2025 11:50:00 +0200 (CEST) Received: from mails.dpdk.org (localhost [127.0.0.1]) by mails.dpdk.org (Postfix) with ESMTP id 723C34014F; Mon, 21 Jul 2025 11:50:00 +0200 (CEST) Received: from mail-il1-f228.google.com (mail-il1-f228.google.com [209.85.166.228]) by mails.dpdk.org (Postfix) with ESMTP id 2ECFD4014F for ; Mon, 21 Jul 2025 11:49:59 +0200 (CEST) Received: by mail-il1-f228.google.com with SMTP id e9e14a558f8ab-3df2f20f4bbso14829015ab.0 for ; Mon, 21 Jul 2025 02:49:59 -0700 (PDT) DKIM-Signature: v=1; a=rsa-sha256; c=relaxed/relaxed; d=iol.unh.edu; s=unh-iol; t=1753091398; x=1753696198; darn=dpdk.org; h=references:in-reply-to:cc:to:from:subject:message-id:date:from:to :cc:subject:date:message-id:reply-to; bh=509WHK4J5hRJy4YkmKWFNdDeuojfIX0vIJ2HP3DY+Ks=; b=Eaz3m1QDCjPUFlS8gun3hIxxBdjZtQYA9AAoViSQdsvyWGpAYWk2/oG5fThh9dEHUd +Bhy4jtkZ5jS02PU/bPUpMBxndHATlEkOuuCMIHk/WwrZEa9dbQl+JRDlk2KygWV2OYt 9nBlGQG/Y6eOqs6AX7H8f06f2huRvaLHAnPF4= X-Google-DKIM-Signature: v=1; a=rsa-sha256; c=relaxed/relaxed; d=1e100.net; s=20230601; t=1753091398; x=1753696198; h=references:in-reply-to:cc:to:from:subject:message-id:date :x-gm-message-state:from:to:cc:subject:date:message-id:reply-to; bh=509WHK4J5hRJy4YkmKWFNdDeuojfIX0vIJ2HP3DY+Ks=; b=d/h92GToZdiYPwgxZ7tc3OgiVaws4Y6ZyOelFQdUUJ+bQKtHINEeN5lqGJJkpVxORn gpYzAKXnivQkjbpth94qI1slFH1F8FauU7rbHGgoi+pdDC6IMed0cGFGaoOUVfTFYLAm bSsOc12XV/k2qnlyLrPkqau1NHzob/YEIp4LMDdF+fTXrJBA/KKjSY3TQZ/MaUCuw8el pDJki20G+y84cxIQtEEqYATSypTYe7FSV7Ahbq02IAGVRHtKkUkCYX3ZtUzvBMDMF4QP BHUfyjWT/vErhmRn2q4tjBxxd8YwSh1azG84pHNUmkm/nk56I4dV1FDIyBCtjuv0/mNm FuIw== X-Gm-Message-State: AOJu0YyfOHaxrvt/It6ZCNDqSeDSCAqtzirr1S4S1oeuJTqz8s1faswj 5G8Y397hEr220R4vvcSsoNd8zKZWsnO4g5CtJjz5dBdDmslXAAEHoJ83QiwJyF2d988jQgM761D oc3MtozV6wnQFQ0ozFXXqtNeduFBnuHeAn1fwwogs292ETWDlWkm2TBJCc4eq X-Gm-Gg: ASbGnctzxDEixIVhQOupJ/H9lGJrUE8bDuCjBr+g7iy3c+OHsfwCPQOxJqj7f8W2+Ws 1CIw7Qq5Ys0k+xj5yHGo0bbvcAYb0EnmJ1L0Qu0VHKNEuJ1VmmVXmeukiDzWjcFvTDHXuIJA1sj V1UwX16jUiNo37gbSVWbZXyUf1BjzlGBJGJfwkDD0aEahnLDtXq+jp5Op0qMS5Fht5fCFYzhRJF 63L/PGVaJA4dmFIaDmvOvQJaV1HLDZBbYeM4WL0TryQtRvxcq3je8MLJ/N8OyRClhdN5VVxfG9d cWI4Ak6uMh+/OgA1+Sq37/T8oFNBGxo4RmprVxxJ0abB/Od7gg== X-Google-Smtp-Source: AGHT+IG1JdpxbFWbvCl2/ooEZMll4cAEPuOH/PQUEvMFHevozM2Lgnlxuca29MH2/SsMTC6mugA3IN8kD8lb X-Received: by 2002:a05:6e02:1709:b0:3e2:9aea:8049 with SMTP id e9e14a558f8ab-3e29aea823fmr115215885ab.13.1753091398380; Mon, 21 Jul 2025 02:49:58 -0700 (PDT) Received: from postal.iol.unh.edu (postal.iol.unh.edu. [2606:4100:3880:1234::84]) by smtp-relay.gmail.com with ESMTPS id e9e14a558f8ab-3e2982040d2sm4677665ab.12.2025.07.21.02.49.58 (version=TLS1_2 cipher=ECDHE-ECDSA-AES128-GCM-SHA256 bits=128/128); Mon, 21 Jul 2025 02:49:58 -0700 (PDT) X-Relaying-Domain: iol.unh.edu Date: Mon, 21 Jul 2025 02:49:58 -0700 (PDT) Message-ID: <687e0d46.050a0220.2ac16c.7049SMTPIN_ADDED_MISSING@mx.google.com> Received: from [172.21.0.4] (unknown [172.18.0.240]) by postal.iol.unh.edu (Postfix) with ESMTP id EA5CE6051830; Mon, 21 Jul 2025 05:49:57 -0400 (EDT) Subject: |SUCCESS| pw155370 [PATCH] net/mlx5: fix crash when secondary querie From: dpdklab@iol.unh.edu To: Test Report Cc: dpdk-test-reports@iol.unh.edu In-Reply-To: <20250721073851.963141-1-14pwcse1224@uetpeshawar.edu.pk> References: <20250721073851.963141-1-14pwcse1224@uetpeshawar.edu.pk> Content-Type: text/plain X-BeenThere: test-report@dpdk.org X-Mailman-Version: 2.1.29 Precedence: list List-Id: automatic DPDK test reports List-Unsubscribe: , List-Archive: List-Post: List-Help: List-Subscribe: , Errors-To: test-report-bounces@dpdk.org Test-Label: iol-abi-testing Test-Status: SUCCESS http://dpdk.org/patch/155370 _Testing PASS_ Submitter: Khadem Ullah <14pwcse1224@uetpeshawar.edu.pk> Date: Monday, July 21 2025 07:38:51 DPDK git baseline: Repo:dpdk Branch: master CommitID:9fe9c0b231c8da5435bfccb1963121b4277f961c 155370 --> testing pass Upstream job id: Generic-DPDK-Compile-ABI#135041 Test environment and result as below: +-------------------------------+----------+ | Environment | abi_test | +===============================+==========+ | CentOS Stream 9 | PASS | +-------------------------------+----------+ | CentOS Stream 10 | PASS | +-------------------------------+----------+ | Debian GNU/Linux 12 | PASS | +-------------------------------+----------+ | Fedora Linux 40 | PASS | +-------------------------------+----------+ | Fedora Linux 41 | PASS | +-------------------------------+----------+ | Red Hat Enterprise Linux 8.10 | PASS | +-------------------------------+----------+ | Red Hat Enterprise Linux 9.5 | PASS | +-------------------------------+----------+ | Ubuntu 22.04 | PASS | +-------------------------------+----------+ | Ubuntu 24.04 | PASS | +-------------------------------+----------+ | openSUSE Leap 15.6 | PASS | +-------------------------------+----------+ CentOS Stream 9 Kernel: 5.15 Compiler: gcc gcc (GCC) 11.5.0 20240719 (Red Hat 11.5.0-7) CentOS Stream 10 Kernel: 5.15 Compiler: gcc gcc (GCC) 14.2.1 20250110 (Red Hat 14.2.1-8) Debian GNU/Linux 12 Kernel: 5.15 Compiler: gcc gcc (Debian 12.2.0-14+deb12u1) 12.2.0 Fedora Linux 40 Kernel: 5.15 Compiler: gcc gcc (GCC) 14.2.1 20240912 (Red Hat 14.2.1-3) Fedora Linux 41 Kernel: 5.15 Compiler: clang gcc (GCC) 14.3.1 20250523 (Red Hat 14.3.1-1) Red Hat Enterprise Linux 8.10 Kernel: 5.15 Compiler: gcc gcc (GCC) 8.5.0 20210514 (Red Hat 8.5.0-22) Red Hat Enterprise Linux 9.5 Kernel: 5.15 Compiler: gcc gcc (GCC) 11.5.0 20240719 (Red Hat 11.5.0-2) Ubuntu 22.04 Kernel: 5.15 Compiler: gcc gcc (Ubuntu 11.4.0-1ubuntu1~22.04) 11.4.0 Ubuntu 24.04 Kernel: 5.15 Compiler: gcc gcc (Ubuntu 13.3.0-6ubuntu2~24.04) 13.3.0 openSUSE Leap 15.6 Kernel: 5.15 Compiler: gcc gcc (SUSE Linux) 7.5.0 To view detailed results, visit: https://lab.dpdk.org/results/dashboard/patchsets/33699/ UNH-IOL DPDK Community Lab To manage your email subscriptions, visit: https://lab.dpdk.org/results/dashboard/preferences/subscriptions/