From mboxrd@z Thu Jan 1 00:00:00 1970 Return-Path: Received: from mails.dpdk.org (mails.dpdk.org [217.70.189.124]) by inbox.dpdk.org (Postfix) with ESMTP id 8378C46BD7 for ; Mon, 21 Jul 2025 11:50:12 +0200 (CEST) Received: from mails.dpdk.org (localhost [127.0.0.1]) by mails.dpdk.org (Postfix) with ESMTP id 7ED5F4014F; Mon, 21 Jul 2025 11:50:12 +0200 (CEST) Received: from mail-yb1-f226.google.com (mail-yb1-f226.google.com [209.85.219.226]) by mails.dpdk.org (Postfix) with ESMTP id 71C1B4014F for ; Mon, 21 Jul 2025 11:50:11 +0200 (CEST) Received: by mail-yb1-f226.google.com with SMTP id 3f1490d57ef6-e8d157c946eso3668621276.2 for ; Mon, 21 Jul 2025 02:50:11 -0700 (PDT) DKIM-Signature: v=1; a=rsa-sha256; c=relaxed/relaxed; d=iol.unh.edu; s=unh-iol; t=1753091411; x=1753696211; darn=dpdk.org; h=references:in-reply-to:cc:to:from:subject:message-id:date:from:to :cc:subject:date:message-id:reply-to; bh=Kslcy/myHiquxdvey2GkYg8oeaI189A4wraOhlNGbNg=; b=AqqIv7C7iyEbObNhyVIy8SXPev35b0KA0mjYMYjPdfhwnCw6uFuSugC+iKTzmqX3wx 6ZxMe66X3IXFBCRZ/Vrjgd1FL9b+OAGy71WX1n8SeuZruGYMsV9N9+0EH47zrC8ze8Ko JujGLHVFmM+t1x+SHuXQhw5jIVviqtbWGOhvo= X-Google-DKIM-Signature: v=1; a=rsa-sha256; c=relaxed/relaxed; d=1e100.net; s=20230601; t=1753091411; x=1753696211; h=references:in-reply-to:cc:to:from:subject:message-id:date :x-gm-message-state:from:to:cc:subject:date:message-id:reply-to; bh=Kslcy/myHiquxdvey2GkYg8oeaI189A4wraOhlNGbNg=; b=B9SQUi5TkPanwItpHkU2k3hy2gL+Z7aw61WaW7PFg/p2B+aa7ze650mvCSjdTK8HQk yv6MVYMcVXuEw+FaB0zDVgY3Y8/cykWgJkpP6YFFmP9msBzkbk1z4B921OwoS5EzmSBc dIwF6HSPCWHK7kWCm/zxFkSHV3A94oFzDf5+m/rp4O4hrBjZgSizpt7O+ds9Om+lFQWT kNEJ31w0xXeGvK3yQLSXMqen6d6inWf8Pu4kziYXpZo1f/hJmEP+WBSyz7zQRKIwNAlV QUiI6u7Z3ZF3emOYi2cPYru2FxPbnhp+rfaQUNEFv8pjl66FvgQn6/MqqBlOdTMSeSMJ m3gg== X-Gm-Message-State: AOJu0YxeSBlNnaQVXdJgE87oQyf+T1sZ2cwIB+Hw81HtLp/m110EZikD JUBkBkZvORm114+YOlZL0gkRhI34KYbf17KLRNXzH8xBNXGgkwn4cnSKD+Cz8u9eTA6JZiW8v+M EqmsurxnBa44CBqJjo6Q8+AHhphCIXdlPcMG0iYcrOkjy X-Gm-Gg: ASbGncsMwho7KQAlHkc/8x51HEA/r3amDLUr0DwQHsj3zFJwZr7QezdNXgqX+c2QXmd ZgcFMV1Xd+Oo7uAwZRvKZPk/6gBBrVkj81GUQeJgVFgi3Ue+yUJEi0xu8euSx0GZS7S2MH9GsUn ghx4NrVILCLEWd01sD6cc6ddJ0zei50qtjFDR9K1UEaeztqqxwKp7naHTPvUcfSA0fYHAzYkWb5 7hH6IbZJX7KwfUA6HGmgkD/PLrIENqZ5lgEUhV5WlMUG0eMbot+5ldjhJ2lr/FIoZvtnSu7a3p8 GWDa27KUI4WSy1KQWODonHuYgH+seBPRNZZj5QaFU9J9Ay2c4VGvXLHMLcpPbhUNNPAXPMLP X-Google-Smtp-Source: AGHT+IFDrJ8xULXDxh4RSLhEOnTMXOiDn9M21nhhjKsqnzjYineD/B7Y4OJZlDgc9Vw8wgJhqwfPhSUM5Fbu X-Received: by 2002:a05:6902:13c3:b0:e8d:8d1e:6c59 with SMTP id 3f1490d57ef6-e8d8d1e99e6mr9312546276.46.1753091410759; Mon, 21 Jul 2025 02:50:10 -0700 (PDT) Received: from postal.iol.unh.edu (postal.iol.unh.edu. [132.177.123.84]) by smtp-relay.gmail.com with ESMTPS id 3f1490d57ef6-e8d7cdd564dsm411352276.16.2025.07.21.02.50.10 (version=TLS1_2 cipher=ECDHE-ECDSA-AES128-GCM-SHA256 bits=128/128); Mon, 21 Jul 2025 02:50:10 -0700 (PDT) X-Relaying-Domain: iol.unh.edu Date: Mon, 21 Jul 2025 02:50:10 -0700 (PDT) Message-ID: <687e0d52.250a0220.2161b.445cSMTPIN_ADDED_MISSING@mx.google.com> Received: from [172.21.0.2] (unknown [172.18.0.240]) by postal.iol.unh.edu (Postfix) with ESMTP id 6F3BA6051830; Mon, 21 Jul 2025 05:50:10 -0400 (EDT) Subject: |SUCCESS| pw155370 [PATCH] net/mlx5: fix crash when secondary querie From: dpdklab@iol.unh.edu To: Test Report Cc: dpdk-test-reports@iol.unh.edu In-Reply-To: <20250721073851.963141-1-14pwcse1224@uetpeshawar.edu.pk> References: <20250721073851.963141-1-14pwcse1224@uetpeshawar.edu.pk> Content-Type: text/plain X-BeenThere: test-report@dpdk.org X-Mailman-Version: 2.1.29 Precedence: list List-Id: automatic DPDK test reports List-Unsubscribe: , List-Archive: List-Post: List-Help: List-Subscribe: , Errors-To: test-report-bounces@dpdk.org Test-Label: iol-abi-testing Test-Status: SUCCESS http://dpdk.org/patch/155370 _Testing PASS_ Submitter: Khadem Ullah <14pwcse1224@uetpeshawar.edu.pk> Date: Monday, July 21 2025 07:38:51 DPDK git baseline: Repo:dpdk Branch: master CommitID:9fe9c0b231c8da5435bfccb1963121b4277f961c 155370 --> testing pass Upstream job id: Generic-DPDK-Compile-ABI#135048 Test environment and result as below: +-------------------------------+----------+ | Environment | abi_test | +===============================+==========+ | CentOS Stream 9 | PASS | +-------------------------------+----------+ | CentOS Stream 10 | PASS | +-------------------------------+----------+ | Debian GNU/Linux 12 | PASS | +-------------------------------+----------+ | Fedora Linux 40 | PASS | +-------------------------------+----------+ | Fedora Linux 41 | PASS | +-------------------------------+----------+ | Red Hat Enterprise Linux 8.10 | PASS | +-------------------------------+----------+ | Red Hat Enterprise Linux 9.5 | PASS | +-------------------------------+----------+ | Ubuntu 22.04 | PASS | +-------------------------------+----------+ | Ubuntu 24.04 | PASS | +-------------------------------+----------+ | openSUSE Leap 15.6 | PASS | +-------------------------------+----------+ CentOS Stream 9 Kernel: 5.15 Compiler: gcc gcc (GCC) 11.5.0 20240719 (Red Hat 11.5.0-7) CentOS Stream 10 Kernel: 5.15 Compiler: gcc gcc (GCC) 14.2.1 20250110 (Red Hat 14.2.1-8) Debian GNU/Linux 12 Kernel: 5.15 Compiler: gcc gcc (Debian 12.2.0-14+deb12u1) 12.2.0 Fedora Linux 40 Kernel: 5.15 Compiler: gcc gcc (GCC) 14.2.1 20240912 (Red Hat 14.2.1-3) Fedora Linux 41 Kernel: 5.15 Compiler: clang gcc (GCC) 14.3.1 20250523 (Red Hat 14.3.1-1) Red Hat Enterprise Linux 8.10 Kernel: 5.15 Compiler: gcc gcc (GCC) 8.5.0 20210514 (Red Hat 8.5.0-22) Red Hat Enterprise Linux 9.5 Kernel: 5.15 Compiler: gcc gcc (GCC) 11.5.0 20240719 (Red Hat 11.5.0-2) Ubuntu 22.04 Kernel: 5.15 Compiler: gcc gcc (Ubuntu 11.4.0-1ubuntu1~22.04) 11.4.0 Ubuntu 24.04 Kernel: 5.15 Compiler: gcc gcc (Ubuntu 13.3.0-6ubuntu2~24.04) 13.3.0 openSUSE Leap 15.6 Kernel: 5.15 Compiler: gcc gcc (SUSE Linux) 7.5.0 To view detailed results, visit: https://lab.dpdk.org/results/dashboard/patchsets/33699/ UNH-IOL DPDK Community Lab To manage your email subscriptions, visit: https://lab.dpdk.org/results/dashboard/preferences/subscriptions/