From mboxrd@z Thu Jan 1 00:00:00 1970 Return-Path: Received: from mails.dpdk.org (mails.dpdk.org [217.70.189.124]) by inbox.dpdk.org (Postfix) with ESMTP id 989DC46BD7 for ; Mon, 21 Jul 2025 11:50:34 +0200 (CEST) Received: from mails.dpdk.org (localhost [127.0.0.1]) by mails.dpdk.org (Postfix) with ESMTP id 93BCB4014F; Mon, 21 Jul 2025 11:50:34 +0200 (CEST) Received: from mail-qv1-f97.google.com (mail-qv1-f97.google.com [209.85.219.97]) by mails.dpdk.org (Postfix) with ESMTP id 8DC3F4014F for ; Mon, 21 Jul 2025 11:50:33 +0200 (CEST) Received: by mail-qv1-f97.google.com with SMTP id 6a1803df08f44-6fac7147cb8so62615296d6.1 for ; Mon, 21 Jul 2025 02:50:33 -0700 (PDT) DKIM-Signature: v=1; a=rsa-sha256; c=relaxed/relaxed; d=iol.unh.edu; s=unh-iol; t=1753091433; x=1753696233; darn=dpdk.org; h=references:in-reply-to:cc:to:from:subject:message-id:date:from:to :cc:subject:date:message-id:reply-to; bh=q2x64C8cAH/nt/L03VALzE0NGn86fKB2BnisldhsIbI=; b=FU4jfKtYxDBO8gryKP62nSl8DK0rarhg/fi22Inac0kqPtLDdOYb+0+8/UZ8+XO1I6 IkoPYL08H8nCmR3sEJSoEDXdWy111PL4RhwQen+gwqyB42QeYhEkdkVLs1Z6+YhRcjQ0 qgkWrN23XgtQ095hzwVZ+ym+9W3b5b1qjSLJ4= X-Google-DKIM-Signature: v=1; a=rsa-sha256; c=relaxed/relaxed; d=1e100.net; s=20230601; t=1753091433; x=1753696233; h=references:in-reply-to:cc:to:from:subject:message-id:date :x-gm-message-state:from:to:cc:subject:date:message-id:reply-to; bh=q2x64C8cAH/nt/L03VALzE0NGn86fKB2BnisldhsIbI=; b=MctSv5FQ+ZHBOqpnWiqdc9szGPwvkXccM8bOq1FA8XYrVmA8O0DmWDfey/sNeLDkrG QKI/Le/PjwyRKItKhoXR0Fv3NGUvLg90jbUwVYISCQUJm+ul8UesakTC/iU9NuOMeRTv XP5VsbxSl6pXEjg47HOFHuCD8Pv0/gnqYFHDqOmMY3pDlm3M26zpzlIzPG501tVdIpxy b2VLp3Zn2MhV6S3a1tf+8yuvgodlVR8q483eHh31CP5GSySla3LEj2rPxpveHlCnUWUJ qZi6CcLZohez5zORsfrRsnpJlsPoPyjThByNIA/yOCV357SmQMNs+okE9f4ATXBVDmOI upZw== X-Gm-Message-State: AOJu0Yw+qjsn2EApsrZZJl8RC/qlDQeDqmhx/p47ArIM5uVZT7faoMdf VBtkwUOjbx80xYFvMw42ZP2UgF7c7cuGhhwfd5jaE9ZAuqMK0Lsu5Z++RlKR+AtQ6mOMdDi5aaB ae8B5hTq/TywGu/EdM2UthrT9iQL23urwsv8lRihxawwBK3223y1azCQPRXM3 X-Gm-Gg: ASbGnculcdnOlHRTr0UIRFHRJxy5tSwwsuG+7ZZGYcdBiQAzcgUhq3OJHgOsa6GJfcv uPJWagZQYOV2I8ZM4lArsxQfS0IrnjQdruHibW6VmAvJnc93Thkj+EYvfNJqLYG45PhmV34Bpvb VPp+kZEOjJIOAiXawLcE/A1wRpoU3J6wzySgTgbfh+35jg0O8Lj2svjat23uPKl1M/jLU8ar4Nh 6bLR0G7dbqfTiSgtgs+E9IYJdjgYMj2dHFU22yNyIHu9miB1Nc7XbFqOeqKbo0cSPnvAG2QOTU6 N1zNjjfYAL5i/AD2T/4tGTtYolckAu9By4bsdjTi7d1ldJfz4g== X-Google-Smtp-Source: AGHT+IGPVE6B3VS8p10OdRxeIRfeQYhpU45tgGNfyE0jnrBa2Uu6eO33GqF0qQ48m6yr+JH1TbIficZG02tF X-Received: by 2002:a05:6214:5287:b0:704:9871:495c with SMTP id 6a1803df08f44-70519fca230mr168653146d6.2.1753091432891; Mon, 21 Jul 2025 02:50:32 -0700 (PDT) Received: from postal.iol.unh.edu (postal.iol.unh.edu. [2606:4100:3880:1234::84]) by smtp-relay.gmail.com with ESMTPS id 6a1803df08f44-7051bcce195sm4000236d6.33.2025.07.21.02.50.32 (version=TLS1_2 cipher=ECDHE-ECDSA-AES128-GCM-SHA256 bits=128/128); Mon, 21 Jul 2025 02:50:32 -0700 (PDT) X-Relaying-Domain: iol.unh.edu Date: Mon, 21 Jul 2025 02:50:32 -0700 (PDT) Message-ID: <687e0d68.d40a0220.6edc0.4091SMTPIN_ADDED_MISSING@mx.google.com> Received: from [172.21.0.2] (unknown [172.18.0.240]) by postal.iol.unh.edu (Postfix) with ESMTP id A0D216051830; Mon, 21 Jul 2025 05:50:32 -0400 (EDT) Subject: |SUCCESS| pw155370 [PATCH] net/mlx5: fix crash when secondary querie From: dpdklab@iol.unh.edu To: Test Report Cc: dpdk-test-reports@iol.unh.edu In-Reply-To: <20250721073851.963141-1-14pwcse1224@uetpeshawar.edu.pk> References: <20250721073851.963141-1-14pwcse1224@uetpeshawar.edu.pk> Content-Type: text/plain X-BeenThere: test-report@dpdk.org X-Mailman-Version: 2.1.29 Precedence: list List-Id: automatic DPDK test reports List-Unsubscribe: , List-Archive: List-Post: List-Help: List-Subscribe: , Errors-To: test-report-bounces@dpdk.org Test-Label: iol-abi-testing Test-Status: SUCCESS http://dpdk.org/patch/155370 _Testing PASS_ Submitter: Khadem Ullah <14pwcse1224@uetpeshawar.edu.pk> Date: Monday, July 21 2025 07:38:51 DPDK git baseline: Repo:dpdk Branch: master CommitID:9fe9c0b231c8da5435bfccb1963121b4277f961c 155370 --> testing pass Upstream job id: Generic-DPDK-Compile-ABI#135043 Test environment and result as below: +-------------------------------+----------+ | Environment | abi_test | +===============================+==========+ | CentOS Stream 9 | PASS | +-------------------------------+----------+ | CentOS Stream 10 | PASS | +-------------------------------+----------+ | Debian GNU/Linux 12 | PASS | +-------------------------------+----------+ | Fedora Linux 40 | PASS | +-------------------------------+----------+ | Fedora Linux 41 | PASS | +-------------------------------+----------+ | Red Hat Enterprise Linux 8.10 | PASS | +-------------------------------+----------+ | Red Hat Enterprise Linux 9.5 | PASS | +-------------------------------+----------+ | Ubuntu 22.04 | PASS | +-------------------------------+----------+ | Ubuntu 24.04 | PASS | +-------------------------------+----------+ | openSUSE Leap 15.6 | PASS | +-------------------------------+----------+ CentOS Stream 9 Kernel: 5.15 Compiler: gcc gcc (GCC) 11.5.0 20240719 (Red Hat 11.5.0-7) CentOS Stream 10 Kernel: 5.15 Compiler: gcc gcc (GCC) 14.2.1 20250110 (Red Hat 14.2.1-8) Debian GNU/Linux 12 Kernel: 5.15 Compiler: gcc gcc (Debian 12.2.0-14+deb12u1) 12.2.0 Fedora Linux 40 Kernel: 5.15 Compiler: gcc gcc (GCC) 14.2.1 20240912 (Red Hat 14.2.1-3) Fedora Linux 41 Kernel: 5.15 Compiler: clang gcc (GCC) 14.3.1 20250523 (Red Hat 14.3.1-1) Red Hat Enterprise Linux 8.10 Kernel: 5.15 Compiler: gcc gcc (GCC) 8.5.0 20210514 (Red Hat 8.5.0-22) Red Hat Enterprise Linux 9.5 Kernel: 5.15 Compiler: gcc gcc (GCC) 11.5.0 20240719 (Red Hat 11.5.0-2) Ubuntu 22.04 Kernel: 5.15 Compiler: gcc gcc (Ubuntu 11.4.0-1ubuntu1~22.04) 11.4.0 Ubuntu 24.04 Kernel: 5.15 Compiler: gcc gcc (Ubuntu 13.3.0-6ubuntu2~24.04) 13.3.0 openSUSE Leap 15.6 Kernel: 5.15 Compiler: gcc gcc (SUSE Linux) 7.5.0 To view detailed results, visit: https://lab.dpdk.org/results/dashboard/patchsets/33699/ UNH-IOL DPDK Community Lab To manage your email subscriptions, visit: https://lab.dpdk.org/results/dashboard/preferences/subscriptions/