From mboxrd@z Thu Jan 1 00:00:00 1970 Return-Path: Received: from mails.dpdk.org (mails.dpdk.org [217.70.189.124]) by inbox.dpdk.org (Postfix) with ESMTP id A44F646BD7 for ; Mon, 21 Jul 2025 11:50:38 +0200 (CEST) Received: from mails.dpdk.org (localhost [127.0.0.1]) by mails.dpdk.org (Postfix) with ESMTP id 9F3E44014F; Mon, 21 Jul 2025 11:50:38 +0200 (CEST) Received: from mail-pl1-f227.google.com (mail-pl1-f227.google.com [209.85.214.227]) by mails.dpdk.org (Postfix) with ESMTP id B33C84014F for ; Mon, 21 Jul 2025 11:50:37 +0200 (CEST) Received: by mail-pl1-f227.google.com with SMTP id d9443c01a7336-237311f5a54so31287845ad.2 for ; Mon, 21 Jul 2025 02:50:37 -0700 (PDT) DKIM-Signature: v=1; a=rsa-sha256; c=relaxed/relaxed; d=iol.unh.edu; s=unh-iol; t=1753091437; x=1753696237; darn=dpdk.org; h=references:in-reply-to:cc:to:from:subject:message-id:date:from:to :cc:subject:date:message-id:reply-to; bh=i+mGo6gFrpZjDUrwz/ULY5pWU7aGEbrpTkNCddMOvyw=; b=Da3jK5hN6v14n2zi6xAty/CUUCJwp+ljdJ3BPxJEttVMKypQK+22TRZ4aNyK1J0xU2 rsPjfrtsYnbmmo98sdlFBtjE6LHijGFHjmYv8Hx7Y/GofluRWGt7l5tdaHYCpbvFO6gX 5NM6BeE8PPDNmgyTt4pPGOn3NDXDMCy06oTdo= X-Google-DKIM-Signature: v=1; a=rsa-sha256; c=relaxed/relaxed; d=1e100.net; s=20230601; t=1753091437; x=1753696237; h=references:in-reply-to:cc:to:from:subject:message-id:date :x-gm-message-state:from:to:cc:subject:date:message-id:reply-to; bh=i+mGo6gFrpZjDUrwz/ULY5pWU7aGEbrpTkNCddMOvyw=; b=izbfV71JjFfo0YG4qXxn83QglemOvcnWbdgJ+h0EBQ0atieN+vMw7OY9qSPWEAoqx1 fJgx+laTuZ02vSnQrYKlIkt9z0AkctBKbDjW3nRyEF9VjAo8r386Bnvyb0y+GFtMgJyB LEHnnXpjU0vlkQxTVJUwg5Q+y3PK1AefaooyWVOPIaNivcIWINkCm9T4y0EzE/mfjpFZ dUx7zVV6eiN1mcvj/VzQwHwf6LuaN1CPFjmnHf+fd5sdm4gqYM/GzWZ6jK2OXpNL/qf5 8iFwtPIbvVJ5T1KTEyNMqHRpi+fs9bAFYT0e7nEUwAZPTkVWGsY04jlpyQ0FtIGVH8xd BKsg== X-Gm-Message-State: AOJu0YwDhGn/GiEi7e1sPLoYkfshjYau9LpvFdr+fMT7bSqMTzYpj2Mp 9fCCcKfqUcM/SbRkesxJFPLohP9lxyOf0yjEBxcBtPb2h56k5RycMSMAYYYwiufKwgc5bsQRZ+8 8icLori//jdx9PC5nXklNi2lT2lCdTKHoNYc2jthCqCVWC5KriJNBtRPXx349 X-Gm-Gg: ASbGncsaASOOXPFBoI/2FUqkYQYPQ8GD560cs0HjVA2pz18jpwfoXLT9Ck4WLUTLhKX ee/Ay6DgOK+nYRnvGfQAg8fRux5GsoW8wR1QTuoPCbapuwgFUosHESjJfR68zB1ftq0whgxXtEz AxPUl5O4L5LDT6BF0jakcGk1XTIKSxZn37yhhRuIQeu4hp63LubduVsgfHQQk+BM4hAQP1a1M6M 09RPFY7w+uAXJdg7j8kP9suf+aRunt7ISx7VxiNMPoIJgCymdnV1b2DROHyFLQMsCmVCjyMXvs8 jft8k1ATVjjRm1KfSUnOqlPOsAl5KZdzNmZcxQ3jWGhnjzk0wQ== X-Google-Smtp-Source: AGHT+IEejZDOTf4O6zlfVIlHWjH4ZUNLoRF9iB2mqKTe1D9AkJoEJGniRiMcrKsSEHWu3qTk+CnAPFa1JPu5 X-Received: by 2002:a17:902:ec8b:b0:235:f3df:bc1f with SMTP id d9443c01a7336-23e257451fdmr259153795ad.36.1753091436913; Mon, 21 Jul 2025 02:50:36 -0700 (PDT) Received: from postal.iol.unh.edu (postal.iol.unh.edu. [2606:4100:3880:1234::84]) by smtp-relay.gmail.com with ESMTPS id d9443c01a7336-23e3b6b69e2sm4060685ad.75.2025.07.21.02.50.36 (version=TLS1_2 cipher=ECDHE-ECDSA-AES128-GCM-SHA256 bits=128/128); Mon, 21 Jul 2025 02:50:36 -0700 (PDT) X-Relaying-Domain: iol.unh.edu Date: Mon, 21 Jul 2025 02:50:36 -0700 (PDT) Message-ID: <687e0d6c.170a0220.75a8e.4dbfSMTPIN_ADDED_MISSING@mx.google.com> Received: from [172.21.0.4] (unknown [172.18.0.240]) by postal.iol.unh.edu (Postfix) with ESMTP id 625076051830; Mon, 21 Jul 2025 05:50:36 -0400 (EDT) Subject: |SUCCESS| pw155370 [PATCH] net/mlx5: fix crash when secondary querie From: dpdklab@iol.unh.edu To: Test Report Cc: dpdk-test-reports@iol.unh.edu In-Reply-To: <20250721073851.963141-1-14pwcse1224@uetpeshawar.edu.pk> References: <20250721073851.963141-1-14pwcse1224@uetpeshawar.edu.pk> Content-Type: text/plain X-BeenThere: test-report@dpdk.org X-Mailman-Version: 2.1.29 Precedence: list List-Id: automatic DPDK test reports List-Unsubscribe: , List-Archive: List-Post: List-Help: List-Subscribe: , Errors-To: test-report-bounces@dpdk.org Test-Label: iol-unit-amd64-testing Test-Status: SUCCESS http://dpdk.org/patch/155370 _Testing PASS_ Submitter: Khadem Ullah <14pwcse1224@uetpeshawar.edu.pk> Date: Monday, July 21 2025 07:38:51 DPDK git baseline: Repo:dpdk Branch: master CommitID:9fe9c0b231c8da5435bfccb1963121b4277f961c 155370 --> testing pass Upstream job id: Generic-Unit-Test-DPDK#356791 Test environment and result as below: +-------------------------------+----------------+ | Environment | dpdk_unit_test | +===============================+================+ | CentOS Stream 10 | PASS | +-------------------------------+----------------+ | Debian GNU/Linux 12 | PASS | +-------------------------------+----------------+ | CentOS Stream 9 | PASS | +-------------------------------+----------------+ | Fedora Linux 41 | PASS | +-------------------------------+----------------+ | Red Hat Enterprise Linux 9.5 | PASS | +-------------------------------+----------------+ | Fedora Linux 40 | PASS | +-------------------------------+----------------+ | Red Hat Enterprise Linux 8.10 | PASS | +-------------------------------+----------------+ | Ubuntu 22.04 | PASS | +-------------------------------+----------------+ | Ubuntu 20.04 | PASS | +-------------------------------+----------------+ | Ubuntu 24.04 | PASS | +-------------------------------+----------------+ | Windows Server 2022 | PASS | +-------------------------------+----------------+ CentOS Stream 10 Kernel: 5.15 Compiler: gcc gcc (GCC) 14.2.1 20250110 (Red Hat 14.2.1-8) Debian GNU/Linux 12 Kernel: 5.15 Compiler: gcc gcc (Debian 12.2.0-14+deb12u1) 12.2.0 CentOS Stream 9 Kernel: 5.15 Compiler: gcc gcc (GCC) 11.5.0 20240719 (Red Hat 11.5.0-7) Fedora Linux 41 Kernel: 5.15 Compiler: clang gcc (GCC) 14.3.1 20250523 (Red Hat 14.3.1-1) Red Hat Enterprise Linux 9.5 Kernel: 5.15 Compiler: gcc gcc (GCC) 11.5.0 20240719 (Red Hat 11.5.0-2) Fedora Linux 40 Kernel: 5.15 Compiler: gcc gcc (GCC) 14.2.1 20240912 (Red Hat 14.2.1-3) Red Hat Enterprise Linux 8.10 Kernel: 5.15 Compiler: gcc gcc (GCC) 8.5.0 20210514 (Red Hat 8.5.0-22) Ubuntu 22.04 Kernel: 5.15 Compiler: gcc gcc (Ubuntu 11.4.0-1ubuntu1~22.04) 11.4.0 Ubuntu 20.04 Kernel: 5.15 Compiler: gcc gcc (Ubuntu 9.4.0-1ubuntu1~20.04.2) 9.4.0 Ubuntu 24.04 Kernel: 5.15 Compiler: gcc gcc (Ubuntu 13.3.0-6ubuntu2~24.04) 13.3.0 Windows Server 2022 Kernel: 10.0.20348.2031 Compiler: clang 15.0.7, gcc 14.1.0 (MinGW), and MSVC VS 19.39.33521 To view detailed results, visit: https://lab.dpdk.org/results/dashboard/patchsets/33699/ UNH-IOL DPDK Community Lab To manage your email subscriptions, visit: https://lab.dpdk.org/results/dashboard/preferences/subscriptions/