From mboxrd@z Thu Jan 1 00:00:00 1970 Return-Path: Received: from mails.dpdk.org (mails.dpdk.org [217.70.189.124]) by inbox.dpdk.org (Postfix) with ESMTP id B18D946BD7 for ; Mon, 21 Jul 2025 11:50:52 +0200 (CEST) Received: from mails.dpdk.org (localhost [127.0.0.1]) by mails.dpdk.org (Postfix) with ESMTP id AB9FA4014F; Mon, 21 Jul 2025 11:50:52 +0200 (CEST) Received: from mail-yw1-f228.google.com (mail-yw1-f228.google.com [209.85.128.228]) by mails.dpdk.org (Postfix) with ESMTP id 1C46D4014F for ; Mon, 21 Jul 2025 11:50:51 +0200 (CEST) Received: by mail-yw1-f228.google.com with SMTP id 00721157ae682-7086dcab64bso38548247b3.1 for ; Mon, 21 Jul 2025 02:50:51 -0700 (PDT) DKIM-Signature: v=1; a=rsa-sha256; c=relaxed/relaxed; d=iol.unh.edu; s=unh-iol; t=1753091450; x=1753696250; darn=dpdk.org; h=references:in-reply-to:cc:to:from:subject:message-id:date:from:to :cc:subject:date:message-id:reply-to; bh=ga1er111KVpV9VrVDO2Vcc5oR9nXqomujLuUOyxb5h8=; b=CD7XwNsIgNDSQDBn2GSt+K+MwC2cVDAtblb8x8bzZ6xY646420tzBr2/8HpNhXvsyX PimHeWdcclb3x1m6rEdlz1nX6JtyTUIvLDNe8iqluOF4mPQbzdr7pqib8Etr/wkSusCA JgnPQMDrQbqK+IbyLCx5mg7oCDh1zIDGLiOvY= X-Google-DKIM-Signature: v=1; a=rsa-sha256; c=relaxed/relaxed; d=1e100.net; s=20230601; t=1753091450; x=1753696250; h=references:in-reply-to:cc:to:from:subject:message-id:date :x-gm-message-state:from:to:cc:subject:date:message-id:reply-to; bh=ga1er111KVpV9VrVDO2Vcc5oR9nXqomujLuUOyxb5h8=; b=fa2udKwh9YPUsLzk3p4HNpwI6myRnXzR5jQNRKZ+c2I6IhfpgcWJWxbjL6rFj7atts AOYe//EsyHR/AaBMo02pTNSWb23dVDB3oCMqRTUu8IlPjFDOEvcbzNCjKB6CTWLldzqL c3DIaG++3L5nUirfPq1PX00givOqDV6OE3IW9+PyOLQ2iy4Gx/ocb3bTSSiMpsZKRHus JMjatn1fRSLy0pFtbmcROZUDo/mllgajD7xqiKI2guwB6ndVGQ3un4mhHM+rqo7k2Cmr jp9j+BIjp+CsXdHHGx/fax7tReFGn0GISU6+wk1hPeqOyMPQm2HxqxOoMR+NFgU+8um3 vx4Q== X-Gm-Message-State: AOJu0YzFf26tb+DxSSlIC/HsbgCS0c6zOaUlBnpHHC6jrIqztP/SkrOp p3umUpXdZv2VW2RjuSt6jw+llSE3mCHtUsWM3s6ca22X7Qe20Hqd2YLECxsxMroJ7cAHDt6kQw1 DuSLrskoGKPHAwYl5aAmAwS2iVOW/b56yIbFcl3EzN76N X-Gm-Gg: ASbGncsneylJ2Fp1Ab3ttGOSl+XqQvJh2hTmdRq8KOTWyfWQJRiRXzdvEBKOROVSSqb R39qsyg9Ikn4aCtOifJFpOZ7vlyaYpPq+GsuHBJhVkbY1TKkF5mElDXf0Hqm8QGi34t2etcGXKv aN1Bspgj7SZjRh42tteWobC6o8AxfMsUw1cTAR/8yqyDuG4N1DnglEXeSrAGzq4Ft6gVL4bWypP VxhqLaQ6jkUh2ViU3sENVekdpLFFwQiJCs1c3m3FgOdr5rPND8kw+PPb/ERi6m2OUEw9rGd4KNS ottdEQ9DHLPJUZE+4+Gn+RAArT/bWyg5YfJ1Vsj3hcoEfMqLxPh8dopq/uME9xH+KmH5rbsd X-Google-Smtp-Source: AGHT+IF1E8u1qc87EPxBXu+THwmXBO7jNZG8jctbkDlU2vvFYy++uN9NUWPqkpFj44pFJlS5ol0EDMGTPL02 X-Received: by 2002:a05:690c:dd0:b0:718:3df4:6c05 with SMTP id 00721157ae682-7183df46eafmr247814417b3.29.1753091450383; Mon, 21 Jul 2025 02:50:50 -0700 (PDT) Received: from postal.iol.unh.edu (postal.iol.unh.edu. [132.177.123.84]) by smtp-relay.gmail.com with ESMTPS id 00721157ae682-719532cd54csm3927607b3.30.2025.07.21.02.50.50 (version=TLS1_2 cipher=ECDHE-ECDSA-AES128-GCM-SHA256 bits=128/128); Mon, 21 Jul 2025 02:50:50 -0700 (PDT) X-Relaying-Domain: iol.unh.edu Date: Mon, 21 Jul 2025 02:50:50 -0700 (PDT) Message-ID: <687e0d7a.050a0220.343f49.3b69SMTPIN_ADDED_MISSING@mx.google.com> Received: from [172.21.0.3] (unknown [172.18.0.240]) by postal.iol.unh.edu (Postfix) with ESMTP id 149BF6051830; Mon, 21 Jul 2025 05:50:50 -0400 (EDT) Subject: |SUCCESS| pw155370 [PATCH] net/mlx5: fix crash when secondary querie From: dpdklab@iol.unh.edu To: Test Report Cc: dpdk-test-reports@iol.unh.edu In-Reply-To: <20250721073851.963141-1-14pwcse1224@uetpeshawar.edu.pk> References: <20250721073851.963141-1-14pwcse1224@uetpeshawar.edu.pk> Content-Type: text/plain X-BeenThere: test-report@dpdk.org X-Mailman-Version: 2.1.29 Precedence: list List-Id: automatic DPDK test reports List-Unsubscribe: , List-Archive: List-Post: List-Help: List-Subscribe: , Errors-To: test-report-bounces@dpdk.org Test-Label: iol-abi-testing Test-Status: SUCCESS http://dpdk.org/patch/155370 _Testing PASS_ Submitter: Khadem Ullah <14pwcse1224@uetpeshawar.edu.pk> Date: Monday, July 21 2025 07:38:51 DPDK git baseline: Repo:dpdk Branch: master CommitID:9fe9c0b231c8da5435bfccb1963121b4277f961c 155370 --> testing pass Upstream job id: Generic-DPDK-Compile-ABI#135047 Test environment and result as below: +-------------------------------+----------+ | Environment | abi_test | +===============================+==========+ | CentOS Stream 9 | PASS | +-------------------------------+----------+ | CentOS Stream 10 | PASS | +-------------------------------+----------+ | Debian GNU/Linux 12 | PASS | +-------------------------------+----------+ | Fedora Linux 40 | PASS | +-------------------------------+----------+ | Fedora Linux 41 | PASS | +-------------------------------+----------+ | Red Hat Enterprise Linux 8.10 | PASS | +-------------------------------+----------+ | Red Hat Enterprise Linux 9.5 | PASS | +-------------------------------+----------+ | Ubuntu 22.04 | PASS | +-------------------------------+----------+ | Ubuntu 24.04 | PASS | +-------------------------------+----------+ | openSUSE Leap 15.6 | PASS | +-------------------------------+----------+ CentOS Stream 9 Kernel: 5.15 Compiler: gcc gcc (GCC) 11.5.0 20240719 (Red Hat 11.5.0-7) CentOS Stream 10 Kernel: 5.15 Compiler: gcc gcc (GCC) 14.2.1 20250110 (Red Hat 14.2.1-8) Debian GNU/Linux 12 Kernel: 5.15 Compiler: gcc gcc (Debian 12.2.0-14+deb12u1) 12.2.0 Fedora Linux 40 Kernel: 5.15 Compiler: gcc gcc (GCC) 14.2.1 20240912 (Red Hat 14.2.1-3) Fedora Linux 41 Kernel: 5.15 Compiler: clang gcc (GCC) 14.3.1 20250523 (Red Hat 14.3.1-1) Red Hat Enterprise Linux 8.10 Kernel: 5.15 Compiler: gcc gcc (GCC) 8.5.0 20210514 (Red Hat 8.5.0-22) Red Hat Enterprise Linux 9.5 Kernel: 5.15 Compiler: gcc gcc (GCC) 11.5.0 20240719 (Red Hat 11.5.0-2) Ubuntu 22.04 Kernel: 5.15 Compiler: gcc gcc (Ubuntu 11.4.0-1ubuntu1~22.04) 11.4.0 Ubuntu 24.04 Kernel: 5.15 Compiler: gcc gcc (Ubuntu 13.3.0-6ubuntu2~24.04) 13.3.0 openSUSE Leap 15.6 Kernel: 5.15 Compiler: gcc gcc (SUSE Linux) 7.5.0 To view detailed results, visit: https://lab.dpdk.org/results/dashboard/patchsets/33699/ UNH-IOL DPDK Community Lab To manage your email subscriptions, visit: https://lab.dpdk.org/results/dashboard/preferences/subscriptions/