From mboxrd@z Thu Jan 1 00:00:00 1970 Return-Path: Received: from mails.dpdk.org (mails.dpdk.org [217.70.189.124]) by inbox.dpdk.org (Postfix) with ESMTP id 3A05046BD7 for ; Mon, 21 Jul 2025 13:32:08 +0200 (CEST) Received: from mails.dpdk.org (localhost [127.0.0.1]) by mails.dpdk.org (Postfix) with ESMTP id 1659A4014F; Mon, 21 Jul 2025 13:32:08 +0200 (CEST) Received: from mail-il1-f228.google.com (mail-il1-f228.google.com [209.85.166.228]) by mails.dpdk.org (Postfix) with ESMTP id 882B54014F for ; Mon, 21 Jul 2025 13:32:06 +0200 (CEST) Received: by mail-il1-f228.google.com with SMTP id e9e14a558f8ab-3e2a60aeb26so14676825ab.1 for ; Mon, 21 Jul 2025 04:32:06 -0700 (PDT) DKIM-Signature: v=1; a=rsa-sha256; c=relaxed/relaxed; d=iol.unh.edu; s=unh-iol; t=1753097526; x=1753702326; darn=dpdk.org; h=references:in-reply-to:cc:to:from:subject:message-id:date:from:to :cc:subject:date:message-id:reply-to; bh=h1WpJFwa/332IftsKnpTDQMKTtNXCEzmOD1uYZJvfuo=; b=V/maFC08vLfK7ug+7XBgg3LejwJJbEJV/WplOOqeZRXYTBQAS2raegW3tlM5L2cfFq q21pqDjkk6B7M2hj2GwfG2jUDqcfUpgG2l0SffnU8WQ7m3thY91KVdzui9agHtcAtEQJ K/4DgdbC14/JW6lvaUs0LKfHdFn5Qf4eEjpmM= X-Google-DKIM-Signature: v=1; a=rsa-sha256; c=relaxed/relaxed; d=1e100.net; s=20230601; t=1753097526; x=1753702326; h=references:in-reply-to:cc:to:from:subject:message-id:date :x-gm-message-state:from:to:cc:subject:date:message-id:reply-to; bh=h1WpJFwa/332IftsKnpTDQMKTtNXCEzmOD1uYZJvfuo=; b=shAH4LxvuybkHL4COKKuGxLY4AwtZMZD7b357qQ0R4AdRHTtgVntYfeRkc1E18/QA3 IaQQNz8mSi/vETO7Fi4E1dno6gvN5f3xOYfTijBJTHhFtSGwGfrigf8zzajybUQj9EDj HzK7oN/Cy9l6Wwb13jon4MXWCDyE8+dd4ymrbuVUxxo2W+GmEQA1pBjOee2m7UnSuznq u7R9QOdvloNC4SSkzBGOvI+riE6eBgSyC+8LHi03b/f0kfZg/jTRgGHr7QVxmvu/1ZZQ m3WoIwCfVozO9zHuBXxwkYos4r2RpdNy7LgDz7vFS8/TNI+ssiPPniJF1PSxI6SADOtK TwcQ== X-Gm-Message-State: AOJu0Yz+0iw7C1NNXZleMCi+fDc7N6TOokcDjfohlg+kFtV0a2wmK51N v5hS1rqtsvPQdf3yjqj7CE7AgdF1vhaWXnjy2pHVed8QJwULKSm3kMCLwhAXZrTEHdfSAL/ItrJ 0FkXwUFb5AGLxG4PBEC2j3y6K366cBCcZv2MegiBaMCFDWEzg4Wgdezq2EW5U X-Gm-Gg: ASbGncu/HpgG0t/9r1FTZ0QEdwjuPNhcsdSuxXEJJglWcQsbZ4SRijNzw9yasbiSqys gi4qOmdzFibEXjkuCGGSs6PI2l+b/r24sfQXK6Uk2+FZo/ncVJC96KemelTtIIr7wQc68+LoEGg 6cuXz90SI+vaettC6Uzr+X2cR5X+B07e7titL0ha/dEqL9sZiQNk/Wtj0hQHXSMBWrvRun3TwX0 EQO4eiPZVvYBaT1WqWEgk4ceFGGW51HYc5ZVqplFMccZ/Lt16p4U1NiqcevL+4TSOeWsP9YyVmO QLs7ENMVyiWhJoWi+77okOthgRhwB2+DT+3pcCvo8T8ZJldw5w== X-Google-Smtp-Source: AGHT+IEie9ack+W/el9szyx/vxq6Bz29HxZEOPzNj9DTuP/UzhkRzPCWsTbGgu683ST2q5JweywfeICl3d27 X-Received: by 2002:a05:6e02:1d9d:b0:3e2:8ddd:b406 with SMTP id e9e14a558f8ab-3e28dddb51amr159013955ab.17.1753097525751; Mon, 21 Jul 2025 04:32:05 -0700 (PDT) Received: from postal.iol.unh.edu (postal.iol.unh.edu. [2606:4100:3880:1234::84]) by smtp-relay.gmail.com with ESMTPS id e9e14a558f8ab-3e2982669f4sm4942075ab.29.2025.07.21.04.32.05 (version=TLS1_2 cipher=ECDHE-ECDSA-AES128-GCM-SHA256 bits=128/128); Mon, 21 Jul 2025 04:32:05 -0700 (PDT) X-Relaying-Domain: iol.unh.edu Date: Mon, 21 Jul 2025 04:32:05 -0700 (PDT) Message-ID: <687e2535.050a0220.1e3a8f.8a3cSMTPIN_ADDED_MISSING@mx.google.com> Received: from [172.21.0.2] (unknown [172.18.0.240]) by postal.iol.unh.edu (Postfix) with ESMTP id 4F5806051830; Mon, 21 Jul 2025 07:32:05 -0400 (EDT) Subject: |SUCCESS| pw155371 [PATCH] [v3] mailmap: add new email to DPDK From: dpdklab@iol.unh.edu To: Test Report Cc: dpdk-test-reports@iol.unh.edu In-Reply-To: <20250719151750.48539-1-pravin.pathak.dev@gmail.com> References: <20250719151750.48539-1-pravin.pathak.dev@gmail.com> Content-Type: text/plain X-BeenThere: test-report@dpdk.org X-Mailman-Version: 2.1.29 Precedence: list List-Id: automatic DPDK test reports List-Unsubscribe: , List-Archive: List-Post: List-Help: List-Subscribe: , Errors-To: test-report-bounces@dpdk.org Test-Label: iol-abi-testing Test-Status: SUCCESS http://dpdk.org/patch/155371 _Testing PASS_ Submitter: Pravin Pathak Date: Saturday, July 19 2025 15:17:50 DPDK git baseline: Repo:dpdk Branch: master CommitID:39f537efd8bc8f86c8a4e667328ab3b4c6cf4b2d 155371 --> testing pass Upstream job id: Generic-DPDK-Compile-ABI#135058 Test environment and result as below: +-------------------------------+----------+ | Environment | abi_test | +===============================+==========+ | Debian GNU/Linux 12 | PASS | +-------------------------------+----------+ | CentOS Stream 10 | PASS | +-------------------------------+----------+ | Fedora Linux 40 | PASS | +-------------------------------+----------+ | Fedora Linux 41 | PASS | +-------------------------------+----------+ | Red Hat Enterprise Linux 8.10 | PASS | +-------------------------------+----------+ | openSUSE Leap 15.6 | PASS | +-------------------------------+----------+ | Red Hat Enterprise Linux 9.5 | PASS | +-------------------------------+----------+ | Ubuntu 22.04 | PASS | +-------------------------------+----------+ | Ubuntu 24.04 | PASS | +-------------------------------+----------+ | CentOS Stream 9 | PASS | +-------------------------------+----------+ Debian GNU/Linux 12 Kernel: 5.15 Compiler: gcc gcc (Debian 12.2.0-14+deb12u1) 12.2.0 CentOS Stream 10 Kernel: 5.15 Compiler: gcc gcc (GCC) 14.2.1 20250110 (Red Hat 14.2.1-8) Fedora Linux 40 Kernel: 5.15 Compiler: clang gcc (GCC) 14.2.1 20240912 (Red Hat 14.2.1-3) Fedora Linux 41 Kernel: 5.15 Compiler: gcc gcc (GCC) 14.3.1 20250523 (Red Hat 14.3.1-1) Red Hat Enterprise Linux 8.10 Kernel: 5.15 Compiler: gcc gcc (GCC) 8.5.0 20210514 (Red Hat 8.5.0-22) openSUSE Leap 15.6 Kernel: 5.15 Compiler: gcc gcc (SUSE Linux) 7.5.0 Red Hat Enterprise Linux 9.5 Kernel: 5.15 Compiler: gcc gcc (GCC) 11.5.0 20240719 (Red Hat 11.5.0-2) Ubuntu 22.04 Kernel: 5.15 Compiler: gcc gcc (Ubuntu 11.4.0-1ubuntu1~22.04) 11.4.0 Ubuntu 24.04 Kernel: 5.15 Compiler: gcc gcc (Ubuntu 13.3.0-6ubuntu2~24.04) 13.3.0 CentOS Stream 9 Kernel: 5.15 Compiler: gcc gcc (GCC) 11.5.0 20240719 (Red Hat 11.5.0-7) To view detailed results, visit: https://lab.dpdk.org/results/dashboard/patchsets/33700/ UNH-IOL DPDK Community Lab To manage your email subscriptions, visit: https://lab.dpdk.org/results/dashboard/preferences/subscriptions/