From mboxrd@z Thu Jan 1 00:00:00 1970 Return-Path: Received: from mails.dpdk.org (mails.dpdk.org [217.70.189.124]) by inbox.dpdk.org (Postfix) with ESMTP id 38F2646BD7 for ; Mon, 21 Jul 2025 13:32:41 +0200 (CEST) Received: from mails.dpdk.org (localhost [127.0.0.1]) by mails.dpdk.org (Postfix) with ESMTP id 34B9D4014F; Mon, 21 Jul 2025 13:32:41 +0200 (CEST) Received: from mail-io1-f98.google.com (mail-io1-f98.google.com [209.85.166.98]) by mails.dpdk.org (Postfix) with ESMTP id 35AA14014F for ; Mon, 21 Jul 2025 13:32:39 +0200 (CEST) Received: by mail-io1-f98.google.com with SMTP id ca18e2360f4ac-87c04c907eeso204759639f.0 for ; Mon, 21 Jul 2025 04:32:39 -0700 (PDT) DKIM-Signature: v=1; a=rsa-sha256; c=relaxed/relaxed; d=iol.unh.edu; s=unh-iol; t=1753097558; x=1753702358; darn=dpdk.org; h=references:in-reply-to:cc:to:from:subject:message-id:date:from:to :cc:subject:date:message-id:reply-to; bh=1eeFcptbxIFncoMHpAVSM2EDy2qwNjZtv+Kbc1/VY1w=; b=UZNQ96/RpLY3rYQJu/xh3TCJujusCaGJJ2Em9nNk9XjQy8uD17p6n+2EAC9/S4W9/3 IJFsbo0H6y58X5KbIafmGggnipsUDxu7TEQhsonuRLOPFXH1ZTVx/ED0aNJ4CvsrVUa9 sEAomR35CMW+qmvSNcgasFczuyrB4cqcxKO7Q= X-Google-DKIM-Signature: v=1; a=rsa-sha256; c=relaxed/relaxed; d=1e100.net; s=20230601; t=1753097558; x=1753702358; h=references:in-reply-to:cc:to:from:subject:message-id:date :x-gm-message-state:from:to:cc:subject:date:message-id:reply-to; bh=1eeFcptbxIFncoMHpAVSM2EDy2qwNjZtv+Kbc1/VY1w=; b=GmmgmgtICECo9ZfeevpCTh66Qp0qTjllOa+cKIvaDqoCO0D1636zHce7Z+BAyX9ylV r//iml9vqufqUqKx9XKg36o073QPMvx6yMVrlYnJNOSUPEZvs/PeTOjXjkOG7BCCYaXL /1HsR7sVRabq6CKiN8tmUnYhaMp3XdkdB2/bcj53nunFJdW9Ly4M/kq621+h34hzoL/D CVmXQRYLKscHEaqMzYle76HVWw7bDx6pr4O18oxO75uITUZ9HjLcZmzTMF7X2bcJThxf IjnGsW3dROC2hrk2X0klKgseg0/P1yd6KwQINn34q8rOKrbe1Ifbd7y4Rn4EgTW7z4ji qsyw== X-Gm-Message-State: AOJu0YzOYPOc4KbW7w6Hcr8/FGsPjEP4b2+bR24tF34iHqHhyFaZDxjQ 8CX7AlY9gcq2KnSFSeoITNdYzLRdhLctiBpoQ1A86hnaZM8OzFG8dYy7HUM8hTA/nU/CNWibguH reLNA5L7PVh4zMc4Hk+8Et2/0t3KkpM7Gkx9DVfG024bkDqpeqnY+K8M0Xsz6 X-Gm-Gg: ASbGncu4m1u3ma9a25GoAfC9VJiqxwpcpmaaip2xFJpG+hczeZguwNJdpsgK1ff0UaV NdEO27nHDxdXXrC0iBqKfa0JW/UfwCkq/ys/bYNmxa/GNQlXcQ0m8BZ5KHnAUKLsiN0WixMK/G5 7yhU1sBYNX0PAbGuIM/PzzPLN6cUDq5sCiTNfRSxfsSrmnZlPH2rtFeowzutD7N34Bkn+opucwQ tmuAuMZS8Op/8jcMk05GlZdJ91fX8wIuo8CALVMR7Kgee01JoxBEyJFSYTbK4lLaHcVGbOYbVTm p8ZR/Y1bYhKl+8uQTkol2dwB7X5gocMhGuRgc0y9B2ZY3geg7A== X-Google-Smtp-Source: AGHT+IE7vpuUeJd/9XyV9SwGShmkzpPi1zY4hrgdqkfF1E0bseY6LDqUudptYC1ml4pe7uSUW7GiXOVtgnYx X-Received: by 2002:a05:6e02:156a:b0:3e2:96ed:fee0 with SMTP id e9e14a558f8ab-3e296ee035amr139335985ab.15.1753097558514; Mon, 21 Jul 2025 04:32:38 -0700 (PDT) Received: from postal.iol.unh.edu (postal.iol.unh.edu. [2606:4100:3880:1234::84]) by smtp-relay.gmail.com with ESMTPS id e9e14a558f8ab-3e298354371sm4924165ab.31.2025.07.21.04.32.38 (version=TLS1_2 cipher=ECDHE-ECDSA-AES128-GCM-SHA256 bits=128/128); Mon, 21 Jul 2025 04:32:38 -0700 (PDT) X-Relaying-Domain: iol.unh.edu Date: Mon, 21 Jul 2025 04:32:38 -0700 (PDT) Message-ID: <687e2556.050a0220.132eea.8999SMTPIN_ADDED_MISSING@mx.google.com> Received: from [172.21.0.3] (unknown [172.18.0.240]) by postal.iol.unh.edu (Postfix) with ESMTP id 272D06051830; Mon, 21 Jul 2025 07:32:38 -0400 (EDT) Subject: |SUCCESS| pw155370 [PATCH] net/mlx5: fix crash when secondary querie From: dpdklab@iol.unh.edu To: Test Report Cc: dpdk-test-reports@iol.unh.edu In-Reply-To: <20250721073851.963141-1-14pwcse1224@uetpeshawar.edu.pk> References: <20250721073851.963141-1-14pwcse1224@uetpeshawar.edu.pk> Content-Type: text/plain X-BeenThere: test-report@dpdk.org X-Mailman-Version: 2.1.29 Precedence: list List-Id: automatic DPDK test reports List-Unsubscribe: , List-Archive: List-Post: List-Help: List-Subscribe: , Errors-To: test-report-bounces@dpdk.org Test-Label: iol-compile-amd64-testing Test-Status: SUCCESS http://dpdk.org/patch/155370 _Testing PASS_ Submitter: Khadem Ullah <14pwcse1224@uetpeshawar.edu.pk> Date: Monday, July 21 2025 07:38:51 DPDK git baseline: Repo:dpdk Branch: master CommitID:9fe9c0b231c8da5435bfccb1963121b4277f961c 155370 --> testing pass Upstream job id: Generic-DPDK-Compile-Meson#410398 Test environment and result as below: +-------------------------------+--------------------+-------------------+------------------+-------------------------+-------------------+----------------------+ | Environment | dpdk_meson_compile | dpdk_compile_spdk | dpdk_compile_ovs | dpdk_llvm_clang_compile | dpdk_msvc_compile | dpdk_mingw64_compile | +===============================+====================+===================+==================+=========================+===================+======================+ | CentOS Stream 9 | PASS | PASS | SKIPPED | SKIPPED | SKIPPED | SKIPPED | +-------------------------------+--------------------+-------------------+------------------+-------------------------+-------------------+----------------------+ | Fedora Linux 40 | PASS | PASS | SKIPPED | SKIPPED | SKIPPED | SKIPPED | +-------------------------------+--------------------+-------------------+------------------+-------------------------+-------------------+----------------------+ | Debian GNU/Linux 12 | PASS | PASS | SKIPPED | SKIPPED | SKIPPED | SKIPPED | +-------------------------------+--------------------+-------------------+------------------+-------------------------+-------------------+----------------------+ | Fedora Linux 41 | PASS | PASS | PASS | SKIPPED | SKIPPED | SKIPPED | +-------------------------------+--------------------+-------------------+------------------+-------------------------+-------------------+----------------------+ | openSUSE Leap 15.6 | PASS | SKIPPED | SKIPPED | SKIPPED | SKIPPED | SKIPPED | +-------------------------------+--------------------+-------------------+------------------+-------------------------+-------------------+----------------------+ | Red Hat Enterprise Linux 8.10 | PASS | SKIPPED | SKIPPED | SKIPPED | SKIPPED | SKIPPED | +-------------------------------+--------------------+-------------------+------------------+-------------------------+-------------------+----------------------+ | Red Hat Enterprise Linux 9.5 | PASS | SKIPPED | SKIPPED | SKIPPED | SKIPPED | SKIPPED | +-------------------------------+--------------------+-------------------+------------------+-------------------------+-------------------+----------------------+ | Ubuntu 20.04 | PASS | SKIPPED | SKIPPED | SKIPPED | SKIPPED | SKIPPED | +-------------------------------+--------------------+-------------------+------------------+-------------------------+-------------------+----------------------+ | Ubuntu 22.04 | PASS | PASS | SKIPPED | SKIPPED | SKIPPED | SKIPPED | +-------------------------------+--------------------+-------------------+------------------+-------------------------+-------------------+----------------------+ | Ubuntu 24.04 | PASS | PASS | PASS | SKIPPED | SKIPPED | SKIPPED | +-------------------------------+--------------------+-------------------+------------------+-------------------------+-------------------+----------------------+ | Alpine Linux 3.22.0 | PASS | SKIPPED | SKIPPED | SKIPPED | SKIPPED | SKIPPED | +-------------------------------+--------------------+-------------------+------------------+-------------------------+-------------------+----------------------+ | FreeBSD 14.2 | PASS | SKIPPED | SKIPPED | SKIPPED | SKIPPED | SKIPPED | +-------------------------------+--------------------+-------------------+------------------+-------------------------+-------------------+----------------------+ | CentOS Stream 10 | PASS | SKIPPED | SKIPPED | SKIPPED | SKIPPED | SKIPPED | +-------------------------------+--------------------+-------------------+------------------+-------------------------+-------------------+----------------------+ | Windows Server 2022 | SKIPPED | SKIPPED | SKIPPED | PASS | PASS | PASS | +-------------------------------+--------------------+-------------------+------------------+-------------------------+-------------------+----------------------+ CentOS Stream 9 Kernel: 5.15 Compiler: gcc gcc (GCC) 11.5.0 20240719 (Red Hat 11.5.0-7) Fedora Linux 40 Kernel: 5.15 Compiler: gcc gcc (GCC) 14.2.1 20240912 (Red Hat 14.2.1-3) Debian GNU/Linux 12 Kernel: 5.15 Compiler: gcc gcc (Debian 12.2.0-14+deb12u1) 12.2.0 Fedora Linux 41 Kernel: 5.15 Compiler: clang gcc (GCC) 14.3.1 20250523 (Red Hat 14.3.1-1) openSUSE Leap 15.6 Kernel: 5.15 Compiler: gcc gcc (SUSE Linux) 7.5.0 Red Hat Enterprise Linux 8.10 Kernel: 5.15 Compiler: gcc gcc (GCC) 8.5.0 20210514 (Red Hat 8.5.0-22) Red Hat Enterprise Linux 9.5 Kernel: 5.15 Compiler: gcc gcc (GCC) 11.5.0 20240719 (Red Hat 11.5.0-2) Ubuntu 20.04 Kernel: 5.15 Compiler: gcc gcc (Ubuntu 9.4.0-1ubuntu1~20.04.2) 9.4.0 Ubuntu 22.04 Kernel: 5.15 Compiler: gcc gcc (Ubuntu 11.4.0-1ubuntu1~22.04) 11.4.0 Ubuntu 24.04 Kernel: 5.15 Compiler: gcc gcc (Ubuntu 13.3.0-6ubuntu2~24.04) 13.3.0 Alpine Linux 3.22.0 Kernel: 5.15 Compiler: gcc gcc (Alpine 14.2.0) 14.2.0 FreeBSD 14.2 Kernel: 14.2-RELEASE Compiler: clang 18.1.6 CentOS Stream 10 Kernel: 5.15 Compiler: gcc gcc (GCC) 14.2.1 20250110 (Red Hat 14.2.1-8) Windows Server 2022 Kernel: 10.0.20348.2031 Compiler: clang 15.0.7, gcc 14.1.0 (MinGW), and MSVC VS 19.39.33521 To view detailed results, visit: https://lab.dpdk.org/results/dashboard/patchsets/33699/ UNH-IOL DPDK Community Lab To manage your email subscriptions, visit: https://lab.dpdk.org/results/dashboard/preferences/subscriptions/