From mboxrd@z Thu Jan 1 00:00:00 1970 Return-Path: Received: from mails.dpdk.org (mails.dpdk.org [217.70.189.124]) by inbox.dpdk.org (Postfix) with ESMTP id 471BF46BD7 for ; Mon, 21 Jul 2025 13:32:44 +0200 (CEST) Received: from mails.dpdk.org (localhost [127.0.0.1]) by mails.dpdk.org (Postfix) with ESMTP id 438554014F; Mon, 21 Jul 2025 13:32:44 +0200 (CEST) Received: from mail-oa1-f97.google.com (mail-oa1-f97.google.com [209.85.160.97]) by mails.dpdk.org (Postfix) with ESMTP id 921774014F for ; Mon, 21 Jul 2025 13:32:43 +0200 (CEST) Received: by mail-oa1-f97.google.com with SMTP id 586e51a60fabf-2ffa8e58654so2747938fac.3 for ; Mon, 21 Jul 2025 04:32:43 -0700 (PDT) DKIM-Signature: v=1; a=rsa-sha256; c=relaxed/relaxed; d=iol.unh.edu; s=unh-iol; t=1753097563; x=1753702363; darn=dpdk.org; h=references:in-reply-to:cc:to:from:subject:message-id:date:from:to :cc:subject:date:message-id:reply-to; bh=Nug4B4Lo4Mgk/gLfKBwu7+KhUjGBoHVGTk4PkbDkw2c=; b=TZEIEALzJumla51gLh1cxeqyfKr3zzGM5+ThoJ7xAno0Z3elGs0S/RAPqp4rEtcGs5 A7FB6w2sE3etPqzBkNz5LF8Px/oeXWdlx12Xlm7oDC8PVp6hfHJaRAmIiYUcFeQAtVfr yN9ou51xDdPIStDClBg8EvewbIdslKgGA+obk= X-Google-DKIM-Signature: v=1; a=rsa-sha256; c=relaxed/relaxed; d=1e100.net; s=20230601; t=1753097563; x=1753702363; h=references:in-reply-to:cc:to:from:subject:message-id:date :x-gm-message-state:from:to:cc:subject:date:message-id:reply-to; bh=Nug4B4Lo4Mgk/gLfKBwu7+KhUjGBoHVGTk4PkbDkw2c=; b=HfkGlgKv0y/31s5Aj9VFuiO4xeoTHMzTsVaZRrIHm/t8537FM/o7qR4A+hpixSpJcD 6smvhiKUMKmU3a60U/LXPfKWPHwt1SF7iSRX8rGN5GqDanh+CBADQWj+o9N1R0cjtVOd /f69xkK8NhmivpqSD0ap8+6Wx6pKhV8C/SdOqHv711U9WW8QcITzXV6tDzKdPbBVy76q xstiFye17Nr2PzvhYHB8BmjbeKA/AVVyQa2oH9cHJAfAqdJuxJaxsf13qdagf0LsBK9i y7lZp2V7KlxKOITjsiP0ve5vhHUwvZ1oPaLThwmFaSg0+lqIxQ1uCBuPFbJJXNBkkvBa 1VYg== X-Gm-Message-State: AOJu0YxofR5DvX3jNrOgvYD/VyLuqnx9PsZhrczjvCM/SyOUu2HKSXp+ 7TwUrfjkaVSmFme8Eox5+OiXMtyQdUtrSnIDUgEYGkUuW1jKFCv9CcGg4FNtxrLAEaAKrw/YE2r oTBjMQEvgmzpY7ERm4l2IaFNt6rqiOhawUViE/guwUDFlWEA1oS+y99TQRVZA X-Gm-Gg: ASbGnctj+g3mW+0OKKrrovsl49XmJYMOts0B9zN2XPas5K3XS7vEQk65nkjI9hVrD8l btMTwJOBeIDUAzyd2O3NIRf7UAj1TDrtJ0wsxvhnWD0JXMTaFiQK2JGNMuJYHNE2gZdIIgtwry+ DG8P14D5Qs6JtkV0IZzW3rylXUOU4zUKeKUc4skbOe7fIN7h75vI5T/vlk3tWTFc2cWFCfrGAK7 y4eDxPOFa5TOEqL2zgwNBe6JVc14xNGaKKCxl+dv5mKpJzQlM9Yb57p2odcUqx9OcfZctVOJUTA 9CyuX543j2/d7vceEli1ADKytPeLravq91FPHB550hBv5MHaKw== X-Google-Smtp-Source: AGHT+IGV2Jcd3Y55UWNRWojWdPZXmjFEPYDkHuqmAcHQkMOHmK6kfLRrpOXWLRM9XxdDYMBaJX4ZfIgVa15k X-Received: by 2002:a05:6871:7382:b0:2ff:a6b4:2bd2 with SMTP id 586e51a60fabf-2ffcd7d1fa5mr12273660fac.0.1753097562696; Mon, 21 Jul 2025 04:32:42 -0700 (PDT) Received: from postal.iol.unh.edu (postal.iol.unh.edu. [2606:4100:3880:1234::84]) by smtp-relay.gmail.com with ESMTPS id 586e51a60fabf-30105f10e1esm609753fac.17.2025.07.21.04.32.42 (version=TLS1_2 cipher=ECDHE-ECDSA-AES128-GCM-SHA256 bits=128/128); Mon, 21 Jul 2025 04:32:42 -0700 (PDT) X-Relaying-Domain: iol.unh.edu Date: Mon, 21 Jul 2025 04:32:42 -0700 (PDT) Message-ID: <687e255a.050a0220.15ee6f.e64eSMTPIN_ADDED_MISSING@mx.google.com> Received: from [172.21.0.2] (unknown [172.18.0.240]) by postal.iol.unh.edu (Postfix) with ESMTP id 3E0466051830; Mon, 21 Jul 2025 07:32:42 -0400 (EDT) Subject: |SUCCESS| pw155371 [PATCH] [v3] mailmap: add new email to DPDK From: dpdklab@iol.unh.edu To: Test Report Cc: dpdk-test-reports@iol.unh.edu In-Reply-To: <20250719151750.48539-1-pravin.pathak.dev@gmail.com> References: <20250719151750.48539-1-pravin.pathak.dev@gmail.com> Content-Type: text/plain X-BeenThere: test-report@dpdk.org X-Mailman-Version: 2.1.29 Precedence: list List-Id: automatic DPDK test reports List-Unsubscribe: , List-Archive: List-Post: List-Help: List-Subscribe: , Errors-To: test-report-bounces@dpdk.org Test-Label: iol-abi-testing Test-Status: SUCCESS http://dpdk.org/patch/155371 _Testing PASS_ Submitter: Pravin Pathak Date: Saturday, July 19 2025 15:17:50 DPDK git baseline: Repo:dpdk Branch: master CommitID:39f537efd8bc8f86c8a4e667328ab3b4c6cf4b2d 155371 --> testing pass Upstream job id: Generic-DPDK-Compile-ABI#135056 Test environment and result as below: +-------------------------------+----------+ | Environment | abi_test | +===============================+==========+ | Debian GNU/Linux 12 | PASS | +-------------------------------+----------+ | CentOS Stream 10 | PASS | +-------------------------------+----------+ | Fedora Linux 40 | PASS | +-------------------------------+----------+ | Fedora Linux 41 | PASS | +-------------------------------+----------+ | Red Hat Enterprise Linux 8.10 | PASS | +-------------------------------+----------+ | openSUSE Leap 15.6 | PASS | +-------------------------------+----------+ | Red Hat Enterprise Linux 9.5 | PASS | +-------------------------------+----------+ | Ubuntu 22.04 | PASS | +-------------------------------+----------+ | Ubuntu 24.04 | PASS | +-------------------------------+----------+ | CentOS Stream 9 | PASS | +-------------------------------+----------+ Debian GNU/Linux 12 Kernel: 5.15 Compiler: gcc gcc (Debian 12.2.0-14+deb12u1) 12.2.0 CentOS Stream 10 Kernel: 5.15 Compiler: gcc gcc (GCC) 14.2.1 20250110 (Red Hat 14.2.1-8) Fedora Linux 40 Kernel: 5.15 Compiler: clang gcc (GCC) 14.2.1 20240912 (Red Hat 14.2.1-3) Fedora Linux 41 Kernel: 5.15 Compiler: gcc gcc (GCC) 14.3.1 20250523 (Red Hat 14.3.1-1) Red Hat Enterprise Linux 8.10 Kernel: 5.15 Compiler: gcc gcc (GCC) 8.5.0 20210514 (Red Hat 8.5.0-22) openSUSE Leap 15.6 Kernel: 5.15 Compiler: gcc gcc (SUSE Linux) 7.5.0 Red Hat Enterprise Linux 9.5 Kernel: 5.15 Compiler: gcc gcc (GCC) 11.5.0 20240719 (Red Hat 11.5.0-2) Ubuntu 22.04 Kernel: 5.15 Compiler: gcc gcc (Ubuntu 11.4.0-1ubuntu1~22.04) 11.4.0 Ubuntu 24.04 Kernel: 5.15 Compiler: gcc gcc (Ubuntu 13.3.0-6ubuntu2~24.04) 13.3.0 CentOS Stream 9 Kernel: 5.15 Compiler: gcc gcc (GCC) 11.5.0 20240719 (Red Hat 11.5.0-7) To view detailed results, visit: https://lab.dpdk.org/results/dashboard/patchsets/33700/ UNH-IOL DPDK Community Lab To manage your email subscriptions, visit: https://lab.dpdk.org/results/dashboard/preferences/subscriptions/