From mboxrd@z Thu Jan 1 00:00:00 1970 Return-Path: Received: from mails.dpdk.org (mails.dpdk.org [217.70.189.124]) by inbox.dpdk.org (Postfix) with ESMTP id 5452D46BD7 for ; Mon, 21 Jul 2025 13:32:55 +0200 (CEST) Received: from mails.dpdk.org (localhost [127.0.0.1]) by mails.dpdk.org (Postfix) with ESMTP id 504B54014F; Mon, 21 Jul 2025 13:32:55 +0200 (CEST) Received: from mail-ua1-f97.google.com (mail-ua1-f97.google.com [209.85.222.97]) by mails.dpdk.org (Postfix) with ESMTP id C92544014F for ; Mon, 21 Jul 2025 13:32:54 +0200 (CEST) Received: by mail-ua1-f97.google.com with SMTP id a1e0cc1a2514c-87f234ba1abso2798592241.1 for ; Mon, 21 Jul 2025 04:32:54 -0700 (PDT) DKIM-Signature: v=1; a=rsa-sha256; c=relaxed/relaxed; d=iol.unh.edu; s=unh-iol; t=1753097574; x=1753702374; darn=dpdk.org; h=references:in-reply-to:cc:to:from:subject:message-id:date:from:to :cc:subject:date:message-id:reply-to; bh=/w1OmtI70A8ww+zGMbqRvXPjJcWSddlTY5H/6Xc+Xlo=; b=MSeF2om6MdaKbgXlyNObsB9+lolzk8S/rFNG5Y/4YOS8b7NkF570o7/3Tr4yHsMr0B 62C5XJw0IcOF+9sfp7fid3S5aOFPxLZHwNvrfJVEfTrAUWaF4+cv9/p9deY/hm2SGOIa T7TjR1pAuC6OMA4AAeIS7opv+rVEqCjM3u2TI= X-Google-DKIM-Signature: v=1; a=rsa-sha256; c=relaxed/relaxed; d=1e100.net; s=20230601; t=1753097574; x=1753702374; h=references:in-reply-to:cc:to:from:subject:message-id:date :x-gm-message-state:from:to:cc:subject:date:message-id:reply-to; bh=/w1OmtI70A8ww+zGMbqRvXPjJcWSddlTY5H/6Xc+Xlo=; b=jTOcM14Bf1szYqzbvojA9wtdibpsyvqceUoHIezgi5LhNWem0HC7s9Ri+1l8aPwA58 jOgQ0m4vfsGbde2hOhYXr39c53NhXypCKBVyfv19pOq8W+8bhyFS1zN+080l/Ol0Cfbh sS8oU7ZzSuFiwnVtqy2ORUCQhvtZwCEJDBUwZxxjzTqI78fHBTuKMzxkVlynLVo2Jhd1 pAcS1OUT1CyCEUhnyUmDY2EQ5aJIEKGzjJLZ97ab6vpJc2OdszXXL/5o3ntSAbQP9Kpd oOzHPXeMRLiciq4SjBLrtiUccoj/AY1dx1RhUISgQkKo2Dqs2Xj8utfDiSlSknE1gnOM fV3g== X-Gm-Message-State: AOJu0YwagmsgMEbX/9mo5OQGAhLAxoZACf4wxB/3t6fpUSzv3LrWDoKM xKbbat49BYCJuozfPRBaWtxBT6SmQ3TJMufSPm2AlFuj9mfIMIksWmWAdov+u1xFOFvudxmesqo 2h8vkT4YUd76AI+r1GpoZimNAbkORljJWCSyhzfprH7EO X-Gm-Gg: ASbGncvnVpAaHvZdi7ziqxzSvSpzeKPIOwAKLeXm1d0kp3XYsgC4pIDWnMGKJ5UFiCF xgOetO7lbEdAWF3ybyA+RBFYzo3/ycQoJR/9SjQ8En3VzGNEgNfIUhHrbdqy+Zjpbgs1kqLS/Kz D2ugld9mvaMj1QRrlVSTUFh34c8ZoClSWUvC/J//TcYs9JtPoT3pid1tD53ntdAdL0p029CVDW9 Gr8lLU6e0+J61qgE4SGGvRi6GlvMTDdIqaVePVwznFBDZ0iT6llDMqmDcAsr0yC0+FfUEvD5Ig0 TLnfY8x0iXAmcCnaHnztC7VYAaYE4C2kxGfj4BA4VKqovzhXjwYYTCIUBKxD5nZd0ro391CO X-Google-Smtp-Source: AGHT+IHbSQwAh6h40/trTjg3TS3foUTTf+FwrV+vEpjiybw8gHgWtBXr9sSZQHJX44ZhmYWqcwSzlKlsljiG X-Received: by 2002:a05:6122:2209:b0:531:2afc:463f with SMTP id 71dfb90a1353d-5373fbdcd84mr9134113e0c.6.1753097574048; Mon, 21 Jul 2025 04:32:54 -0700 (PDT) Received: from postal.iol.unh.edu (postal.iol.unh.edu. [132.177.123.84]) by smtp-relay.gmail.com with ESMTPS id 71dfb90a1353d-53764d8533esm378780e0c.4.2025.07.21.04.32.53 (version=TLS1_2 cipher=ECDHE-ECDSA-AES128-GCM-SHA256 bits=128/128); Mon, 21 Jul 2025 04:32:54 -0700 (PDT) X-Relaying-Domain: iol.unh.edu Date: Mon, 21 Jul 2025 04:32:54 -0700 (PDT) Message-ID: <687e2566.050a0220.cdf53.229aSMTPIN_ADDED_MISSING@mx.google.com> Received: from [172.21.0.5] (unknown [172.18.0.240]) by postal.iol.unh.edu (Postfix) with ESMTP id B755B6051830; Mon, 21 Jul 2025 07:32:53 -0400 (EDT) Subject: |SUCCESS| pw155370 [PATCH] net/mlx5: fix crash when secondary querie From: dpdklab@iol.unh.edu To: Test Report Cc: dpdk-test-reports@iol.unh.edu In-Reply-To: <20250721073851.963141-1-14pwcse1224@uetpeshawar.edu.pk> References: <20250721073851.963141-1-14pwcse1224@uetpeshawar.edu.pk> Content-Type: text/plain X-BeenThere: test-report@dpdk.org X-Mailman-Version: 2.1.29 Precedence: list List-Id: automatic DPDK test reports List-Unsubscribe: , List-Archive: List-Post: List-Help: List-Subscribe: , Errors-To: test-report-bounces@dpdk.org Test-Label: iol-compile-amd64-testing Test-Status: SUCCESS http://dpdk.org/patch/155370 _Testing PASS_ Submitter: Khadem Ullah <14pwcse1224@uetpeshawar.edu.pk> Date: Monday, July 21 2025 07:38:51 DPDK git baseline: Repo:dpdk Branch: master CommitID:9fe9c0b231c8da5435bfccb1963121b4277f961c 155370 --> testing pass Upstream job id: Generic-DPDK-Compile-Meson#410396 Test environment and result as below: +-------------------------------+--------------------+-------------------+------------------+-------------------------+-------------------+----------------------+ | Environment | dpdk_meson_compile | dpdk_compile_spdk | dpdk_compile_ovs | dpdk_llvm_clang_compile | dpdk_msvc_compile | dpdk_mingw64_compile | +===============================+====================+===================+==================+=========================+===================+======================+ | CentOS Stream 9 | PASS | PASS | SKIPPED | SKIPPED | SKIPPED | SKIPPED | +-------------------------------+--------------------+-------------------+------------------+-------------------------+-------------------+----------------------+ | Fedora Linux 40 | PASS | PASS | SKIPPED | SKIPPED | SKIPPED | SKIPPED | +-------------------------------+--------------------+-------------------+------------------+-------------------------+-------------------+----------------------+ | Debian GNU/Linux 12 | PASS | PASS | SKIPPED | SKIPPED | SKIPPED | SKIPPED | +-------------------------------+--------------------+-------------------+------------------+-------------------------+-------------------+----------------------+ | Fedora Linux 41 | PASS | PASS | PASS | SKIPPED | SKIPPED | SKIPPED | +-------------------------------+--------------------+-------------------+------------------+-------------------------+-------------------+----------------------+ | openSUSE Leap 15.6 | PASS | SKIPPED | SKIPPED | SKIPPED | SKIPPED | SKIPPED | +-------------------------------+--------------------+-------------------+------------------+-------------------------+-------------------+----------------------+ | Red Hat Enterprise Linux 8.10 | PASS | SKIPPED | SKIPPED | SKIPPED | SKIPPED | SKIPPED | +-------------------------------+--------------------+-------------------+------------------+-------------------------+-------------------+----------------------+ | Red Hat Enterprise Linux 9.5 | PASS | SKIPPED | SKIPPED | SKIPPED | SKIPPED | SKIPPED | +-------------------------------+--------------------+-------------------+------------------+-------------------------+-------------------+----------------------+ | Ubuntu 20.04 | PASS | SKIPPED | SKIPPED | SKIPPED | SKIPPED | SKIPPED | +-------------------------------+--------------------+-------------------+------------------+-------------------------+-------------------+----------------------+ | Ubuntu 22.04 | PASS | PASS | SKIPPED | SKIPPED | SKIPPED | SKIPPED | +-------------------------------+--------------------+-------------------+------------------+-------------------------+-------------------+----------------------+ | Ubuntu 24.04 | PASS | PASS | PASS | SKIPPED | SKIPPED | SKIPPED | +-------------------------------+--------------------+-------------------+------------------+-------------------------+-------------------+----------------------+ | Alpine Linux 3.22.0 | PASS | SKIPPED | SKIPPED | SKIPPED | SKIPPED | SKIPPED | +-------------------------------+--------------------+-------------------+------------------+-------------------------+-------------------+----------------------+ | FreeBSD 14.2 | PASS | SKIPPED | SKIPPED | SKIPPED | SKIPPED | SKIPPED | +-------------------------------+--------------------+-------------------+------------------+-------------------------+-------------------+----------------------+ | CentOS Stream 10 | PASS | SKIPPED | SKIPPED | SKIPPED | SKIPPED | SKIPPED | +-------------------------------+--------------------+-------------------+------------------+-------------------------+-------------------+----------------------+ | Windows Server 2022 | SKIPPED | SKIPPED | SKIPPED | PASS | PASS | PASS | +-------------------------------+--------------------+-------------------+------------------+-------------------------+-------------------+----------------------+ CentOS Stream 9 Kernel: 5.15 Compiler: gcc gcc (GCC) 11.5.0 20240719 (Red Hat 11.5.0-7) Fedora Linux 40 Kernel: 5.15 Compiler: gcc gcc (GCC) 14.2.1 20240912 (Red Hat 14.2.1-3) Debian GNU/Linux 12 Kernel: 5.15 Compiler: gcc gcc (Debian 12.2.0-14+deb12u1) 12.2.0 Fedora Linux 41 Kernel: 5.15 Compiler: clang gcc (GCC) 14.3.1 20250523 (Red Hat 14.3.1-1) openSUSE Leap 15.6 Kernel: 5.15 Compiler: gcc gcc (SUSE Linux) 7.5.0 Red Hat Enterprise Linux 8.10 Kernel: 5.15 Compiler: gcc gcc (GCC) 8.5.0 20210514 (Red Hat 8.5.0-22) Red Hat Enterprise Linux 9.5 Kernel: 5.15 Compiler: gcc gcc (GCC) 11.5.0 20240719 (Red Hat 11.5.0-2) Ubuntu 20.04 Kernel: 5.15 Compiler: gcc gcc (Ubuntu 9.4.0-1ubuntu1~20.04.2) 9.4.0 Ubuntu 22.04 Kernel: 5.15 Compiler: gcc gcc (Ubuntu 11.4.0-1ubuntu1~22.04) 11.4.0 Ubuntu 24.04 Kernel: 5.15 Compiler: gcc gcc (Ubuntu 13.3.0-6ubuntu2~24.04) 13.3.0 Alpine Linux 3.22.0 Kernel: 5.15 Compiler: gcc gcc (Alpine 14.2.0) 14.2.0 FreeBSD 14.2 Kernel: 14.2-RELEASE Compiler: clang 18.1.6 CentOS Stream 10 Kernel: 5.15 Compiler: gcc gcc (GCC) 14.2.1 20250110 (Red Hat 14.2.1-8) Windows Server 2022 Kernel: 10.0.20348.2031 Compiler: clang 15.0.7, gcc 14.1.0 (MinGW), and MSVC VS 19.39.33521 To view detailed results, visit: https://lab.dpdk.org/results/dashboard/patchsets/33699/ UNH-IOL DPDK Community Lab To manage your email subscriptions, visit: https://lab.dpdk.org/results/dashboard/preferences/subscriptions/