From mboxrd@z Thu Jan 1 00:00:00 1970 Return-Path: Received: from mails.dpdk.org (mails.dpdk.org [217.70.189.124]) by inbox.dpdk.org (Postfix) with ESMTP id 68DCB46BD7 for ; Mon, 21 Jul 2025 13:33:13 +0200 (CEST) Received: from mails.dpdk.org (localhost [127.0.0.1]) by mails.dpdk.org (Postfix) with ESMTP id 646A04014F; Mon, 21 Jul 2025 13:33:13 +0200 (CEST) Received: from mail-ua1-f97.google.com (mail-ua1-f97.google.com [209.85.222.97]) by mails.dpdk.org (Postfix) with ESMTP id 13E234014F for ; Mon, 21 Jul 2025 13:33:13 +0200 (CEST) Received: by mail-ua1-f97.google.com with SMTP id a1e0cc1a2514c-87edd8f4e9fso2223774241.0 for ; Mon, 21 Jul 2025 04:33:13 -0700 (PDT) DKIM-Signature: v=1; a=rsa-sha256; c=relaxed/relaxed; d=iol.unh.edu; s=unh-iol; t=1753097592; x=1753702392; darn=dpdk.org; h=references:in-reply-to:cc:to:from:subject:message-id:date:from:to :cc:subject:date:message-id:reply-to; bh=xlyuIUppZi50D+MFDB62MNzPYDWWxtkVSpLIlJXE1Lw=; b=Truq9bu0aJkwQzSqg5echMDvXQZVwk+72TO336xuPo1OPgn7CZ1lYUJHyO6FxrqCul zGZs6e6N6CQP+zCbcCq5PLainxDB93b/egxM65qLm4sRztJUgui4V3s6++lENzMfHllR U9OfweMBEgC0RDJOmNmcXa2Q4slGK9pC393YE= X-Google-DKIM-Signature: v=1; a=rsa-sha256; c=relaxed/relaxed; d=1e100.net; s=20230601; t=1753097592; x=1753702392; h=references:in-reply-to:cc:to:from:subject:message-id:date :x-gm-message-state:from:to:cc:subject:date:message-id:reply-to; bh=xlyuIUppZi50D+MFDB62MNzPYDWWxtkVSpLIlJXE1Lw=; b=cVZln3OXB4E6lEJI05r4DZjUJRHL+8kD0YcIv2P+fGe/eSAv4ZrsajfuhGm/v1cQuJ Y+fp2XrIdFrLXcMdwtef6f/tNV01ovb8Zd0AjIO/1jP1UjuzTZ+Zrh3uRhO3lwM8cs3G +kZy+4rGXdDABmzAVxOlMWTit0HlhJF02XnbQvGir+mHafKm8lyj0I7z83FJV1StKKIO e02bBQ3Q898mTErOptWxY98mhRNuuUwmrU1fRY25KhFZzNfJrdhtKc6S8kxKs63KWRgA BAttCFyJC8Urf+r3VZXi8Jr8YzAfGiBxdLa2bYcz/mdM7+X9mc5+iTVApdQwUOK6Sg3x S58g== X-Gm-Message-State: AOJu0YxRAOkh5DznpRNiyvGUQtOfQQbzxyU60tZyXsgnuyaHta+CBwWE 7BeaEDBGmlgl4QKglfoynvDnyZPvgoazYzV7P9dTkjhkCbgAq0Z5BNAttRH8Au2zq22I0LTPi8R mjgEYduSCEkupS8CHLsP7cvaIpTJNH0+4NsucCh+Ous472K8b7h+4v6CuXeWq X-Gm-Gg: ASbGncu1Wie7DBN4ZRFXLKP4BJ1MXixFuBFnD9CAGJhiJzzyYAy4d/z4qiUkc0m+CLB xAV5XPdA54elhwMMvV1IkZ3uvxFVqRzyKNxAE6rYWmwaoWT9NPQDTU4+uAntr1/OUL+LchrwbL1 la1Fz9ni8WjtVnU4Iva15s6/gvEklrDnS8UvYEfiNMVI9OxjOCB6/4uegH48ql6H884UXTyBhEZ kurEpXEAsLnP1daUgWj3aAY+XvgY9+3zTQJdGnU9FBH/iTcLfJxR3c2nzhGkCUkJAOkyyO8GODg siQ9lpIKPdfAQIfN1YArIKOdKJ7jHGFCEgRCSIIxJOkIaOsjaA== X-Google-Smtp-Source: AGHT+IH72M1y+jdaxYvgKrHO6KU0O7A2vi8bol9JqjPdiooiFeFkzXljSfIDnV9DANvtLwJpiYtBntsjHXh8 X-Received: by 2002:a05:6122:1e05:b0:531:312c:a710 with SMTP id 71dfb90a1353d-5374f59ee83mr6921569e0c.6.1753097592454; Mon, 21 Jul 2025 04:33:12 -0700 (PDT) Received: from postal.iol.unh.edu (postal.iol.unh.edu. [2606:4100:3880:1234::84]) by smtp-relay.gmail.com with ESMTPS id a1e0cc1a2514c-88b0aba79desm218753241.9.2025.07.21.04.33.12 (version=TLS1_2 cipher=ECDHE-ECDSA-AES128-GCM-SHA256 bits=128/128); Mon, 21 Jul 2025 04:33:12 -0700 (PDT) X-Relaying-Domain: iol.unh.edu Date: Mon, 21 Jul 2025 04:33:12 -0700 (PDT) Message-ID: <687e2578.b00a0220.9c2d7.a981SMTPIN_ADDED_MISSING@mx.google.com> Received: from [172.21.0.4] (unknown [172.18.0.240]) by postal.iol.unh.edu (Postfix) with ESMTP id 21D676051830; Mon, 21 Jul 2025 07:33:12 -0400 (EDT) Subject: |SUCCESS| pw155371 [PATCH] [v3] mailmap: add new email to DPDK From: dpdklab@iol.unh.edu To: Test Report Cc: dpdk-test-reports@iol.unh.edu In-Reply-To: <20250719151750.48539-1-pravin.pathak.dev@gmail.com> References: <20250719151750.48539-1-pravin.pathak.dev@gmail.com> Content-Type: text/plain X-BeenThere: test-report@dpdk.org X-Mailman-Version: 2.1.29 Precedence: list List-Id: automatic DPDK test reports List-Unsubscribe: , List-Archive: List-Post: List-Help: List-Subscribe: , Errors-To: test-report-bounces@dpdk.org Test-Label: iol-abi-testing Test-Status: SUCCESS http://dpdk.org/patch/155371 _Testing PASS_ Submitter: Pravin Pathak Date: Saturday, July 19 2025 15:17:50 DPDK git baseline: Repo:dpdk Branch: master CommitID:39f537efd8bc8f86c8a4e667328ab3b4c6cf4b2d 155371 --> testing pass Upstream job id: Generic-DPDK-Compile-ABI#135062 Test environment and result as below: +-------------------------------+----------+ | Environment | abi_test | +===============================+==========+ | Debian GNU/Linux 12 | PASS | +-------------------------------+----------+ | CentOS Stream 10 | PASS | +-------------------------------+----------+ | Fedora Linux 40 | PASS | +-------------------------------+----------+ | Fedora Linux 41 | PASS | +-------------------------------+----------+ | Red Hat Enterprise Linux 8.10 | PASS | +-------------------------------+----------+ | openSUSE Leap 15.6 | PASS | +-------------------------------+----------+ | Red Hat Enterprise Linux 9.5 | PASS | +-------------------------------+----------+ | Ubuntu 22.04 | PASS | +-------------------------------+----------+ | Ubuntu 24.04 | PASS | +-------------------------------+----------+ | CentOS Stream 9 | PASS | +-------------------------------+----------+ Debian GNU/Linux 12 Kernel: 5.15 Compiler: gcc gcc (Debian 12.2.0-14+deb12u1) 12.2.0 CentOS Stream 10 Kernel: 5.15 Compiler: gcc gcc (GCC) 14.2.1 20250110 (Red Hat 14.2.1-8) Fedora Linux 40 Kernel: 5.15 Compiler: clang gcc (GCC) 14.2.1 20240912 (Red Hat 14.2.1-3) Fedora Linux 41 Kernel: 5.15 Compiler: gcc gcc (GCC) 14.3.1 20250523 (Red Hat 14.3.1-1) Red Hat Enterprise Linux 8.10 Kernel: 5.15 Compiler: gcc gcc (GCC) 8.5.0 20210514 (Red Hat 8.5.0-22) openSUSE Leap 15.6 Kernel: 5.15 Compiler: gcc gcc (SUSE Linux) 7.5.0 Red Hat Enterprise Linux 9.5 Kernel: 5.15 Compiler: gcc gcc (GCC) 11.5.0 20240719 (Red Hat 11.5.0-2) Ubuntu 22.04 Kernel: 5.15 Compiler: gcc gcc (Ubuntu 11.4.0-1ubuntu1~22.04) 11.4.0 Ubuntu 24.04 Kernel: 5.15 Compiler: gcc gcc (Ubuntu 13.3.0-6ubuntu2~24.04) 13.3.0 CentOS Stream 9 Kernel: 5.15 Compiler: gcc gcc (GCC) 11.5.0 20240719 (Red Hat 11.5.0-7) To view detailed results, visit: https://lab.dpdk.org/results/dashboard/patchsets/33700/ UNH-IOL DPDK Community Lab To manage your email subscriptions, visit: https://lab.dpdk.org/results/dashboard/preferences/subscriptions/