From mboxrd@z Thu Jan 1 00:00:00 1970 Return-Path: Received: from mails.dpdk.org (mails.dpdk.org [217.70.189.124]) by inbox.dpdk.org (Postfix) with ESMTP id 7879846BD7 for ; Mon, 21 Jul 2025 13:33:27 +0200 (CEST) Received: from mails.dpdk.org (localhost [127.0.0.1]) by mails.dpdk.org (Postfix) with ESMTP id 7497A4014F; Mon, 21 Jul 2025 13:33:27 +0200 (CEST) Received: from mail-pl1-f227.google.com (mail-pl1-f227.google.com [209.85.214.227]) by mails.dpdk.org (Postfix) with ESMTP id 5DEDF4014F for ; Mon, 21 Jul 2025 13:33:26 +0200 (CEST) Received: by mail-pl1-f227.google.com with SMTP id d9443c01a7336-234d3261631so32809705ad.1 for ; Mon, 21 Jul 2025 04:33:26 -0700 (PDT) DKIM-Signature: v=1; a=rsa-sha256; c=relaxed/relaxed; d=iol.unh.edu; s=unh-iol; t=1753097605; x=1753702405; darn=dpdk.org; h=references:in-reply-to:cc:to:from:subject:message-id:date:from:to :cc:subject:date:message-id:reply-to; bh=tDAqMTVwzy1WOftIL7R1OX17kLKeVGZlsOoNfU2w6Sw=; b=FJCMgCmbttcwtfJHIJxYV00bS/A/wrw83HpFa5Gq0qv2z46lTznqEkEmgmbjk9Tozy yrFud4V8Y3nsMScSn5ONI6aEqHiy00oOO1oVM40sIPjYUkY/bkUeIHpfO5mfwV0o5KIh AlE3CCdT1GNUvJ93IQabgl2j5VHXc5Q+4DvP0= X-Google-DKIM-Signature: v=1; a=rsa-sha256; c=relaxed/relaxed; d=1e100.net; s=20230601; t=1753097605; x=1753702405; h=references:in-reply-to:cc:to:from:subject:message-id:date :x-gm-message-state:from:to:cc:subject:date:message-id:reply-to; bh=tDAqMTVwzy1WOftIL7R1OX17kLKeVGZlsOoNfU2w6Sw=; b=FmIR/FqfeUbou98itpb4Oam48NT4YJMk1cKQuCexw1i3Cu2GwEpNvAW/k9j+7UH9sR B6qfNWvV0Ngj/7783X9SACJTD7LQ/Cq9Cu5D2J6mXatm5R5RYTzoiGf6amgjGi9A11ny 4LYBbW7mvJmIi4zfh2/+/rOrP2u/+fSAuWaihZxRrIOm690zgjuTkWp4B8Bu3csMHF4M 56f92KgDATONDdUXhJe+Gg71yGQAF7ZlONxG1uVpr0fnxR+ahOzzwH3uLWU7r7QfZ0hg kZjGkTNc00wqSePz8O9JVE0aXFtEhApylUhUmVutSK9Nc6o3qbdOimJwVFmi0kGihMjR wucA== X-Gm-Message-State: AOJu0Yxygt6yAW3n+W6cQToznkoFQW0o5l8cKg7drEngpPdJoUV1XmYy h2pBOMIxjEL7oOrvEb3+0AtIdNfWtnIJ6LCzLQY5VMplKa5DwdjcPy2oNutY0YYLqx3kJhEyDZN ryhCv/dEJ2adN9X7yA9flE/nHRAzxrruqpYeyJCEm09awLBVBrVYDn38Bp44N X-Gm-Gg: ASbGncurjVthCAdR6yHgtnFVvUpNr3aV0jN4I2p+jBnctS9Uyt28TmpZdatsn5r8UJe +wzLBW/neqk9jhmasGZiAR38rDBOoh4RK7SVGfK/GcnkOxY/xB0Uc5D5o/fSidmCKVuz6Guyq7r dSAssQkcoxghChYk5sD4a8FBKqJgLMl7pc3OxPK4QWSEyfY5E5JgdmUZipm4cqE+tLyCGzT07BW 8A0+PQKRnvZcTNEvLtUReupg6HR2mQLznuBJvEiLjgNXkD7RVpT8uRjIXjBgDcv5D17QD/YfzoL 7tzf/vf6jw4yfyI2LUjr2pw5ys9E3rv8sWY85wk3ZvQP5BBAgg== X-Google-Smtp-Source: AGHT+IHUnr2MEr2b1KdolAAiTk8gOzxtyzBsrQ58L7kdVRKXvxUCv7AHTmO+7b4sFdinSEBF5cDIuI2iWgSO X-Received: by 2002:a17:902:ea0d:b0:23d:ed91:6142 with SMTP id d9443c01a7336-23e3b84e93cmr152609305ad.42.1753097605520; Mon, 21 Jul 2025 04:33:25 -0700 (PDT) Received: from postal.iol.unh.edu (postal.iol.unh.edu. [2606:4100:3880:1234::84]) by smtp-relay.gmail.com with ESMTPS id d9443c01a7336-23e3b61e24asm4336495ad.31.2025.07.21.04.33.25 (version=TLS1_2 cipher=ECDHE-ECDSA-AES128-GCM-SHA256 bits=128/128); Mon, 21 Jul 2025 04:33:25 -0700 (PDT) X-Relaying-Domain: iol.unh.edu Date: Mon, 21 Jul 2025 04:33:25 -0700 (PDT) Message-ID: <687e2585.170a0220.161cd9.65c8SMTPIN_ADDED_MISSING@mx.google.com> Received: from [172.21.0.3] (unknown [172.18.0.240]) by postal.iol.unh.edu (Postfix) with ESMTP id CAA786051830; Mon, 21 Jul 2025 07:33:24 -0400 (EDT) Subject: |SUCCESS| pw155371 [PATCH] [v3] mailmap: add new email to DPDK From: dpdklab@iol.unh.edu To: Test Report Cc: dpdk-test-reports@iol.unh.edu In-Reply-To: <20250719151750.48539-1-pravin.pathak.dev@gmail.com> References: <20250719151750.48539-1-pravin.pathak.dev@gmail.com> Content-Type: text/plain X-BeenThere: test-report@dpdk.org X-Mailman-Version: 2.1.29 Precedence: list List-Id: automatic DPDK test reports List-Unsubscribe: , List-Archive: List-Post: List-Help: List-Subscribe: , Errors-To: test-report-bounces@dpdk.org Test-Label: iol-abi-testing Test-Status: SUCCESS http://dpdk.org/patch/155371 _Testing PASS_ Submitter: Pravin Pathak Date: Saturday, July 19 2025 15:17:50 DPDK git baseline: Repo:dpdk Branch: master CommitID:39f537efd8bc8f86c8a4e667328ab3b4c6cf4b2d 155371 --> testing pass Upstream job id: Generic-DPDK-Compile-ABI#135059 Test environment and result as below: +-------------------------------+----------+ | Environment | abi_test | +===============================+==========+ | Debian GNU/Linux 12 | PASS | +-------------------------------+----------+ | CentOS Stream 10 | PASS | +-------------------------------+----------+ | Fedora Linux 40 | PASS | +-------------------------------+----------+ | Fedora Linux 41 | PASS | +-------------------------------+----------+ | Red Hat Enterprise Linux 8.10 | PASS | +-------------------------------+----------+ | openSUSE Leap 15.6 | PASS | +-------------------------------+----------+ | Red Hat Enterprise Linux 9.5 | PASS | +-------------------------------+----------+ | Ubuntu 22.04 | PASS | +-------------------------------+----------+ | Ubuntu 24.04 | PASS | +-------------------------------+----------+ | CentOS Stream 9 | PASS | +-------------------------------+----------+ Debian GNU/Linux 12 Kernel: 5.15 Compiler: gcc gcc (Debian 12.2.0-14+deb12u1) 12.2.0 CentOS Stream 10 Kernel: 5.15 Compiler: gcc gcc (GCC) 14.2.1 20250110 (Red Hat 14.2.1-8) Fedora Linux 40 Kernel: 5.15 Compiler: clang gcc (GCC) 14.2.1 20240912 (Red Hat 14.2.1-3) Fedora Linux 41 Kernel: 5.15 Compiler: gcc gcc (GCC) 14.3.1 20250523 (Red Hat 14.3.1-1) Red Hat Enterprise Linux 8.10 Kernel: 5.15 Compiler: gcc gcc (GCC) 8.5.0 20210514 (Red Hat 8.5.0-22) openSUSE Leap 15.6 Kernel: 5.15 Compiler: gcc gcc (SUSE Linux) 7.5.0 Red Hat Enterprise Linux 9.5 Kernel: 5.15 Compiler: gcc gcc (GCC) 11.5.0 20240719 (Red Hat 11.5.0-2) Ubuntu 22.04 Kernel: 5.15 Compiler: gcc gcc (Ubuntu 11.4.0-1ubuntu1~22.04) 11.4.0 Ubuntu 24.04 Kernel: 5.15 Compiler: gcc gcc (Ubuntu 13.3.0-6ubuntu2~24.04) 13.3.0 CentOS Stream 9 Kernel: 5.15 Compiler: gcc gcc (GCC) 11.5.0 20240719 (Red Hat 11.5.0-7) To view detailed results, visit: https://lab.dpdk.org/results/dashboard/patchsets/33700/ UNH-IOL DPDK Community Lab To manage your email subscriptions, visit: https://lab.dpdk.org/results/dashboard/preferences/subscriptions/